BEGIN:VCALENDAR
VERSION:2.0
PRODID:-//Denmark House - ECPv6.15.20//NONSGML v1.0//EN
CALSCALE:GREGORIAN
METHOD:PUBLISH
X-ORIGINAL-URL:https://denmarkhouse.com.au
X-WR-CALDESC:Events for Denmark House
REFRESH-INTERVAL;VALUE=DURATION:PT1H
X-Robots-Tag:noindex
X-PUBLISHED-TTL:PT1H
BEGIN:VTIMEZONE
TZID:Australia/Melbourne
BEGIN:STANDARD
TZOFFSETFROM:+1100
TZOFFSETTO:+1000
TZNAME:AEST
DTSTART:20240406T160000
END:STANDARD
BEGIN:DAYLIGHT
TZOFFSETFROM:+1000
TZOFFSETTO:+1100
TZNAME:AEDT
DTSTART:20241005T160000
END:DAYLIGHT
BEGIN:STANDARD
TZOFFSETFROM:+1100
TZOFFSETTO:+1000
TZNAME:AEST
DTSTART:20250405T160000
END:STANDARD
BEGIN:DAYLIGHT
TZOFFSETFROM:+1000
TZOFFSETTO:+1100
TZNAME:AEDT
DTSTART:20251004T160000
END:DAYLIGHT
BEGIN:STANDARD
TZOFFSETFROM:+1100
TZOFFSETTO:+1000
TZNAME:AEST
DTSTART:20260404T160000
END:STANDARD
BEGIN:DAYLIGHT
TZOFFSETFROM:+1000
TZOFFSETTO:+1100
TZNAME:AEDT
DTSTART:20261003T160000
END:DAYLIGHT
END:VTIMEZONE
BEGIN:VEVENT
DTSTART;VALUE=DATE:20250425
DTEND;VALUE=DATE:20250428
DTSTAMP:20260423T210811
CREATED:20241107T235816Z
LAST-MODIFIED:20250327T053758Z
UID:10000449-1745539200-1745798399@denmarkhouse.com.au
SUMMARY:Closed for ANZAC long weekend
DESCRIPTION:
URL:https://denmarkhouse.com.au/event/closed-for-public-holiday-13/
END:VEVENT
BEGIN:VEVENT
DTSTART;TZID=Australia/Melbourne:20250427T100000
DTEND;TZID=Australia/Melbourne:20250427T120000
DTSTAMP:20260423T210811
CREATED:20250217T002742Z
LAST-MODIFIED:20250217T020126Z
UID:10000488-1745748000-1745755200@denmarkhouse.com.au
SUMMARY:Danish School Down Under
DESCRIPTION:The Danish School Down Under and the Danish Club have gone together to offer free Danish lessons for kids of club members. \nYour child must be school age and wanting to improve their Danish language skills. It is imperative the child can be supported in their Danish language at home. \nOur enrolled children must therefore have a Danish speaking parent or career to support their learning to enable them to progress at Danish School Down Under. \nLessons hosted at Denmark House except for February: \n\nSunday 23.Feb 2025 Flagstaff Gardens\nSunday 30.Mar 2025\nSunday 27.Apr 2025\nSunday 25. May 2025\nSunday 29. Jun 2025\nSunday 3. Aug 2025\nSunday 31. Aug 2025\nSunday 14. Sep 2025\nSunday 26. Oct 2025 (AGM\, extended)\nSunday 30. Nov 2025\n\nFill in a DSDU enrolment for each child you enroll and email to DSDU
URL:https://denmarkhouse.com.au/event/danish-school-down-under-2/
LOCATION:Denmark House\, L3 428 Lt Bourke St\, Melbourne\, VIC\, 3000\, Australia
ATTACH;FMTTYPE=image/jpeg:https://denmarkhouse.com.au/wp-content/uploads/2025/02/DSDU-logo-round.jpg
ORGANIZER;CN="Danish Club":MAILTO:info@denmarkhouse.com.au
END:VEVENT
END:VCALENDAR