BEGIN:VCALENDAR
VERSION:2.0
PRODID:-//Denmark House - ECPv6.15.20//NONSGML v1.0//EN
CALSCALE:GREGORIAN
METHOD:PUBLISH
X-WR-CALNAME:Denmark House
X-ORIGINAL-URL:https://denmarkhouse.com.au
X-WR-CALDESC:Events for Denmark House
REFRESH-INTERVAL;VALUE=DURATION:PT1H
X-Robots-Tag:noindex
X-PUBLISHED-TTL:PT1H
BEGIN:VTIMEZONE
TZID:Australia/Melbourne
BEGIN:STANDARD
TZOFFSETFROM:+1100
TZOFFSETTO:+1000
TZNAME:AEST
DTSTART:20240406T160000
END:STANDARD
BEGIN:DAYLIGHT
TZOFFSETFROM:+1000
TZOFFSETTO:+1100
TZNAME:AEDT
DTSTART:20241005T160000
END:DAYLIGHT
BEGIN:STANDARD
TZOFFSETFROM:+1100
TZOFFSETTO:+1000
TZNAME:AEST
DTSTART:20250405T160000
END:STANDARD
BEGIN:DAYLIGHT
TZOFFSETFROM:+1000
TZOFFSETTO:+1100
TZNAME:AEDT
DTSTART:20251004T160000
END:DAYLIGHT
BEGIN:STANDARD
TZOFFSETFROM:+1100
TZOFFSETTO:+1000
TZNAME:AEST
DTSTART:20260404T160000
END:STANDARD
BEGIN:DAYLIGHT
TZOFFSETFROM:+1000
TZOFFSETTO:+1100
TZNAME:AEDT
DTSTART:20261003T160000
END:DAYLIGHT
END:VTIMEZONE
BEGIN:VEVENT
DTSTART;TZID=Australia/Melbourne:20250518T170000
DTEND;TZID=Australia/Melbourne:20250518T210000
DTSTAMP:20260423T193534
CREATED:20250204T040946Z
LAST-MODIFIED:20250516T050502Z
UID:10000485-1747587600-1747602000@denmarkhouse.com.au
SUMMARY:Eurovision Viewing Party - Now fully booked.
DESCRIPTION:Join us for all the fun of Eurovision and cheer on your favorite country. \nThe grand final will be shown on the big screen. \nDoors open at 5pm. Viewing will begin from 5:30pm \nDrinks and special bar food available for purchase at the bar. \nDress up welcome but not essential. All are welcome. \nBookings via Opentable.
URL:https://denmarkhouse.com.au/event/eurovision-viewing-party-2/
LOCATION:Denmark House\, L3 428 Lt Bourke St\, Melbourne\, VIC\, 3000\, Australia
ATTACH;FMTTYPE=image/jpeg:https://denmarkhouse.com.au/wp-content/uploads/2025/02/Eurovision-2025.jpg
ORGANIZER;CN="Denmark House":MAILTO:info@denmarkhouse.com.au
END:VEVENT
END:VCALENDAR