BEGIN:VCALENDAR
VERSION:2.0
PRODID:-//Denmark House - ECPv6.15.20//NONSGML v1.0//EN
CALSCALE:GREGORIAN
METHOD:PUBLISH
X-ORIGINAL-URL:https://denmarkhouse.com.au
X-WR-CALDESC:Events for Denmark House
REFRESH-INTERVAL;VALUE=DURATION:PT1H
X-Robots-Tag:noindex
X-PUBLISHED-TTL:PT1H
BEGIN:VTIMEZONE
TZID:Australia/Melbourne
BEGIN:STANDARD
TZOFFSETFROM:+1100
TZOFFSETTO:+1000
TZNAME:AEST
DTSTART:20250405T160000
END:STANDARD
BEGIN:DAYLIGHT
TZOFFSETFROM:+1000
TZOFFSETTO:+1100
TZNAME:AEDT
DTSTART:20251004T160000
END:DAYLIGHT
BEGIN:STANDARD
TZOFFSETFROM:+1100
TZOFFSETTO:+1000
TZNAME:AEST
DTSTART:20260404T160000
END:STANDARD
BEGIN:DAYLIGHT
TZOFFSETFROM:+1000
TZOFFSETTO:+1100
TZNAME:AEDT
DTSTART:20261003T160000
END:DAYLIGHT
BEGIN:STANDARD
TZOFFSETFROM:+1100
TZOFFSETTO:+1000
TZNAME:AEST
DTSTART:20270403T160000
END:STANDARD
BEGIN:DAYLIGHT
TZOFFSETFROM:+1000
TZOFFSETTO:+1100
TZNAME:AEDT
DTSTART:20271002T160000
END:DAYLIGHT
END:VTIMEZONE
BEGIN:VEVENT
DTSTART;TZID=Australia/Melbourne:20261015T120000
DTEND;TZID=Australia/Melbourne:20261015T143000
DTSTAMP:20260423T112923
CREATED:20260415T093102Z
LAST-MODIFIED:20260415T093102Z
UID:10000975-1792065600-1792074600@denmarkhouse.com.au
SUMMARY:Members only event – Præsidents Taffel\, October 2026
DESCRIPTION:Join us for our monthly President’s Lunch at Denmark House — a relaxed and sociable afternoon that brings members together over a classic communal lunch in the spirit of Danish tradition. \nA loyal core of long-standing members attends each month\, making the Taffel not only a wonderful way to enjoy good company\, but also a chance to hear the stories\, memories\, and quiet club lore that rarely make it into writing. For newer members especially\, it is a special opportunity to connect with the people and personalities who have helped shape the life of the Club over the years. \nYour booking includes four pieces of smørrebrød\, one house drink\, one akvavit\, dessert\, and coffee. \nBookings are essential\, and pseats are limited.
URL:https://denmarkhouse.com.au/event/members-only-event-praesidents-taffel-october-2026/
LOCATION:Denmark House\, L3 428 Lt Bourke St\, Melbourne\, VIC\, 3000\, Australia
ATTACH;FMTTYPE=image/png:https://denmarkhouse.com.au/wp-content/uploads/2026/04/presidents_lunch_caricature_40pct-e1776245137510.png
ORGANIZER;CN="Danish Club":MAILTO:info@denmarkhouse.com.au
END:VEVENT
END:VCALENDAR