BEGIN:VCALENDAR
VERSION:2.0
PRODID:-//Denmark House - ECPv6.15.20//NONSGML v1.0//EN
CALSCALE:GREGORIAN
METHOD:PUBLISH
X-ORIGINAL-URL:https://denmarkhouse.com.au
X-WR-CALDESC:Events for Denmark House
REFRESH-INTERVAL;VALUE=DURATION:PT1H
X-Robots-Tag:noindex
X-PUBLISHED-TTL:PT1H
BEGIN:VTIMEZONE
TZID:Australia/Melbourne
BEGIN:STANDARD
TZOFFSETFROM:+1100
TZOFFSETTO:+1000
TZNAME:AEST
DTSTART:20250405T160000
END:STANDARD
BEGIN:DAYLIGHT
TZOFFSETFROM:+1000
TZOFFSETTO:+1100
TZNAME:AEDT
DTSTART:20251004T160000
END:DAYLIGHT
BEGIN:STANDARD
TZOFFSETFROM:+1100
TZOFFSETTO:+1000
TZNAME:AEST
DTSTART:20260404T160000
END:STANDARD
BEGIN:DAYLIGHT
TZOFFSETFROM:+1000
TZOFFSETTO:+1100
TZNAME:AEDT
DTSTART:20261003T160000
END:DAYLIGHT
BEGIN:STANDARD
TZOFFSETFROM:+1100
TZOFFSETTO:+1000
TZNAME:AEST
DTSTART:20270403T160000
END:STANDARD
BEGIN:DAYLIGHT
TZOFFSETFROM:+1000
TZOFFSETTO:+1100
TZNAME:AEDT
DTSTART:20271002T160000
END:DAYLIGHT
END:VTIMEZONE
BEGIN:VEVENT
DTSTART;TZID=Australia/Melbourne:20261007T100000
DTEND;TZID=Australia/Melbourne:20261007T120000
DTSTAMP:20260421T040647
CREATED:20260330T225809Z
LAST-MODIFIED:20260415T005649Z
UID:10000726-1791367200-1791374400@denmarkhouse.com.au
SUMMARY:Dansk Forældregruppe
DESCRIPTION:Free coffee\, tea and wienerbrød\nWould you like to catch up with other Danish parents or parents with a connection to Denmark?\nThen come and share a morning together at The danish club on Wednesdays. For parents with babies and toddlers\, to parents whose children are at school but would like to connect with other Danes. \nWhere:\nThe Denmark house Restaurant & Bar\, Level 3\, 428 Little Bourke St\, Melbourne VIC 3000 \nWhen:\nWeekly\, starting from Wednesday 22 April\, 10-12. \nWhat to bring:\nGood cheers\, open mind\, and if you have a baby – a mat \nFor more information\, please contact Julie.maegaard@denmarkhouse.com.au
URL:https://denmarkhouse.com.au/event/dansk-foraeldregruppe/2026-10-07/
CATEGORIES:Club Event,Free Event,Public
ATTACH;FMTTYPE=image/png:https://denmarkhouse.com.au/wp-content/uploads/2026/03/Parents-group-.png
END:VEVENT
BEGIN:VEVENT
DTSTART;TZID=Australia/Melbourne:20261014T100000
DTEND;TZID=Australia/Melbourne:20261014T120000
DTSTAMP:20260421T040647
CREATED:20260330T225809Z
LAST-MODIFIED:20260415T005649Z
UID:10000727-1791972000-1791979200@denmarkhouse.com.au
SUMMARY:Dansk Forældregruppe
DESCRIPTION:Free coffee\, tea and wienerbrød\nWould you like to catch up with other Danish parents or parents with a connection to Denmark?\nThen come and share a morning together at The danish club on Wednesdays. For parents with babies and toddlers\, to parents whose children are at school but would like to connect with other Danes. \nWhere:\nThe Denmark house Restaurant & Bar\, Level 3\, 428 Little Bourke St\, Melbourne VIC 3000 \nWhen:\nWeekly\, starting from Wednesday 22 April\, 10-12. \nWhat to bring:\nGood cheers\, open mind\, and if you have a baby – a mat \nFor more information\, please contact Julie.maegaard@denmarkhouse.com.au
URL:https://denmarkhouse.com.au/event/dansk-foraeldregruppe/2026-10-14/
CATEGORIES:Club Event,Free Event,Public
ATTACH;FMTTYPE=image/png:https://denmarkhouse.com.au/wp-content/uploads/2026/03/Parents-group-.png
END:VEVENT
BEGIN:VEVENT
DTSTART;TZID=Australia/Melbourne:20261021T100000
DTEND;TZID=Australia/Melbourne:20261021T120000
DTSTAMP:20260421T040647
CREATED:20260330T225809Z
LAST-MODIFIED:20260415T005649Z
UID:10000728-1792576800-1792584000@denmarkhouse.com.au
SUMMARY:Dansk Forældregruppe
DESCRIPTION:Free coffee\, tea and wienerbrød\nWould you like to catch up with other Danish parents or parents with a connection to Denmark?\nThen come and share a morning together at The danish club on Wednesdays. For parents with babies and toddlers\, to parents whose children are at school but would like to connect with other Danes. \nWhere:\nThe Denmark house Restaurant & Bar\, Level 3\, 428 Little Bourke St\, Melbourne VIC 3000 \nWhen:\nWeekly\, starting from Wednesday 22 April\, 10-12. \nWhat to bring:\nGood cheers\, open mind\, and if you have a baby – a mat \nFor more information\, please contact Julie.maegaard@denmarkhouse.com.au
URL:https://denmarkhouse.com.au/event/dansk-foraeldregruppe/2026-10-21/
CATEGORIES:Club Event,Free Event,Public
ATTACH;FMTTYPE=image/png:https://denmarkhouse.com.au/wp-content/uploads/2026/03/Parents-group-.png
END:VEVENT
BEGIN:VEVENT
DTSTART;TZID=Australia/Melbourne:20261028T100000
DTEND;TZID=Australia/Melbourne:20261028T120000
DTSTAMP:20260421T040647
CREATED:20260330T225809Z
LAST-MODIFIED:20260415T005649Z
UID:10000729-1793181600-1793188800@denmarkhouse.com.au
SUMMARY:Dansk Forældregruppe
DESCRIPTION:Free coffee\, tea and wienerbrød\nWould you like to catch up with other Danish parents or parents with a connection to Denmark?\nThen come and share a morning together at The danish club on Wednesdays. For parents with babies and toddlers\, to parents whose children are at school but would like to connect with other Danes. \nWhere:\nThe Denmark house Restaurant & Bar\, Level 3\, 428 Little Bourke St\, Melbourne VIC 3000 \nWhen:\nWeekly\, starting from Wednesday 22 April\, 10-12. \nWhat to bring:\nGood cheers\, open mind\, and if you have a baby – a mat \nFor more information\, please contact Julie.maegaard@denmarkhouse.com.au
URL:https://denmarkhouse.com.au/event/dansk-foraeldregruppe/2026-10-28/
CATEGORIES:Club Event,Free Event,Public
ATTACH;FMTTYPE=image/png:https://denmarkhouse.com.au/wp-content/uploads/2026/03/Parents-group-.png
END:VEVENT
BEGIN:VEVENT
DTSTART;TZID=Australia/Melbourne:20261029T180000
DTEND;TZID=Australia/Melbourne:20261029T210000
DTSTAMP:20260421T040647
CREATED:20260415T022827Z
LAST-MODIFIED:20260415T022827Z
UID:10000967-1793296800-1793307600@denmarkhouse.com.au
SUMMARY:Members Dinner -  October  2026
DESCRIPTION:Join fellow members of the Danish Club for our monthly Members Dinner\, held on the last Thursday of the month – an evening centred around good food\, great company\, and genuine hygge. \nDesigned as a relaxed and welcoming gathering\, this dinner is a wonderful opportunity to reconnect with familiar faces\, meet new members\, and enjoy the atmosphere of the Club over a chef’s choice menu. \nYour ticket includes one drink on arrival\, one akvavit\, a chef’s choice main course\, dessert\, and coffee. \nBookings are essential\, and number of seats are limited.
URL:https://denmarkhouse.com.au/event/members-dinner-october-2026/
LOCATION:Denmark House\, L3 428 Lt Bourke St\, Melbourne\, VIC\, 3000\, Australia
CATEGORIES:Club Event,Dinner
ATTACH;FMTTYPE=image/png:https://denmarkhouse.com.au/wp-content/uploads/2026/03/Members-dinner.png
ORGANIZER;CN="Danish Club":MAILTO:info@denmarkhouse.com.au
END:VEVENT
END:VCALENDAR