BEGIN:VCALENDAR
VERSION:2.0
PRODID:-//Denmark House - ECPv6.15.20//NONSGML v1.0//EN
CALSCALE:GREGORIAN
METHOD:PUBLISH
X-ORIGINAL-URL:https://denmarkhouse.com.au
X-WR-CALDESC:Events for Denmark House
REFRESH-INTERVAL;VALUE=DURATION:PT1H
X-Robots-Tag:noindex
X-PUBLISHED-TTL:PT1H
BEGIN:VTIMEZONE
TZID:Australia/Melbourne
BEGIN:STANDARD
TZOFFSETFROM:+1100
TZOFFSETTO:+1000
TZNAME:AEST
DTSTART:20220402T160000
END:STANDARD
BEGIN:DAYLIGHT
TZOFFSETFROM:+1000
TZOFFSETTO:+1100
TZNAME:AEDT
DTSTART:20221001T160000
END:DAYLIGHT
BEGIN:STANDARD
TZOFFSETFROM:+1100
TZOFFSETTO:+1000
TZNAME:AEST
DTSTART:20230401T160000
END:STANDARD
BEGIN:DAYLIGHT
TZOFFSETFROM:+1000
TZOFFSETTO:+1100
TZNAME:AEDT
DTSTART:20230930T160000
END:DAYLIGHT
BEGIN:STANDARD
TZOFFSETFROM:+1100
TZOFFSETTO:+1000
TZNAME:AEST
DTSTART:20240406T160000
END:STANDARD
BEGIN:DAYLIGHT
TZOFFSETFROM:+1000
TZOFFSETTO:+1100
TZNAME:AEDT
DTSTART:20241005T160000
END:DAYLIGHT
BEGIN:STANDARD
TZOFFSETFROM:+1100
TZOFFSETTO:+1000
TZNAME:AEST
DTSTART:20250405T160000
END:STANDARD
BEGIN:DAYLIGHT
TZOFFSETFROM:+1000
TZOFFSETTO:+1100
TZNAME:AEDT
DTSTART:20251004T160000
END:DAYLIGHT
END:VTIMEZONE
BEGIN:VEVENT
DTSTART;TZID=Australia/Melbourne:20240921T180000
DTEND;TZID=Australia/Melbourne:20240921T220000
DTSTAMP:20260421T210605
CREATED:20240717T014443Z
LAST-MODIFIED:20240725T015148Z
UID:10000416-1726941600-1726956000@denmarkhouse.com.au
SUMMARY:Members' Gala Ball
DESCRIPTION:The Danish Club Members’ Gala is back! Get dressed up and ready to dance at our 2024 Members’ Gala. Doors open 6pm\, and event concludes 10pm. Includes all beverages\, canapés\, and live music!
URL:https://denmarkhouse.com.au/event/members-gala-ball/
CATEGORIES:Club Event,Cocktail Party
END:VEVENT
BEGIN:VEVENT
DTSTART;TZID=Australia/Melbourne:20240918T120000
DTEND;TZID=Australia/Melbourne:20240918T150000
DTSTAMP:20260421T210605
CREATED:20231012T015729Z
LAST-MODIFIED:20240823T013811Z
UID:10000370-1726660800-1726671600@denmarkhouse.com.au
SUMMARY:Præsidenten’s Taffel
DESCRIPTION:Join us at the President’s Lunch at Denmark House where current president Alexander Nielsen or other committee members attend. Get to know other members of the Danish Club or reconnect with members you know. Bookings are essential – phone 9600 4477.
URL:https://denmarkhouse.com.au/event/presidents-lunch-36/
CATEGORIES:Club Event,Lunch
END:VEVENT
BEGIN:VEVENT
DTSTART;TZID=Australia/Melbourne:20240828T180000
DTEND;TZID=Australia/Melbourne:20240828T210000
DTSTAMP:20260421T210605
CREATED:20231012T031914Z
LAST-MODIFIED:20240626T063026Z
UID:10000388-1724868000-1724878800@denmarkhouse.com.au
SUMMARY:Danish Members' Annual General Meeting and Dinner
DESCRIPTION:Join us for our annual general meeting for Danish members. This will consist of a meeting followed by a free dinner.
URL:https://denmarkhouse.com.au/event/members-dinner-33/
CATEGORIES:Club Event,Dinner
END:VEVENT
BEGIN:VEVENT
DTSTART;TZID=Australia/Melbourne:20240821T120000
DTEND;TZID=Australia/Melbourne:20240821T150000
DTSTAMP:20260421T210605
CREATED:20231012T015216Z
LAST-MODIFIED:20231012T021428Z
UID:10000369-1724241600-1724252400@denmarkhouse.com.au
SUMMARY:President's Lunch
DESCRIPTION:Join us at the President’s Lunch at Denmark House where current president Alexander Nielsen or other committee members attend. Get to know other members of the Danish Club or reconnect with members you know. Bookings are essential – phone 9600 4477.
URL:https://denmarkhouse.com.au/event/presidents-lunch-35/
CATEGORIES:Club Event,Lunch
END:VEVENT
BEGIN:VEVENT
DTSTART;TZID=Australia/Melbourne:20240811T100000
DTEND;TZID=Australia/Melbourne:20240811T130000
DTSTAMP:20260421T210605
CREATED:20240627T012327Z
LAST-MODIFIED:20240716T021938Z
UID:10000412-1723370400-1723381200@denmarkhouse.com.au
SUMMARY:SunDaisies - Lego
DESCRIPTION:Join the SunDaisies craft day for a different activity each month. These are suitable for adults and children. This month we will be building Lego with Lego Builder\, Jason Cichon. Jason will host a series of challenges where people are given prompts to build out of Lego. Everyone will be split up into small teams who will collaborate together to bring the prompt to life. Prizes will be awarded for the best builds.
URL:https://denmarkhouse.com.au/event/sundaisies-lego/
CATEGORIES:Club Event,Free Event,Public
END:VEVENT
BEGIN:VEVENT
DTSTART;TZID=Australia/Melbourne:20240731T180000
DTEND;TZID=Australia/Melbourne:20240731T210000
DTSTAMP:20260421T210605
CREATED:20231012T031701Z
LAST-MODIFIED:20240620T014117Z
UID:10000387-1722448800-1722459600@denmarkhouse.com.au
SUMMARY:Christmas in July Members' Dinner
DESCRIPTION:Our annual Christmas in July members evening will feature a roast dinner followed by risalamande. Join other members of the Danish Club for a communal meal at Denmark House – bookings are essential ph 9600 4477 or the link below.
URL:https://denmarkhouse.com.au/event/members-dinner-32/
CATEGORIES:Club Event,Dinner
END:VEVENT
BEGIN:VEVENT
DTSTART;TZID=Australia/Melbourne:20240720T100000
DTEND;TZID=Australia/Melbourne:20240720T160000
DTSTAMP:20260421T210605
CREATED:20240508T023834Z
LAST-MODIFIED:20240617T090319Z
UID:10000404-1721469600-1721491200@denmarkhouse.com.au
SUMMARY:Winter Christmas Bazaar
DESCRIPTION:Browse through a variety of vendors selling unique gifts\, holiday decorations\, and delicious treats. Enjoy traditional Danish cuisine\, gløgg\, and live music as we get into the holiday spirit. Bring the whole family and make special memories at our winter bazaar. \nDon’t miss out on this magical event – mark your calendars and see you there!
URL:https://denmarkhouse.com.au/event/winter-christmas-bazaar/
CATEGORIES:Club Event,Cultural Event,Free Event,Public
END:VEVENT
BEGIN:VEVENT
DTSTART;TZID=Australia/Melbourne:20240717T120000
DTEND;TZID=Australia/Melbourne:20240717T150000
DTSTAMP:20260421T210605
CREATED:20231012T015040Z
LAST-MODIFIED:20231012T023806Z
UID:10000368-1721217600-1721228400@denmarkhouse.com.au
SUMMARY:President's Lunch
DESCRIPTION:Join us at the President’s Lunch at Denmark House where current president Alexander Nielsen or other committee members attend. Get to know other members of the Danish Club or reconnect with members you know. Bookings are essential – phone 9600 4477.
URL:https://denmarkhouse.com.au/event/presidents-lunch-34/
CATEGORIES:Club Event,Lunch
END:VEVENT
BEGIN:VEVENT
DTSTART;TZID=Australia/Melbourne:20240713T120000
DTEND;TZID=Australia/Melbourne:20240713T160000
DTSTAMP:20260421T210605
CREATED:20240503T012416Z
LAST-MODIFIED:20240617T085112Z
UID:10000403-1720872000-1720886400@denmarkhouse.com.au
SUMMARY:Christmas in July Buffet
DESCRIPTION:Celebrate Christmas early at our annual Christmas in July buffet. Enjoy some Danish winter hygge with a warm mug of gløgg (mulled wine) before sitting down for an all you can eat buffet of traditional Christmas food with all the trimmings.
URL:https://denmarkhouse.com.au/event/christmas-in-july-3/
CATEGORIES:Club Event,Cultural Event,Lunch
END:VEVENT
BEGIN:VEVENT
DTSTART;TZID=Australia/Melbourne:20240626T180000
DTEND;TZID=Australia/Melbourne:20240626T210000
DTSTAMP:20260421T210605
CREATED:20231012T031601Z
LAST-MODIFIED:20231012T031601Z
UID:10000386-1719424800-1719435600@denmarkhouse.com.au
SUMMARY:Members' Dinner
DESCRIPTION:Join other members of the Danish Club for a communal meal at Denmark House – bookings are essential ph 9600 4477
URL:https://denmarkhouse.com.au/event/members-dinner-31/
CATEGORIES:Club Event,Dinner
END:VEVENT
BEGIN:VEVENT
DTSTART;TZID=Australia/Melbourne:20240623T140000
DTEND;TZID=Australia/Melbourne:20240623T170000
DTSTAMP:20260421T210605
CREATED:20240408T003647Z
LAST-MODIFIED:20240611T030453Z
UID:10000399-1719151200-1719162000@denmarkhouse.com.au
SUMMARY:SunDaisies - Wreath Making workshop
DESCRIPTION:Join the SunDaisies for a craft workshop with a different activity to learn each month. \nThis Month we learn Wreath Making. This is a traditional Danish craft practised in Spring and Christmas. Get in early as spaces will fill.
URL:https://denmarkhouse.com.au/event/sundaisies-wreath-making-workshop/
CATEGORIES:Club Event,Cultural Event,Free Event,Public
ATTACH;FMTTYPE=image/png:https://denmarkhouse.com.au/wp-content/uploads/2024/06/image.png
END:VEVENT
BEGIN:VEVENT
DTSTART;TZID=Australia/Melbourne:20240619T120000
DTEND;TZID=Australia/Melbourne:20240619T150000
DTSTAMP:20260421T210605
CREATED:20231012T014948Z
LAST-MODIFIED:20231012T023844Z
UID:10000367-1718798400-1718809200@denmarkhouse.com.au
SUMMARY:President's Lunch
DESCRIPTION:Join us at the President’s Lunch at Denmark House where current president Alexander Nielsen or other committee members attend. Get to know other members of the Danish Club or reconnect with members you know. Bookings are essential – phone 9600 4477.
URL:https://denmarkhouse.com.au/event/presidents-lunch-33/
CATEGORIES:Club Event,Lunch
END:VEVENT
BEGIN:VEVENT
DTSTART;TZID=Australia/Melbourne:20240529T180000
DTEND;TZID=Australia/Melbourne:20240529T210000
DTSTAMP:20260421T210605
CREATED:20231012T031506Z
LAST-MODIFIED:20240520T014158Z
UID:10000385-1717005600-1717016400@denmarkhouse.com.au
SUMMARY:Members' Trivia Night and Dinner
DESCRIPTION:Our annual trivia night is always an evening of fun and Hygge. Quiz master Alex will keep the questions coming and our chefs will provide a delicious dinner to match. – bookings are essential ph 9600 4477
URL:https://denmarkhouse.com.au/event/members-dinner-30/
CATEGORIES:Club Event,Dinner
END:VEVENT
BEGIN:VEVENT
DTSTART;TZID=Australia/Melbourne:20240526T140000
DTEND;TZID=Australia/Melbourne:20240526T180000
DTSTAMP:20260421T210605
CREATED:20240105T021056Z
LAST-MODIFIED:20240520T014034Z
UID:10000334-1716732000-1716746400@denmarkhouse.com.au
SUMMARY:King's Birthday Buffet Lunch
DESCRIPTION:Join us to celebrate the new King’s Birthday in the first year of his reign. We will be serving a buffet lunch with all your favourite Danish fare\, and a couple of special items too.
URL:https://denmarkhouse.com.au/event/kings-birthday-lunch/
CATEGORIES:Club Event,Cultural Event,Lunch,Public
END:VEVENT
BEGIN:VEVENT
DTSTART;TZID=Australia/Melbourne:20240515T120000
DTEND;TZID=Australia/Melbourne:20240515T150000
DTSTAMP:20260421T210605
CREATED:20231012T014823Z
LAST-MODIFIED:20231012T023933Z
UID:10000366-1715774400-1715785200@denmarkhouse.com.au
SUMMARY:President's Lunch
DESCRIPTION:Join us at the President’s Lunch at Denmark House where current president Alexander Nielsen or other committee members attend. Get to know other members of the Danish Club or reconnect with members you know. Bookings are essential – phone 9600 4477.
URL:https://denmarkhouse.com.au/event/presidents-lunch-32/
CATEGORIES:Club Event,Lunch
END:VEVENT
BEGIN:VEVENT
DTSTART;TZID=Australia/Melbourne:20240424T180000
DTEND;TZID=Australia/Melbourne:20240424T210000
DTSTAMP:20260421T210605
CREATED:20231012T031357Z
LAST-MODIFIED:20240404T091951Z
UID:10000384-1713981600-1713992400@denmarkhouse.com.au
SUMMARY:Members' Dinner
DESCRIPTION:With winter approaching\, it’s time to get together for a warming meal. Join other members of the Danish Club for a communal meal at Denmark House – bookings are essential ph 9600 4477 \nDress: Smart casual
URL:https://denmarkhouse.com.au/event/members-dinner-29/
CATEGORIES:Club Event,Dinner
END:VEVENT
BEGIN:VEVENT
DTSTART;TZID=Australia/Melbourne:20240417T120000
DTEND;TZID=Australia/Melbourne:20240417T160000
DTSTAMP:20260421T210605
CREATED:20231012T013159Z
LAST-MODIFIED:20231012T024454Z
UID:10000365-1713355200-1713369600@denmarkhouse.com.au
SUMMARY:President's Lunch
DESCRIPTION:Join us at the President’s Lunch at Denmark House where current president Alexander Nielsen or other committee members attend. Get to know other members of the Danish Club or reconnect with members you know. Bookings are essential – phone 9600 4477.
URL:https://denmarkhouse.com.au/event/presidents-lunch-31/
CATEGORIES:Club Event,Lunch
END:VEVENT
BEGIN:VEVENT
DTSTART;TZID=Australia/Melbourne:20240416T180000
DTEND;TZID=Australia/Melbourne:20240416T210000
DTSTAMP:20260421T210605
CREATED:20231019T064616Z
LAST-MODIFIED:20240404T091627Z
UID:10000330-1713290400-1713301200@denmarkhouse.com.au
SUMMARY:Queen's Birthday dinner
DESCRIPTION:Join us to celebrate the Monarchy of Queen Margrethe II of Denmark. In her 50 years she remained a popular figure for Danes and a modern monarch for Europe. \nDress: Formal\nThis is a members event\nBook via info@denmarkhouse.com.au or call 96004477
URL:https://denmarkhouse.com.au/event/queens-birthday-dinner/
CATEGORIES:Club Event,Cultural Event,Dinner
END:VEVENT
BEGIN:VEVENT
DTSTART;TZID=Australia/Melbourne:20240327T180000
DTEND;TZID=Australia/Melbourne:20240327T210000
DTSTAMP:20260421T210605
CREATED:20231012T031300Z
LAST-MODIFIED:20231012T031300Z
UID:10000383-1711562400-1711573200@denmarkhouse.com.au
SUMMARY:Members' Dinner
DESCRIPTION:Join other members of the Danish Club for a communal meal at Denmark House – bookings are essential ph 9600 4477
URL:https://denmarkhouse.com.au/event/members-dinner-28/
CATEGORIES:Club Event,Dinner
END:VEVENT
BEGIN:VEVENT
DTSTART;TZID=Australia/Melbourne:20240323T120000
DTEND;TZID=Australia/Melbourne:20240323T160000
DTSTAMP:20260421T210605
CREATED:20240216T035245Z
LAST-MODIFIED:20240317T224414Z
UID:10000344-1711195200-1711209600@denmarkhouse.com.au
SUMMARY:Påske Frokost (Easter Buffet Lunch)
DESCRIPTION:This year we are pulling out all the stops with a traditional Danish Easter buffet lunch. All your favourites will be there including\, Roast lamb\, baked fish\, gravelax. and shrimp. Book now to avoid disappointment. All are welcome.
URL:https://denmarkhouse.com.au/event/members-paske-frokost-easter-lunch/
CATEGORIES:Club Event,Cultural Event,Lunch,Public
END:VEVENT
BEGIN:VEVENT
DTSTART;TZID=Australia/Melbourne:20240320T120000
DTEND;TZID=Australia/Melbourne:20240320T150000
DTSTAMP:20260421T210605
CREATED:20231012T013104Z
LAST-MODIFIED:20231012T024626Z
UID:10000364-1710936000-1710946800@denmarkhouse.com.au
SUMMARY:President's Lunch
DESCRIPTION:Join us at the President’s Lunch at Denmark House where current president Alexander Nielsen or other committee members attend. Get to know other members of the Danish Club or reconnect with members you know. Bookings are essential – phone 9600 4477.
URL:https://denmarkhouse.com.au/event/presidents-lunch-30/
CATEGORIES:Club Event,Lunch
END:VEVENT
BEGIN:VEVENT
DTSTART;TZID=Australia/Melbourne:20240316T180000
DTEND;TZID=Australia/Melbourne:20240316T210000
DTSTAMP:20260421T210605
CREATED:20240229T022111Z
LAST-MODIFIED:20240301T010137Z
UID:10000396-1710612000-1710622800@denmarkhouse.com.au
SUMMARY:Bird King Dinner
DESCRIPTION:Join us for a three course dinner to crown the new bird king
URL:https://denmarkhouse.com.au/event/bird-king-dinner/
CATEGORIES:Club Event,Dinner
END:VEVENT
BEGIN:VEVENT
DTSTART;TZID=Australia/Melbourne:20240228T180000
DTEND;TZID=Australia/Melbourne:20240228T210000
DTSTAMP:20260421T210605
CREATED:20231012T031210Z
LAST-MODIFIED:20231012T031210Z
UID:10000382-1709143200-1709154000@denmarkhouse.com.au
SUMMARY:Members' Dinner
DESCRIPTION:Join other members of the Danish Club for a communal meal at Denmark House – bookings are essential ph 9600 4477
URL:https://denmarkhouse.com.au/event/members-dinner-27/
CATEGORIES:Club Event,Dinner
END:VEVENT
BEGIN:VEVENT
DTSTART;TZID=Australia/Melbourne:20240224T080000
DTEND;TZID=Australia/Melbourne:20240224T160000
DTSTAMP:20260421T210605
CREATED:20231010T063336Z
LAST-MODIFIED:20231010T234606Z
UID:10000362-1708761600-1708790400@denmarkhouse.com.au
SUMMARY:Fugleskydning (Birdshoot)
DESCRIPTION:The Danish Club’s annual Birdshoot event takes place 24 February 2024 with an 8am start for breakfast at DENMARKhouse after which we bus to the shooting range and the shooting begins! \nCome along for a this annual Club tradition\, taking place every year since 1899. \nPlease note bookings are required and dress code applies.
URL:https://denmarkhouse.com.au/event/bird-shoot/
CATEGORIES:Club Event,Lunch
END:VEVENT
BEGIN:VEVENT
DTSTART;TZID=Australia/Melbourne:20240221T120000
DTEND;TZID=Australia/Melbourne:20240221T160000
DTSTAMP:20260421T210605
CREATED:20231012T012605Z
LAST-MODIFIED:20231012T012605Z
UID:10000363-1708516800-1708531200@denmarkhouse.com.au
SUMMARY:President's Lunch
DESCRIPTION:Join us at the President’s Lunch at Denmark House where current president Alexander Nielsen or other committee members attend. Get to know other members of the Danish Club or reconnect with members you know. Bookings are essential – phone 9600 4477.
URL:https://denmarkhouse.com.au/event/presidents-lunch-29/
CATEGORIES:Club Event,Lunch
END:VEVENT
BEGIN:VEVENT
DTSTART;TZID=Australia/Melbourne:20231220T120000
DTEND;TZID=Australia/Melbourne:20231220T140000
DTSTAMP:20260421T210605
CREATED:20230128T010906Z
LAST-MODIFIED:20230128T010906Z
UID:10000317-1703073600-1703080800@denmarkhouse.com.au
SUMMARY:President's Lunch
DESCRIPTION:Join us at the President’s Lunch at Denmark House where current president Alexander Nielsen or other committee members attend. Get to know other members of the Danish Club or reconnect with members you know. \nBookings are essential – phone 9600 4477.
URL:https://denmarkhouse.com.au/event/presidents-lunch-28/
LOCATION:Denmark House\, L3 428 Lt Bourke St\, Melbourne\, VIC\, 3000\, Australia
CATEGORIES:Club Event,Lunch
ORGANIZER;CN="Danish Club":MAILTO:info@denmarkhouse.com.au
END:VEVENT
BEGIN:VEVENT
DTSTART;TZID=Australia/Melbourne:20231129T180000
DTEND;TZID=Australia/Melbourne:20231129T200000
DTSTAMP:20260421T210605
CREATED:20230128T015731Z
LAST-MODIFIED:20230128T015731Z
UID:10000329-1701280800-1701288000@denmarkhouse.com.au
SUMMARY:Members' Dinner
DESCRIPTION:Join other members of the Danish Club for a communal meal at Denmark House – bookings are essential ph 9600 4477
URL:https://denmarkhouse.com.au/event/members-dinner-26/
LOCATION:Denmark House\, L3 428 Lt Bourke St\, Melbourne\, VIC\, 3000\, Australia
CATEGORIES:Club Event,Dinner
ORGANIZER;CN="Danish Club":MAILTO:info@denmarkhouse.com.au
END:VEVENT
BEGIN:VEVENT
DTSTART;TZID=Australia/Melbourne:20231115T120000
DTEND;TZID=Australia/Melbourne:20231115T140000
DTSTAMP:20260421T210605
CREATED:20230128T010716Z
LAST-MODIFIED:20230128T010716Z
UID:10000316-1700049600-1700056800@denmarkhouse.com.au
SUMMARY:President's Lunch
DESCRIPTION:Join us at the President’s Lunch at Denmark House where current president Alexander Nielsen or other committee members attend. Get to know other members of the Danish Club or reconnect with members you know. \nBookings are essential – phone 9600 4477.
URL:https://denmarkhouse.com.au/event/presidents-lunch-27/
LOCATION:Denmark House\, L3 428 Lt Bourke St\, Melbourne\, VIC\, 3000\, Australia
CATEGORIES:Club Event,Lunch
ORGANIZER;CN="Danish Club":MAILTO:info@denmarkhouse.com.au
END:VEVENT
BEGIN:VEVENT
DTSTART;TZID=Australia/Melbourne:20231025T180000
DTEND;TZID=Australia/Melbourne:20231025T200000
DTSTAMP:20260421T210605
CREATED:20230128T015545Z
LAST-MODIFIED:20230128T015545Z
UID:10000327-1698256800-1698264000@denmarkhouse.com.au
SUMMARY:Members' Dinner
DESCRIPTION:Join other members of the Danish Club for a communal meal at Denmark House – bookings are essential ph 9600 4477
URL:https://denmarkhouse.com.au/event/members-dinner-25/
LOCATION:Denmark House\, L3 428 Lt Bourke St\, Melbourne\, VIC\, 3000\, Australia
CATEGORIES:Club Event,Dinner
ORGANIZER;CN="Danish Club":MAILTO:info@denmarkhouse.com.au
END:VEVENT
BEGIN:VEVENT
DTSTART;TZID=Australia/Melbourne:20231018T120000
DTEND;TZID=Australia/Melbourne:20231018T140000
DTSTAMP:20260421T210605
CREATED:20230128T010613Z
LAST-MODIFIED:20230128T010613Z
UID:10000315-1697630400-1697637600@denmarkhouse.com.au
SUMMARY:President's Lunch
DESCRIPTION:Join us at the President’s Lunch at Denmark House where current president Alexander Nielsen or other committee members attend. Get to know other members of the Danish Club or reconnect with members you know. \nBookings are essential – phone 9600 4477.
URL:https://denmarkhouse.com.au/event/presidents-lunch-26/
LOCATION:Denmark House\, L3 428 Lt Bourke St\, Melbourne\, VIC\, 3000\, Australia
CATEGORIES:Club Event,Lunch
ORGANIZER;CN="Danish Club":MAILTO:info@denmarkhouse.com.au
END:VEVENT
END:VCALENDAR