BEGIN:VCALENDAR
VERSION:2.0
PRODID:-//Denmark House - ECPv6.15.20//NONSGML v1.0//EN
CALSCALE:GREGORIAN
METHOD:PUBLISH
X-ORIGINAL-URL:https://denmarkhouse.com.au
X-WR-CALDESC:Events for Denmark House
REFRESH-INTERVAL;VALUE=DURATION:PT1H
X-Robots-Tag:noindex
X-PUBLISHED-TTL:PT1H
BEGIN:VTIMEZONE
TZID:Australia/Melbourne
BEGIN:STANDARD
TZOFFSETFROM:+1100
TZOFFSETTO:+1000
TZNAME:AEST
DTSTART:20210403T160000
END:STANDARD
BEGIN:DAYLIGHT
TZOFFSETFROM:+1000
TZOFFSETTO:+1100
TZNAME:AEDT
DTSTART:20211002T160000
END:DAYLIGHT
BEGIN:STANDARD
TZOFFSETFROM:+1100
TZOFFSETTO:+1000
TZNAME:AEST
DTSTART:20220402T160000
END:STANDARD
BEGIN:DAYLIGHT
TZOFFSETFROM:+1000
TZOFFSETTO:+1100
TZNAME:AEDT
DTSTART:20221001T160000
END:DAYLIGHT
BEGIN:STANDARD
TZOFFSETFROM:+1100
TZOFFSETTO:+1000
TZNAME:AEST
DTSTART:20230401T160000
END:STANDARD
BEGIN:DAYLIGHT
TZOFFSETFROM:+1000
TZOFFSETTO:+1100
TZNAME:AEDT
DTSTART:20230930T160000
END:DAYLIGHT
BEGIN:STANDARD
TZOFFSETFROM:+1100
TZOFFSETTO:+1000
TZNAME:AEST
DTSTART:20240406T160000
END:STANDARD
BEGIN:DAYLIGHT
TZOFFSETFROM:+1000
TZOFFSETTO:+1100
TZNAME:AEDT
DTSTART:20241005T160000
END:DAYLIGHT
END:VTIMEZONE
BEGIN:VTIMEZONE
TZID:UTC
BEGIN:STANDARD
TZOFFSETFROM:+0000
TZOFFSETTO:+0000
TZNAME:UTC
DTSTART:20210101T000000
END:STANDARD
END:VTIMEZONE
BEGIN:VEVENT
DTSTART;TZID=Australia/Melbourne:20230628T180000
DTEND;TZID=Australia/Melbourne:20230628T200000
DTSTAMP:20260422T003531
CREATED:20230128T014622Z
LAST-MODIFIED:20230128T014622Z
UID:10000322-1687975200-1687982400@denmarkhouse.com.au
SUMMARY:Members' Dinner
DESCRIPTION:Join other members of the Danish Club for a communal meal at Denmark House – bookings are essential ph 9600 4477
URL:https://denmarkhouse.com.au/event/members-dinner-21/
LOCATION:Denmark House\, L3 428 Lt Bourke St\, Melbourne\, VIC\, 3000\, Australia
CATEGORIES:Club Event,Dinner
ORGANIZER;CN="Danish Club":MAILTO:info@denmarkhouse.com.au
END:VEVENT
BEGIN:VEVENT
DTSTART;TZID=Australia/Melbourne:20230621T120000
DTEND;TZID=Australia/Melbourne:20230621T140000
DTSTAMP:20260422T003531
CREATED:20230128T005707Z
LAST-MODIFIED:20230128T005707Z
UID:10000311-1687348800-1687356000@denmarkhouse.com.au
SUMMARY:President's Lunch
DESCRIPTION:Join us at the President’s Lunch at Denmark House where current president Alexander Nielsen or other committee members attend. Get to know other members of the Danish Club or reconnect with members you know. \nBookings are essential – phone 9600 4477.
URL:https://denmarkhouse.com.au/event/presidents-lunch-22/
LOCATION:Denmark House\, L3 428 Lt Bourke St\, Melbourne\, VIC\, 3000\, Australia
CATEGORIES:Club Event,Lunch
ORGANIZER;CN="Danish Club":MAILTO:info@denmarkhouse.com.au
END:VEVENT
BEGIN:VEVENT
DTSTART;TZID=Australia/Melbourne:20230531T180000
DTEND;TZID=Australia/Melbourne:20230531T200000
DTSTAMP:20260422T003531
CREATED:20230128T014447Z
LAST-MODIFIED:20230128T014447Z
UID:10000321-1685556000-1685563200@denmarkhouse.com.au
SUMMARY:Members' Dinner
DESCRIPTION:Join other members of the Danish Club for a communal meal at Denmark House – bookings are essential ph 9600 4477
URL:https://denmarkhouse.com.au/event/members-dinner-20/
LOCATION:Denmark House\, L3 428 Lt Bourke St\, Melbourne\, VIC\, 3000\, Australia
CATEGORIES:Club Event,Dinner
ORGANIZER;CN="Danish Club":MAILTO:info@denmarkhouse.com.au
END:VEVENT
BEGIN:VEVENT
DTSTART;TZID=Australia/Melbourne:20230517T120000
DTEND;TZID=Australia/Melbourne:20230517T140000
DTSTAMP:20260422T003531
CREATED:20230128T005501Z
LAST-MODIFIED:20230128T005501Z
UID:10000310-1684324800-1684332000@denmarkhouse.com.au
SUMMARY:President's Lunch
DESCRIPTION:Join us at the President’s Lunch at Denmark House where current president Alexander Nielsen or other committee members attend. Get to know other members of the Danish Club or reconnect with members you know. \nBookings are essential – phone 9600 4477.
URL:https://denmarkhouse.com.au/event/presidents-lunch-21/
LOCATION:Denmark House\, L3 428 Lt Bourke St\, Melbourne\, VIC\, 3000\, Australia
CATEGORIES:Club Event,Lunch
ORGANIZER;CN="Danish Club":MAILTO:info@denmarkhouse.com.au
END:VEVENT
BEGIN:VEVENT
DTSTART;TZID=Australia/Melbourne:20230426T180000
DTEND;TZID=Australia/Melbourne:20230426T200000
DTSTAMP:20260422T003531
CREATED:20230128T011448Z
LAST-MODIFIED:20230128T014312Z
UID:10000320-1682532000-1682539200@denmarkhouse.com.au
SUMMARY:Members' Dinner
DESCRIPTION:Join other members of the Danish Club for a communal meal at Denmark House – bookings are essential ph 9600 4477
URL:https://denmarkhouse.com.au/event/members-dinner-19/
LOCATION:Denmark House\, L3 428 Lt Bourke St\, Melbourne\, VIC\, 3000\, Australia
CATEGORIES:Club Event,Dinner
ORGANIZER;CN="Danish Club":MAILTO:info@denmarkhouse.com.au
END:VEVENT
BEGIN:VEVENT
DTSTART;TZID=Australia/Melbourne:20230419T120000
DTEND;TZID=Australia/Melbourne:20230419T140000
DTSTAMP:20260422T003531
CREATED:20230128T005327Z
LAST-MODIFIED:20230128T005327Z
UID:10000309-1681905600-1681912800@denmarkhouse.com.au
SUMMARY:President's Lunch
DESCRIPTION:Join us at the President’s Lunch at Denmark House where current president Alexander Nielsen or other committee members attend. Get to know other members of the Danish Club or reconnect with members you know. \nBookings are essential – phone 9600 4477.
URL:https://denmarkhouse.com.au/event/presidents-lunch-20/
LOCATION:Denmark House\, L3 428 Lt Bourke St\, Melbourne\, VIC\, 3000\, Australia
CATEGORIES:Club Event,Lunch
ORGANIZER;CN="Danish Club":MAILTO:info@denmarkhouse.com.au
END:VEVENT
BEGIN:VEVENT
DTSTART;TZID=Australia/Melbourne:20230416T120000
DTEND;TZID=Australia/Melbourne:20230416T140000
DTSTAMP:20260422T003531
CREATED:20230131T235611Z
LAST-MODIFIED:20230131T235611Z
UID:10000343-1681646400-1681653600@denmarkhouse.com.au
SUMMARY:Queen's Birthday Lunch
DESCRIPTION:Join us for the annual celebration of the birthday of Her Majesty Queen Margrethe II of Denmark and catch up with other club members. This is a free event for members of the Danish Club Dannebrog with plenty of snaps and other drinks available on consumption. \nBooking are essential via ph 9600 4477 or info@denmarkhouse.com.au
URL:https://denmarkhouse.com.au/event/queens-birthday-lunch-2/
LOCATION:Denmark House\, L3 428 Lt Bourke St\, Melbourne\, VIC\, 3000\, Australia
CATEGORIES:Club Event
ORGANIZER;CN="Danish Club":MAILTO:info@denmarkhouse.com.au
END:VEVENT
BEGIN:VEVENT
DTSTART;TZID=Australia/Melbourne:20230329T180000
DTEND;TZID=Australia/Melbourne:20230329T200000
DTSTAMP:20260422T003531
CREATED:20230128T011324Z
LAST-MODIFIED:20230128T011324Z
UID:10000318-1680112800-1680120000@denmarkhouse.com.au
SUMMARY:Members' Dinner
DESCRIPTION:Join other members of the Danish Club for a communal meal at Denmark House – bookings are essential ph 9600 4477
URL:https://denmarkhouse.com.au/event/members-dinner-18/
LOCATION:Denmark House\, L3 428 Lt Bourke St\, Melbourne\, VIC\, 3000\, Australia
CATEGORIES:Club Event,Dinner
ORGANIZER;CN="Danish Club":MAILTO:info@denmarkhouse.com.au
END:VEVENT
BEGIN:VEVENT
DTSTART;TZID=Australia/Melbourne:20230315T120000
DTEND;TZID=Australia/Melbourne:20230315T140000
DTSTAMP:20260422T003531
CREATED:20230128T005153Z
LAST-MODIFIED:20230128T005401Z
UID:10000308-1678881600-1678888800@denmarkhouse.com.au
SUMMARY:President's Lunch
DESCRIPTION:Join us at the President’s Lunch at Denmark House where current president Alexander Nielsen or other committee members attend. Get to know other members of the Danish Club or reconnect with members you know. \nBookings are essential – phone 9600 4477.
URL:https://denmarkhouse.com.au/event/presidents-lunch-19/
LOCATION:Denmark House\, L3 428 Lt Bourke St\, Melbourne\, VIC\, 3000\, Australia
CATEGORIES:Club Event,Lunch
ORGANIZER;CN="Danish Club":MAILTO:info@denmarkhouse.com.au
END:VEVENT
BEGIN:VEVENT
DTSTART;TZID=Australia/Melbourne:20230225T080000
DTEND;TZID=Australia/Melbourne:20230225T160000
DTSTAMP:20260422T003531
CREATED:20230128T020415Z
LAST-MODIFIED:20230128T020415Z
UID:10000331-1677312000-1677340800@denmarkhouse.com.au
SUMMARY:Fugleskydning (Birdshoot)
DESCRIPTION:The Danish Club’s annual Birdshoot event takes place 25 February 2023 with an 8am start for breakfast at DENMARKhouse after which we bus to the shooting range and the shooting begins! \nCome along for a this annual Club tradition\, taking place every year since 1899. \nPlease note bookings are required and dress code applies. \nBook ticket.
URL:https://denmarkhouse.com.au/event/fugleskydning-birdshoot/
LOCATION:Denmark House\, L3 428 Lt Bourke St\, Melbourne\, VIC\, 3000\, Australia
CATEGORIES:Club Event
ORGANIZER;CN="Danish Club":MAILTO:info@denmarkhouse.com.au
END:VEVENT
BEGIN:VEVENT
DTSTART;TZID=Australia/Melbourne:20230222T180000
DTEND;TZID=Australia/Melbourne:20230222T200000
DTSTAMP:20260422T003531
CREATED:20230128T011233Z
LAST-MODIFIED:20230131T235807Z
UID:10000319-1677088800-1677096000@denmarkhouse.com.au
SUMMARY:Members' Dinner
DESCRIPTION:Join other members of the Danish Club for a communal meal at Denmark House. February’s theme is Welcome Back to the Club \nBookings are essential ph 9600 4477
URL:https://denmarkhouse.com.au/event/members-dinner-17/
LOCATION:Denmark House\, L3 428 Lt Bourke St\, Melbourne\, VIC\, 3000\, Australia
CATEGORIES:Club Event,Dinner
ORGANIZER;CN="Danish Club":MAILTO:info@denmarkhouse.com.au
END:VEVENT
BEGIN:VEVENT
DTSTART;TZID=Australia/Melbourne:20230215T120000
DTEND;TZID=Australia/Melbourne:20230215T140000
DTSTAMP:20260422T003531
CREATED:20230128T005027Z
LAST-MODIFIED:20230128T005027Z
UID:10000307-1676462400-1676469600@denmarkhouse.com.au
SUMMARY:President's Lunch
DESCRIPTION:Join us at the President’s Lunch at Denmark House where current president Alexander Nielsen or other committee members attend. Get to know other members of the Danish Club or reconnect with members you know. \nBookings are essential – phone 9600 4477.
URL:https://denmarkhouse.com.au/event/presidents-lunch-18/
LOCATION:Denmark House\, L3 428 Lt Bourke St\, Melbourne\, VIC\, 3000\, Australia
CATEGORIES:Club Event,Lunch
ORGANIZER;CN="Danish Club":MAILTO:info@denmarkhouse.com.au
END:VEVENT
BEGIN:VEVENT
DTSTART;TZID=UTC:20221221T120000
DTEND;TZID=UTC:20221221T140000
DTSTAMP:20260422T003531
CREATED:20220927T201400Z
LAST-MODIFIED:20220927T201400Z
UID:10000295-1671624000-1671631200@denmarkhouse.com.au
SUMMARY:President's Lunch - Last one of 2022
DESCRIPTION:Join us at the President’s Lunch at Denmark House where current president Alexander Nielsen or other committee members attend. Get to know other members of the Danish Club or reconnect with members you know. \nBookings are essential – phone 9600 4477.
URL:https://denmarkhouse.com.au/event/presidents-lunch-last-one-of-2022/
LOCATION:Denmark House\, L3 428 Lt Bourke St\, Melbourne\, VIC\, 3000\, Australia
CATEGORIES:Club Event
ORGANIZER;CN="Danish Club":MAILTO:info@denmarkhouse.com.au
END:VEVENT
BEGIN:VEVENT
DTSTART;TZID=UTC:20221209T180000
DTEND;TZID=UTC:20221209T220000
DTSTAMP:20260422T003531
CREATED:20220927T201029Z
LAST-MODIFIED:20220927T201029Z
UID:10000294-1670608800-1670623200@denmarkhouse.com.au
SUMMARY:Members' Dinner - Christmas
DESCRIPTION:in other members of the Danish Club for a communal meal at Denmark House. \nPlease book via info@denmarkhouse.com.au or ph 9600 4477
URL:https://denmarkhouse.com.au/event/members-dinner-christmas/
LOCATION:Denmark House\, L3 428 Lt Bourke St\, Melbourne\, VIC\, 3000\, Australia
CATEGORIES:Club Event
ORGANIZER;CN="Danish Club":MAILTO:info@denmarkhouse.com.au
END:VEVENT
BEGIN:VEVENT
DTSTART;TZID=UTC:20221119T140000
DTEND;TZID=UTC:20221119T170000
DTSTAMP:20260422T003531
CREATED:20220831T150659Z
LAST-MODIFIED:20220831T150752Z
UID:10000288-1668866400-1668877200@denmarkhouse.com.au
SUMMARY:Juleklip
DESCRIPTION:Just like last year\, The Danish Club is inviting members to make decorations for our Christmas tree when we open for Juleklip! \nBring your favourite materials or paper cutting tools\, templates and personal Christmas traditions along and DENMARKhouse will provide all art and craft materials to make braided Christmas hearts/flette julehjerter\, paper stars and other traditional decorations. \nEmail us here if you are coming: info@denmarkhouse.com.au
URL:https://denmarkhouse.com.au/event/juleklip/
LOCATION:Denmark House\, L3 428 Lt Bourke St\, Melbourne\, VIC\, 3000\, Australia
CATEGORIES:Club Event
ORGANIZER;CN="Danish Club":MAILTO:info@denmarkhouse.com.au
END:VEVENT
BEGIN:VEVENT
DTSTART;TZID=UTC:20221116T120000
DTEND;TZID=UTC:20221116T140000
DTSTAMP:20260422T003531
CREATED:20220705T194241Z
LAST-MODIFIED:20220705T194330Z
UID:10000286-1668600000-1668607200@denmarkhouse.com.au
SUMMARY:President's Lunch
DESCRIPTION:Join us at the President’s Lunch at Denmark House where current president Alexander Nielsen or other committee members attend. Get to know other members of the Danish Club or reconnect with members you know. \nBookings are essential – phone 9600 4477.
URL:https://denmarkhouse.com.au/event/presidents-lunch-17/
LOCATION:Denmark House\, L3 428 Lt Bourke St\, Melbourne\, VIC\, 3000\, Australia
CATEGORIES:Club Event
ORGANIZER;CN="Danish Club":MAILTO:info@denmarkhouse.com.au
END:VEVENT
BEGIN:VEVENT
DTSTART;TZID=UTC:20221026T180000
DTEND;TZID=UTC:20221026T200000
DTSTAMP:20260422T003531
CREATED:20220705T194924Z
LAST-MODIFIED:20220927T200853Z
UID:10000230-1666807200-1666814400@denmarkhouse.com.au
SUMMARY:Members' Dinner - Korean Night
DESCRIPTION:Join other members of the Danish Club for a communal meal at Denmark House. \nPlease book via info@denmarkhouse.com.au or ph 9600 4477
URL:https://denmarkhouse.com.au/event/members-dinner-16/
LOCATION:Denmark House\, L3 428 Lt Bourke St\, Melbourne\, VIC\, 3000\, Australia
CATEGORIES:Club Event
ORGANIZER;CN="Danish Club":MAILTO:info@denmarkhouse.com.au
END:VEVENT
BEGIN:VEVENT
DTSTART;TZID=Australia/Melbourne:20221019T120000
DTEND;TZID=Australia/Melbourne:20221019T140000
DTSTAMP:20260422T003531
CREATED:20220705T193918Z
LAST-MODIFIED:20220705T194134Z
UID:10000285-1666180800-1666188000@denmarkhouse.com.au
SUMMARY:President's Lunch
DESCRIPTION:Join us at the President’s Lunch at Denmark House where current president Alexander Nielsen or other committee members attend. Get to know other members of the Danish Club or reconnect with members you know. \nBookings are essential – phone 9600 4477.
URL:https://denmarkhouse.com.au/event/presidents-lunch-16/
LOCATION:Denmark House\, L3 428 Lt Bourke St\, Melbourne\, VIC\, 3000\, Australia
CATEGORIES:Club Event
ORGANIZER;CN="Danish Club":MAILTO:info@denmarkhouse.com.au
END:VEVENT
BEGIN:VEVENT
DTSTART;TZID=UTC:20221015T120000
DTEND;TZID=UTC:20221015T160000
DTSTAMP:20260422T003531
CREATED:20220927T190715Z
LAST-MODIFIED:20220927T190801Z
UID:10000292-1665835200-1665849600@denmarkhouse.com.au
SUMMARY:NORDIC CRAYFISH PARTY - MEMBERS ONLY
DESCRIPTION:Members of the Danish Club are invited to a Nordic Crayfish Party at DENMARKhouse to celebrate that summer is on is way! \nCome along for a day traditional Nordic event at the Club with snaps\, seafood and hygge with other members. \nBookings 9600 4477 or via trybooking
URL:https://denmarkhouse.com.au/event/nordic-crayfish-party-members-only/
LOCATION:Denmark House\, L3 428 Lt Bourke St\, Melbourne\, VIC\, 3000\, Australia
CATEGORIES:Club Event
ORGANIZER;CN="Danish Club":MAILTO:info@denmarkhouse.com.au
END:VEVENT
BEGIN:VEVENT
DTSTART;TZID=UTC:20220928T180000
DTEND;TZID=UTC:20220928T200000
DTSTAMP:20260422T003531
CREATED:20220705T194800Z
LAST-MODIFIED:20220705T194800Z
UID:10000229-1664388000-1664395200@denmarkhouse.com.au
SUMMARY:Members' Dinner
DESCRIPTION:Join other members of the Danish Club for a communal meal at Denmark House. \nPlease book via info@denmarkhouse.com.au or ph 9600 4477
URL:https://denmarkhouse.com.au/event/members-dinner-15/
LOCATION:Denmark House\, L3 428 Lt Bourke St\, Melbourne\, VIC\, 3000\, Australia
CATEGORIES:Club Event
ORGANIZER;CN="Danish Club":MAILTO:info@denmarkhouse.com.au
END:VEVENT
BEGIN:VEVENT
DTSTART;TZID=UTC:20220921T120000
DTEND;TZID=UTC:20220921T140000
DTSTAMP:20260422T003531
CREATED:20220705T193740Z
LAST-MODIFIED:20220705T193740Z
UID:10000284-1663761600-1663768800@denmarkhouse.com.au
SUMMARY:President's Lunch
DESCRIPTION:Join us at the President’s Lunch at Denmark House where current president Alexander Nielsen or other committee members attend. Get to know other members of the Danish Club or reconnect with members you know. \nBookings are essential – phone 9600 4477.
URL:https://denmarkhouse.com.au/event/presidents-lunch-15/
LOCATION:Denmark House\, L3 428 Lt Bourke St\, Melbourne\, VIC\, 3000\, Australia
CATEGORIES:Club Event
ORGANIZER;CN="Danish Club":MAILTO:info@denmarkhouse.com.au
END:VEVENT
BEGIN:VEVENT
DTSTART;TZID=UTC:20220831T180000
DTEND;TZID=UTC:20220831T200000
DTSTAMP:20260422T003531
CREATED:20220705T194534Z
LAST-MODIFIED:20220705T194534Z
UID:10000228-1661968800-1661976000@denmarkhouse.com.au
SUMMARY:Members' Dinner
DESCRIPTION:Join other members of the Danish Club for a communal meal at Denmark House. \nPlease book via info@denmarkhouse.com.au or ph 9600 4477
URL:https://denmarkhouse.com.au/event/members-dinner-14/
LOCATION:Denmark House\, L3 428 Lt Bourke St\, Melbourne\, VIC\, 3000\, Australia
CATEGORIES:Club Event
ORGANIZER;CN="Danish Club":MAILTO:info@denmarkhouse.com.au
END:VEVENT
BEGIN:VEVENT
DTSTART;TZID=UTC:20220817T120000
DTEND;TZID=UTC:20220817T140000
DTSTAMP:20260422T003531
CREATED:20220705T193618Z
LAST-MODIFIED:20220705T193639Z
UID:10000283-1660737600-1660744800@denmarkhouse.com.au
SUMMARY:President's Lunch
DESCRIPTION:Join us at the President’s Lunch at Denmark House where current president Alexander Nielsen or other committee members attend. Get to know other members of the Danish Club or reconnect with members you know. \nBookings are essential – phone 9600 4477.
URL:https://denmarkhouse.com.au/event/1201/
LOCATION:Denmark House\, L3 428 Lt Bourke St\, Melbourne\, VIC\, 3000\, Australia
CATEGORIES:Club Event
ORGANIZER;CN="Danish Club":MAILTO:info@denmarkhouse.com.au
END:VEVENT
BEGIN:VEVENT
DTSTART;TZID=UTC:20220813T173000
DTEND;TZID=UTC:20220813T223000
DTSTAMP:20260422T003531
CREATED:20220705T165632Z
LAST-MODIFIED:20220705T165632Z
UID:10000281-1660411800-1660429800@denmarkhouse.com.au
SUMMARY:MOVIE NIGHT - Another Round
DESCRIPTION:
URL:https://denmarkhouse.com.au/event/movie-night-another-round/
LOCATION:Denmark House\, L3 428 Lt Bourke St\, Melbourne\, VIC\, 3000\, Australia
CATEGORIES:Club Event
ORGANIZER;CN="Danish Club":MAILTO:info@denmarkhouse.com.au
END:VEVENT
BEGIN:VEVENT
DTSTART;TZID=UTC:20220727T180000
DTEND;TZID=UTC:20220727T200000
DTSTAMP:20260422T003531
CREATED:20220705T194415Z
LAST-MODIFIED:20220705T194424Z
UID:10000227-1658944800-1658952000@denmarkhouse.com.au
SUMMARY:Members' Dinner
DESCRIPTION:Join other members of the Danish Club for a communal meal at Denmark House. \nPlease book via info@denmarkhouse.com.au or ph 9600 4477
URL:https://denmarkhouse.com.au/event/members-dinner-13/
LOCATION:Denmark House\, L3 428 Lt Bourke St\, Melbourne\, VIC\, 3000\, Australia
CATEGORIES:Club Event
ORGANIZER;CN="Danish Club":MAILTO:info@denmarkhouse.com.au
END:VEVENT
BEGIN:VEVENT
DTSTART;TZID=UTC:20220720T120000
DTEND;TZID=UTC:20220720T140000
DTSTAMP:20260422T003531
CREATED:20220705T165934Z
LAST-MODIFIED:20220705T165934Z
UID:10000282-1658318400-1658325600@denmarkhouse.com.au
SUMMARY:President's Lunch
DESCRIPTION:Join members of the Danish Club for our monthly lunch at DENMARKhouse \nBook via info@denmarkhouse.com.au or ph 9600 4477
URL:https://denmarkhouse.com.au/event/presidents-lunch-14/
LOCATION:Denmark House\, L3 428 Lt Bourke St\, Melbourne\, VIC\, 3000\, Australia
CATEGORIES:Club Event
ORGANIZER;CN="Danish Club":MAILTO:info@denmarkhouse.com.au
END:VEVENT
BEGIN:VEVENT
DTSTART;TZID=UTC:20220423T120000
DTEND;TZID=UTC:20220423T170000
DTSTAMP:20260422T003531
CREATED:20210506T193528Z
LAST-MODIFIED:20220407T125628Z
UID:10000239-1650715200-1650733200@denmarkhouse.com.au
SUMMARY:Queen's birthday lunch
DESCRIPTION:Join us for the annual celebration of the birthday of Her Majesty Queen Margrethe II of Denmark and catch up with other club members. This is a free event for members of the Danish Club Dannebrog with plenty of snaps and other drinks available on consumption. \nBooking are essential via ph 9600 4477 or info@denmarkhouse.com.au
URL:https://denmarkhouse.com.au/event/queens-birthday-lunch/
LOCATION:Denmark House\, L3 428 Lt Bourke St\, Melbourne\, VIC\, 3000\, Australia
CATEGORIES:Club Event
ORGANIZER;CN="Danish Club":MAILTO:info@denmarkhouse.com.au
END:VEVENT
BEGIN:VEVENT
DTSTART;TZID=UTC:20220409T140000
DTEND;TZID=UTC:20220409T170000
DTSTAMP:20260422T003531
CREATED:20220222T012440Z
LAST-MODIFIED:20220222T012440Z
UID:10000271-1649512800-1649523600@denmarkhouse.com.au
SUMMARY:Påskeklip
DESCRIPTION:We come together with our families for a day of  påskeklip and hygge as we come together to make decorations for Easter. Bring your family for a day of DIY decorations – much like our beloved Juleklip event. \nLight snacks provided – drinks at bar prices \nPlease RSVP via ph. 9600 4477 or info@denmarkhouse.com.au
URL:https://denmarkhouse.com.au/event/paskeklip/
LOCATION:Denmark House\, L3 428 Lt Bourke St\, Melbourne\, VIC\, 3000\, Australia
CATEGORIES:Club Event
ORGANIZER;CN="Danish Club":MAILTO:info@denmarkhouse.com.au
END:VEVENT
BEGIN:VEVENT
DTSTART;TZID=UTC:20220226T080000
DTEND;TZID=UTC:20220226T160000
DTSTAMP:20260422T003531
CREATED:20220220T104329Z
LAST-MODIFIED:20220222T013857Z
UID:10000265-1645862400-1645891200@denmarkhouse.com.au
SUMMARY:BIRDSHOOT
DESCRIPTION:Our annual Birdshoot Event is here! \nJoin us for a full day of Club fun when we meet at the Club (DENMARKhouse) at 8am for breakfast before heading off to the shooting range to find this year’s Bird Queen or King! \nThis annual tradition dates back to the Club’s inauguration (almost). \nWe conclude the day with lunch at DENMARKhouse \nBook here: https://www.trybooking.com/events/landing?eid=826910&
URL:https://denmarkhouse.com.au/event/birdshoot/
LOCATION:Denmark House\, L3 428 Lt Bourke St\, Melbourne\, VIC\, 3000\, Australia
CATEGORIES:Club Event
ORGANIZER;CN="Danish Club":MAILTO:info@denmarkhouse.com.au
END:VEVENT
END:VCALENDAR