BEGIN:VCALENDAR
VERSION:2.0
PRODID:-//Denmark House - ECPv6.15.20//NONSGML v1.0//EN
CALSCALE:GREGORIAN
METHOD:PUBLISH
X-ORIGINAL-URL:https://denmarkhouse.com.au
X-WR-CALDESC:Events for Denmark House
REFRESH-INTERVAL;VALUE=DURATION:PT1H
X-Robots-Tag:noindex
X-PUBLISHED-TTL:PT1H
BEGIN:VTIMEZONE
TZID:UTC
BEGIN:STANDARD
TZOFFSETFROM:+0000
TZOFFSETTO:+0000
TZNAME:UTC
DTSTART:20210101T000000
END:STANDARD
END:VTIMEZONE
BEGIN:VEVENT
DTSTART;TZID=UTC:20221015T120000
DTEND;TZID=UTC:20221015T160000
DTSTAMP:20260422T021603
CREATED:20220927T190715Z
LAST-MODIFIED:20220927T190801Z
UID:10000292-1665835200-1665849600@denmarkhouse.com.au
SUMMARY:NORDIC CRAYFISH PARTY - MEMBERS ONLY
DESCRIPTION:Members of the Danish Club are invited to a Nordic Crayfish Party at DENMARKhouse to celebrate that summer is on is way! \nCome along for a day traditional Nordic event at the Club with snaps\, seafood and hygge with other members. \nBookings 9600 4477 or via trybooking
URL:https://denmarkhouse.com.au/event/nordic-crayfish-party-members-only/
LOCATION:Denmark House\, L3 428 Lt Bourke St\, Melbourne\, VIC\, 3000\, Australia
CATEGORIES:Club Event
ORGANIZER;CN="Danish Club":MAILTO:info@denmarkhouse.com.au
END:VEVENT
BEGIN:VEVENT
DTSTART;TZID=UTC:20220928T180000
DTEND;TZID=UTC:20220928T200000
DTSTAMP:20260422T021603
CREATED:20220705T194800Z
LAST-MODIFIED:20220705T194800Z
UID:10000229-1664388000-1664395200@denmarkhouse.com.au
SUMMARY:Members' Dinner
DESCRIPTION:Join other members of the Danish Club for a communal meal at Denmark House. \nPlease book via info@denmarkhouse.com.au or ph 9600 4477
URL:https://denmarkhouse.com.au/event/members-dinner-15/
LOCATION:Denmark House\, L3 428 Lt Bourke St\, Melbourne\, VIC\, 3000\, Australia
CATEGORIES:Club Event
ORGANIZER;CN="Danish Club":MAILTO:info@denmarkhouse.com.au
END:VEVENT
BEGIN:VEVENT
DTSTART;TZID=UTC:20220921T120000
DTEND;TZID=UTC:20220921T140000
DTSTAMP:20260422T021603
CREATED:20220705T193740Z
LAST-MODIFIED:20220705T193740Z
UID:10000284-1663761600-1663768800@denmarkhouse.com.au
SUMMARY:President's Lunch
DESCRIPTION:Join us at the President’s Lunch at Denmark House where current president Alexander Nielsen or other committee members attend. Get to know other members of the Danish Club or reconnect with members you know. \nBookings are essential – phone 9600 4477.
URL:https://denmarkhouse.com.au/event/presidents-lunch-15/
LOCATION:Denmark House\, L3 428 Lt Bourke St\, Melbourne\, VIC\, 3000\, Australia
CATEGORIES:Club Event
ORGANIZER;CN="Danish Club":MAILTO:info@denmarkhouse.com.au
END:VEVENT
BEGIN:VEVENT
DTSTART;TZID=UTC:20220831T180000
DTEND;TZID=UTC:20220831T200000
DTSTAMP:20260422T021603
CREATED:20220705T194534Z
LAST-MODIFIED:20220705T194534Z
UID:10000228-1661968800-1661976000@denmarkhouse.com.au
SUMMARY:Members' Dinner
DESCRIPTION:Join other members of the Danish Club for a communal meal at Denmark House. \nPlease book via info@denmarkhouse.com.au or ph 9600 4477
URL:https://denmarkhouse.com.au/event/members-dinner-14/
LOCATION:Denmark House\, L3 428 Lt Bourke St\, Melbourne\, VIC\, 3000\, Australia
CATEGORIES:Club Event
ORGANIZER;CN="Danish Club":MAILTO:info@denmarkhouse.com.au
END:VEVENT
BEGIN:VEVENT
DTSTART;TZID=UTC:20220817T120000
DTEND;TZID=UTC:20220817T140000
DTSTAMP:20260422T021603
CREATED:20220705T193618Z
LAST-MODIFIED:20220705T193639Z
UID:10000283-1660737600-1660744800@denmarkhouse.com.au
SUMMARY:President's Lunch
DESCRIPTION:Join us at the President’s Lunch at Denmark House where current president Alexander Nielsen or other committee members attend. Get to know other members of the Danish Club or reconnect with members you know. \nBookings are essential – phone 9600 4477.
URL:https://denmarkhouse.com.au/event/1201/
LOCATION:Denmark House\, L3 428 Lt Bourke St\, Melbourne\, VIC\, 3000\, Australia
CATEGORIES:Club Event
ORGANIZER;CN="Danish Club":MAILTO:info@denmarkhouse.com.au
END:VEVENT
BEGIN:VEVENT
DTSTART;TZID=UTC:20220813T173000
DTEND;TZID=UTC:20220813T223000
DTSTAMP:20260422T021603
CREATED:20220705T165632Z
LAST-MODIFIED:20220705T165632Z
UID:10000281-1660411800-1660429800@denmarkhouse.com.au
SUMMARY:MOVIE NIGHT - Another Round
DESCRIPTION:
URL:https://denmarkhouse.com.au/event/movie-night-another-round/
LOCATION:Denmark House\, L3 428 Lt Bourke St\, Melbourne\, VIC\, 3000\, Australia
CATEGORIES:Club Event
ORGANIZER;CN="Danish Club":MAILTO:info@denmarkhouse.com.au
END:VEVENT
BEGIN:VEVENT
DTSTART;TZID=UTC:20220727T180000
DTEND;TZID=UTC:20220727T200000
DTSTAMP:20260422T021603
CREATED:20220705T194415Z
LAST-MODIFIED:20220705T194424Z
UID:10000227-1658944800-1658952000@denmarkhouse.com.au
SUMMARY:Members' Dinner
DESCRIPTION:Join other members of the Danish Club for a communal meal at Denmark House. \nPlease book via info@denmarkhouse.com.au or ph 9600 4477
URL:https://denmarkhouse.com.au/event/members-dinner-13/
LOCATION:Denmark House\, L3 428 Lt Bourke St\, Melbourne\, VIC\, 3000\, Australia
CATEGORIES:Club Event
ORGANIZER;CN="Danish Club":MAILTO:info@denmarkhouse.com.au
END:VEVENT
BEGIN:VEVENT
DTSTART;TZID=UTC:20220720T120000
DTEND;TZID=UTC:20220720T140000
DTSTAMP:20260422T021603
CREATED:20220705T165934Z
LAST-MODIFIED:20220705T165934Z
UID:10000282-1658318400-1658325600@denmarkhouse.com.au
SUMMARY:President's Lunch
DESCRIPTION:Join members of the Danish Club for our monthly lunch at DENMARKhouse \nBook via info@denmarkhouse.com.au or ph 9600 4477
URL:https://denmarkhouse.com.au/event/presidents-lunch-14/
LOCATION:Denmark House\, L3 428 Lt Bourke St\, Melbourne\, VIC\, 3000\, Australia
CATEGORIES:Club Event
ORGANIZER;CN="Danish Club":MAILTO:info@denmarkhouse.com.au
END:VEVENT
BEGIN:VEVENT
DTSTART;TZID=UTC:20220423T120000
DTEND;TZID=UTC:20220423T170000
DTSTAMP:20260422T021603
CREATED:20210506T193528Z
LAST-MODIFIED:20220407T125628Z
UID:10000239-1650715200-1650733200@denmarkhouse.com.au
SUMMARY:Queen's birthday lunch
DESCRIPTION:Join us for the annual celebration of the birthday of Her Majesty Queen Margrethe II of Denmark and catch up with other club members. This is a free event for members of the Danish Club Dannebrog with plenty of snaps and other drinks available on consumption. \nBooking are essential via ph 9600 4477 or info@denmarkhouse.com.au
URL:https://denmarkhouse.com.au/event/queens-birthday-lunch/
LOCATION:Denmark House\, L3 428 Lt Bourke St\, Melbourne\, VIC\, 3000\, Australia
CATEGORIES:Club Event
ORGANIZER;CN="Danish Club":MAILTO:info@denmarkhouse.com.au
END:VEVENT
BEGIN:VEVENT
DTSTART;TZID=UTC:20220409T140000
DTEND;TZID=UTC:20220409T170000
DTSTAMP:20260422T021603
CREATED:20220222T012440Z
LAST-MODIFIED:20220222T012440Z
UID:10000271-1649512800-1649523600@denmarkhouse.com.au
SUMMARY:Påskeklip
DESCRIPTION:We come together with our families for a day of  påskeklip and hygge as we come together to make decorations for Easter. Bring your family for a day of DIY decorations – much like our beloved Juleklip event. \nLight snacks provided – drinks at bar prices \nPlease RSVP via ph. 9600 4477 or info@denmarkhouse.com.au
URL:https://denmarkhouse.com.au/event/paskeklip/
LOCATION:Denmark House\, L3 428 Lt Bourke St\, Melbourne\, VIC\, 3000\, Australia
CATEGORIES:Club Event
ORGANIZER;CN="Danish Club":MAILTO:info@denmarkhouse.com.au
END:VEVENT
BEGIN:VEVENT
DTSTART;TZID=UTC:20220226T080000
DTEND;TZID=UTC:20220226T160000
DTSTAMP:20260422T021603
CREATED:20220220T104329Z
LAST-MODIFIED:20220222T013857Z
UID:10000265-1645862400-1645891200@denmarkhouse.com.au
SUMMARY:BIRDSHOOT
DESCRIPTION:Our annual Birdshoot Event is here! \nJoin us for a full day of Club fun when we meet at the Club (DENMARKhouse) at 8am for breakfast before heading off to the shooting range to find this year’s Bird Queen or King! \nThis annual tradition dates back to the Club’s inauguration (almost). \nWe conclude the day with lunch at DENMARKhouse \nBook here: https://www.trybooking.com/events/landing?eid=826910&
URL:https://denmarkhouse.com.au/event/birdshoot/
LOCATION:Denmark House\, L3 428 Lt Bourke St\, Melbourne\, VIC\, 3000\, Australia
CATEGORIES:Club Event
ORGANIZER;CN="Danish Club":MAILTO:info@denmarkhouse.com.au
END:VEVENT
END:VCALENDAR