BEGIN:VCALENDAR
VERSION:2.0
PRODID:-//Denmark House - ECPv6.15.20//NONSGML v1.0//EN
CALSCALE:GREGORIAN
METHOD:PUBLISH
X-WR-CALNAME:Denmark House
X-ORIGINAL-URL:https://denmarkhouse.com.au
X-WR-CALDESC:Events for Denmark House
REFRESH-INTERVAL;VALUE=DURATION:PT1H
X-Robots-Tag:noindex
X-PUBLISHED-TTL:PT1H
BEGIN:VTIMEZONE
TZID:Australia/Melbourne
BEGIN:STANDARD
TZOFFSETFROM:+1100
TZOFFSETTO:+1000
TZNAME:AEST
DTSTART:20230401T160000
END:STANDARD
BEGIN:DAYLIGHT
TZOFFSETFROM:+1000
TZOFFSETTO:+1100
TZNAME:AEDT
DTSTART:20230930T160000
END:DAYLIGHT
BEGIN:STANDARD
TZOFFSETFROM:+1100
TZOFFSETTO:+1000
TZNAME:AEST
DTSTART:20240406T160000
END:STANDARD
BEGIN:DAYLIGHT
TZOFFSETFROM:+1000
TZOFFSETTO:+1100
TZNAME:AEDT
DTSTART:20241005T160000
END:DAYLIGHT
BEGIN:STANDARD
TZOFFSETFROM:+1100
TZOFFSETTO:+1000
TZNAME:AEST
DTSTART:20250405T160000
END:STANDARD
BEGIN:DAYLIGHT
TZOFFSETFROM:+1000
TZOFFSETTO:+1100
TZNAME:AEDT
DTSTART:20251004T160000
END:DAYLIGHT
END:VTIMEZONE
BEGIN:VEVENT
DTSTART;TZID=Australia/Melbourne:20241110T170000
DTEND;TZID=Australia/Melbourne:20241110T210000
DTSTAMP:20260422T080500
CREATED:20240424T013335Z
LAST-MODIFIED:20240930T074422Z
UID:10000402-1731258000-1731272400@denmarkhouse.com.au
SUMMARY:Mortensaften
DESCRIPTION:Join us in November to celebrate Mortensaften (St Martin’s Day). The menu will consist of a traditional Danish three course meal featuring a duck entrée and main\, followed by rødgrød med fløde (cherry rice pudding) for dessert. There will be complimentary akvavit\, door prizes\, bingo\, and more!
URL:https://denmarkhouse.com.au/event/mortensaften/
CATEGORIES:Club Event,Cultural Event,Dinner
END:VEVENT
END:VCALENDAR