BEGIN:VCALENDAR
VERSION:2.0
PRODID:-//Denmark House - ECPv6.15.20//NONSGML v1.0//EN
CALSCALE:GREGORIAN
METHOD:PUBLISH
X-ORIGINAL-URL:https://denmarkhouse.com.au
X-WR-CALDESC:Events for Denmark House
REFRESH-INTERVAL;VALUE=DURATION:PT1H
X-Robots-Tag:noindex
X-PUBLISHED-TTL:PT1H
BEGIN:VTIMEZONE
TZID:Australia/Melbourne
BEGIN:STANDARD
TZOFFSETFROM:+1100
TZOFFSETTO:+1000
TZNAME:AEST
DTSTART:20250405T160000
END:STANDARD
BEGIN:DAYLIGHT
TZOFFSETFROM:+1000
TZOFFSETTO:+1100
TZNAME:AEDT
DTSTART:20251004T160000
END:DAYLIGHT
BEGIN:STANDARD
TZOFFSETFROM:+1100
TZOFFSETTO:+1000
TZNAME:AEST
DTSTART:20260404T160000
END:STANDARD
BEGIN:DAYLIGHT
TZOFFSETFROM:+1000
TZOFFSETTO:+1100
TZNAME:AEDT
DTSTART:20261003T160000
END:DAYLIGHT
BEGIN:STANDARD
TZOFFSETFROM:+1100
TZOFFSETTO:+1000
TZNAME:AEST
DTSTART:20270403T160000
END:STANDARD
BEGIN:DAYLIGHT
TZOFFSETFROM:+1000
TZOFFSETTO:+1100
TZNAME:AEDT
DTSTART:20271002T160000
END:DAYLIGHT
END:VTIMEZONE
BEGIN:VEVENT
DTSTART;TZID=Australia/Melbourne:20260526T180000
DTEND;TZID=Australia/Melbourne:20260526T220000
DTSTAMP:20260421T003602
CREATED:20260417T001538Z
LAST-MODIFIED:20260417T001538Z
UID:10000993-1779818400-1779832800@denmarkhouse.com.au
SUMMARY:King Frederik X Dinner - Members only event
DESCRIPTION:Join us at Denmark House as we celebrate the birthday of His Majesty King Frederik X with a special members-only dinner in honour of Denmark’s King. \nKing Frederik is widely admired for his modern\, grounded approach to royal life\, as well as his deep connection to Danish culture\, community and tradition. In celebration of the occasion\, we invite our members to gather for an evening of good company\, Danish hospitality and a menu fit for the day. \nWe will begin the evening with standing canapés\, before sitting down to enjoy His Majesty’s favourite dish:braised oxtail served with mashed potato\, fries\, onion\, egg and beets.To finish\, dessert will be a classic Danish birthday cake. \nThis is one of the Club’s complimentary member events\, but seating is limited and bookings are essential. Please secure your ticket early to avoid missing out\, as no exceptions can be made once the event is fully booked. \nWe look forward to celebrating with you.
URL:https://denmarkhouse.com.au/event/king-frederik-x-dinner-members-only-event/
CATEGORIES:Club Event,Cultural Event,Dinner,Free Event
ATTACH;FMTTYPE=image/webp:https://denmarkhouse.com.au/wp-content/uploads/2025/01/Frederik-X-Crown-prince-king-Denmark.webp
END:VEVENT
BEGIN:VEVENT
DTSTART;TZID=Australia/Melbourne:20260528T180000
DTEND;TZID=Australia/Melbourne:20260528T210000
DTSTAMP:20260421T003602
CREATED:20260415T011742Z
LAST-MODIFIED:20260415T015537Z
UID:10000962-1779991200-1780002000@denmarkhouse.com.au
SUMMARY:Members Dinner -  May 2026
DESCRIPTION:Join fellow members of the Danish Club for our monthly Members Dinner\, held on the last Thursday of the month – an evening centred around good food\, great company\, and genuine hygge. \nDesigned as a relaxed and welcoming gathering\, this dinner is a wonderful opportunity to reconnect with familiar faces\, meet new members\, and enjoy the atmosphere of the Club over a chef’s choice menu. \nYour ticket includes one drink on arrival\, one akvavit\, a chef’s choice main course\, dessert\, and coffee. \nBookings are essential\, and number of seats are limited.
URL:https://denmarkhouse.com.au/event/members-dinner-may-2026/
LOCATION:Denmark House\, L3 428 Lt Bourke St\, Melbourne\, VIC\, 3000\, Australia
CATEGORIES:Club Event,Dinner
ATTACH;FMTTYPE=image/png:https://denmarkhouse.com.au/wp-content/uploads/2026/03/Members-dinner.png
ORGANIZER;CN="Danish Club":MAILTO:info@denmarkhouse.com.au
END:VEVENT
END:VCALENDAR