BEGIN:VCALENDAR
VERSION:2.0
PRODID:-//Denmark House - ECPv6.15.20//NONSGML v1.0//EN
CALSCALE:GREGORIAN
METHOD:PUBLISH
X-ORIGINAL-URL:https://denmarkhouse.com.au
X-WR-CALDESC:Events for Denmark House
REFRESH-INTERVAL;VALUE=DURATION:PT1H
X-Robots-Tag:noindex
X-PUBLISHED-TTL:PT1H
BEGIN:VTIMEZONE
TZID:UTC
BEGIN:STANDARD
TZOFFSETFROM:+0000
TZOFFSETTO:+0000
TZNAME:UTC
DTSTART:20200101T000000
END:STANDARD
END:VTIMEZONE
BEGIN:VEVENT
DTSTART;TZID=UTC:20211027T180000
DTEND;TZID=UTC:20211027T210000
DTSTAMP:20260426T014344
CREATED:20210510T010611Z
LAST-MODIFIED:20210510T010611Z
UID:10000251-1635357600-1635368400@denmarkhouse.com.au
SUMMARY:Members' dinner
DESCRIPTION:Join other members of the Danish Club for a communal meal at Denmark House – bookings are essential ph 9600 4477
URL:https://denmarkhouse.com.au/event/members-dinner-6/
LOCATION:Denmark House\, L3 428 Lt Bourke St\, Melbourne\, VIC\, 3000\, Australia
CATEGORIES:Dinner
ORGANIZER;CN="Danish Club":MAILTO:info@denmarkhouse.com.au
END:VEVENT
END:VCALENDAR