BEGIN:VCALENDAR
VERSION:2.0
PRODID:-//Denmark House - ECPv6.15.20//NONSGML v1.0//EN
CALSCALE:GREGORIAN
METHOD:PUBLISH
X-ORIGINAL-URL:https://denmarkhouse.com.au
X-WR-CALDESC:Events for Denmark House
REFRESH-INTERVAL;VALUE=DURATION:PT1H
X-Robots-Tag:noindex
X-PUBLISHED-TTL:PT1H
BEGIN:VTIMEZONE
TZID:UTC
BEGIN:STANDARD
TZOFFSETFROM:+0000
TZOFFSETTO:+0000
TZNAME:UTC
DTSTART:20210101T000000
END:STANDARD
END:VTIMEZONE
BEGIN:VEVENT
DTSTART;TZID=UTC:20220305T000000
DTEND;TZID=UTC:20220305T150000
DTSTAMP:20260425T060045
CREATED:20220208T170958Z
LAST-MODIFIED:20220221T002849Z
UID:10000261-1646438400-1646492400@denmarkhouse.com.au
SUMMARY:Buffet lunch
DESCRIPTION:Our monthly buffet lunches are back – book ticket via link  \nEvery first Saturday of the month – buffet with frikadeller\, gravad laks\, crumbed fish with remoulade\, pickled herring and all your other lunch favourites!
URL:https://denmarkhouse.com.au/event/buffet-lunch/
LOCATION:VIC
CATEGORIES:Lunch
END:VEVENT
END:VCALENDAR