BEGIN:VCALENDAR
VERSION:2.0
PRODID:-//Denmark House - ECPv6.15.20//NONSGML v1.0//EN
CALSCALE:GREGORIAN
METHOD:PUBLISH
X-WR-CALNAME:Denmark House
X-ORIGINAL-URL:https://denmarkhouse.com.au
X-WR-CALDESC:Events for Denmark House
REFRESH-INTERVAL;VALUE=DURATION:PT1H
X-Robots-Tag:noindex
X-PUBLISHED-TTL:PT1H
BEGIN:VTIMEZONE
TZID:UTC
BEGIN:STANDARD
TZOFFSETFROM:+0000
TZOFFSETTO:+0000
TZNAME:UTC
DTSTART:20210101T000000
END:STANDARD
END:VTIMEZONE
BEGIN:VEVENT
DTSTART;TZID=UTC:20220402T120000
DTEND;TZID=UTC:20220512T150000
DTSTAMP:20260425T024720
CREATED:20220221T002951Z
LAST-MODIFIED:20220221T002951Z
UID:10000266-1648900800-1652367600@denmarkhouse.com.au
SUMMARY:Buffet Lunch
DESCRIPTION:Our monthly buffet lunches are back – book ticket via link  \nEvery first Saturday of the month – buffet with frikadeller\, gravad laks\, crumbed fish with remoulade\, pickled herring and all your other lunch favourites!
URL:https://denmarkhouse.com.au/event/buffet-lunch-2/
LOCATION:VIC
CATEGORIES:Lunch
ORGANIZER;CN="Denmark House":MAILTO:info@denmarkhouse.com.au
END:VEVENT
END:VCALENDAR