BEGIN:VCALENDAR
VERSION:2.0
PRODID:-//Denmark House - ECPv6.15.20//NONSGML v1.0//EN
CALSCALE:GREGORIAN
METHOD:PUBLISH
X-WR-CALNAME:Denmark House
X-ORIGINAL-URL:https://denmarkhouse.com.au
X-WR-CALDESC:Events for Denmark House
REFRESH-INTERVAL;VALUE=DURATION:PT1H
X-Robots-Tag:noindex
X-PUBLISHED-TTL:PT1H
BEGIN:VTIMEZONE
TZID:Australia/Melbourne
BEGIN:STANDARD
TZOFFSETFROM:+1100
TZOFFSETTO:+1000
TZNAME:AEST
DTSTART:20230401T160000
END:STANDARD
BEGIN:DAYLIGHT
TZOFFSETFROM:+1000
TZOFFSETTO:+1100
TZNAME:AEDT
DTSTART:20230930T160000
END:DAYLIGHT
BEGIN:STANDARD
TZOFFSETFROM:+1100
TZOFFSETTO:+1000
TZNAME:AEST
DTSTART:20240406T160000
END:STANDARD
BEGIN:DAYLIGHT
TZOFFSETFROM:+1000
TZOFFSETTO:+1100
TZNAME:AEDT
DTSTART:20241005T160000
END:DAYLIGHT
BEGIN:STANDARD
TZOFFSETFROM:+1100
TZOFFSETTO:+1000
TZNAME:AEST
DTSTART:20250405T160000
END:STANDARD
BEGIN:DAYLIGHT
TZOFFSETFROM:+1000
TZOFFSETTO:+1100
TZNAME:AEDT
DTSTART:20251004T160000
END:DAYLIGHT
BEGIN:STANDARD
TZOFFSETFROM:+1100
TZOFFSETTO:+1000
TZNAME:AEST
DTSTART:20260404T160000
END:STANDARD
BEGIN:DAYLIGHT
TZOFFSETFROM:+1000
TZOFFSETTO:+1100
TZNAME:AEDT
DTSTART:20261003T160000
END:DAYLIGHT
END:VTIMEZONE
BEGIN:VEVENT
DTSTART;TZID=Australia/Melbourne:20240713T120000
DTEND;TZID=Australia/Melbourne:20240713T160000
DTSTAMP:20260423T084942
CREATED:20240503T012416Z
LAST-MODIFIED:20240617T085112Z
UID:10000403-1720872000-1720886400@denmarkhouse.com.au
SUMMARY:Christmas in July Buffet
DESCRIPTION:Celebrate Christmas early at our annual Christmas in July buffet. Enjoy some Danish winter hygge with a warm mug of gløgg (mulled wine) before sitting down for an all you can eat buffet of traditional Christmas food with all the trimmings.
URL:https://denmarkhouse.com.au/event/christmas-in-july-3/
LOCATION:VIC
CATEGORIES:Club Event,Cultural Event,Lunch
END:VEVENT
BEGIN:VEVENT
DTSTART;TZID=Australia/Melbourne:20240717T120000
DTEND;TZID=Australia/Melbourne:20240717T150000
DTSTAMP:20260423T084942
CREATED:20231012T015040Z
LAST-MODIFIED:20231012T023806Z
UID:10000368-1721217600-1721228400@denmarkhouse.com.au
SUMMARY:President's Lunch
DESCRIPTION:Join us at the President’s Lunch at Denmark House where current president Alexander Nielsen or other committee members attend. Get to know other members of the Danish Club or reconnect with members you know. Bookings are essential – phone 9600 4477.
URL:https://denmarkhouse.com.au/event/presidents-lunch-34/
LOCATION:VIC
CATEGORIES:Club Event,Lunch
END:VEVENT
BEGIN:VEVENT
DTSTART;TZID=Australia/Melbourne:20240727T120000
DTEND;TZID=Australia/Melbourne:20240727T160000
DTSTAMP:20260423T084942
CREATED:20240604T010745Z
LAST-MODIFIED:20240617T085018Z
UID:10000406-1722081600-1722096000@denmarkhouse.com.au
SUMMARY:Christmas in July Buffet
DESCRIPTION:Celebrate Christmas early at our annual Christmas in July buffet. Enjoy some Danish winter hygge with a warm mug of gløgg (mulled wine) before sitting down for an all you can eat buffet of traditional Christmas food with all the trimmings.
URL:https://denmarkhouse.com.au/event/christmas-in-july-buffet/
LOCATION:VIC
CATEGORIES:Lunch,Public
END:VEVENT
BEGIN:VEVENT
DTSTART;TZID=Australia/Melbourne:20240803T120000
DTEND;TZID=Australia/Melbourne:20240803T160000
DTSTAMP:20260423T084942
CREATED:20231012T030618Z
LAST-MODIFIED:20240611T025941Z
UID:10000379-1722686400-1722700800@denmarkhouse.com.au
SUMMARY:Buffet Lunch
DESCRIPTION:Every first Saturday of the month – DENMARKhouse serves a traditional Danish buffet lunch with frikadeller\, gravad laks\, crumbed fish with remoulade\, pickled herring and all your other (Danish) lunch favourites!
URL:https://denmarkhouse.com.au/event/buffet-lunch-22/
LOCATION:VIC
CATEGORIES:Lunch,Public
ATTACH;FMTTYPE=image/jpeg:https://denmarkhouse.com.au/wp-content/uploads/2023/10/IMG_49284.CR2_.jpg
END:VEVENT
BEGIN:VEVENT
DTSTART;TZID=Australia/Melbourne:20240821T120000
DTEND;TZID=Australia/Melbourne:20240821T150000
DTSTAMP:20260423T084942
CREATED:20231012T015216Z
LAST-MODIFIED:20231012T021428Z
UID:10000369-1724241600-1724252400@denmarkhouse.com.au
SUMMARY:President's Lunch
DESCRIPTION:Join us at the President’s Lunch at Denmark House where current president Alexander Nielsen or other committee members attend. Get to know other members of the Danish Club or reconnect with members you know. Bookings are essential – phone 9600 4477.
URL:https://denmarkhouse.com.au/event/presidents-lunch-35/
LOCATION:VIC
CATEGORIES:Club Event,Lunch
END:VEVENT
BEGIN:VEVENT
DTSTART;TZID=Australia/Melbourne:20240918T120000
DTEND;TZID=Australia/Melbourne:20240918T150000
DTSTAMP:20260423T084942
CREATED:20231012T015729Z
LAST-MODIFIED:20240823T013811Z
UID:10000370-1726660800-1726671600@denmarkhouse.com.au
SUMMARY:Præsidenten’s Taffel
DESCRIPTION:Join us at the President’s Lunch at Denmark House where current president Alexander Nielsen or other committee members attend. Get to know other members of the Danish Club or reconnect with members you know. Bookings are essential – phone 9600 4477.
URL:https://denmarkhouse.com.au/event/presidents-lunch-36/
LOCATION:VIC
CATEGORIES:Club Event,Lunch
END:VEVENT
BEGIN:VEVENT
DTSTART;TZID=Australia/Melbourne:20241005T120000
DTEND;TZID=Australia/Melbourne:20241005T160000
DTSTAMP:20260423T084942
CREATED:20231012T030831Z
LAST-MODIFIED:20240611T030212Z
UID:10000380-1728129600-1728144000@denmarkhouse.com.au
SUMMARY:Buffet Lunch
DESCRIPTION:Every first Saturday of the month – DENMARKhouse serves a traditional Danish buffet lunch with frikadeller\, gravad laks\, crumbed fish with remoulade\, pickled herring and all your other (Danish) lunch favourites!
URL:https://denmarkhouse.com.au/event/buffet-lunch-24/
LOCATION:VIC
CATEGORIES:Lunch,Public
ATTACH;FMTTYPE=image/jpeg:https://denmarkhouse.com.au/wp-content/uploads/2023/10/IMG_49284.CR2_.jpg
END:VEVENT
BEGIN:VEVENT
DTSTART;TZID=Australia/Melbourne:20241016T120000
DTEND;TZID=Australia/Melbourne:20241016T150000
DTSTAMP:20260423T084942
CREATED:20231012T015819Z
LAST-MODIFIED:20240823T013836Z
UID:10000371-1729080000-1729090800@denmarkhouse.com.au
SUMMARY:Præsidenten’s Taffel
DESCRIPTION:Join us at the President’s Lunch at Denmark House where current president Alexander Nielsen or other committee members attend. Get to know other members of the Danish Club or reconnect with members you know. Bookings are essential – phone 9600 4477.
URL:https://denmarkhouse.com.au/event/presidents-lunch-37/
LOCATION:VIC
CATEGORIES:Club Event,Lunch
END:VEVENT
BEGIN:VEVENT
DTSTART;TZID=Australia/Melbourne:20241102T120000
DTEND;TZID=Australia/Melbourne:20241102T160000
DTSTAMP:20260423T084942
CREATED:20231012T030935Z
LAST-MODIFIED:20241110T055654Z
UID:10000381-1730548800-1730563200@denmarkhouse.com.au
SUMMARY:Buffet Lunch
DESCRIPTION:On the first Saturday of every month Denmark House serves a buffet lunch with all of your favourite traditional Danish food\, including meatballs\, gravad laks\, roast pork\, crumbed fish with remoulade\, pickled herring\, and more. All you can eat including dessert and tea & coffee.
URL:https://denmarkhouse.com.au/event/buffet-lunch-25/
LOCATION:VIC
CATEGORIES:Lunch,Public
ATTACH;FMTTYPE=image/jpeg:https://denmarkhouse.com.au/wp-content/uploads/2023/10/IMG_49284.CR2_.jpg
END:VEVENT
BEGIN:VEVENT
DTSTART;TZID=Australia/Melbourne:20241120T120000
DTEND;TZID=Australia/Melbourne:20241120T150000
DTSTAMP:20260423T084942
CREATED:20231012T015911Z
LAST-MODIFIED:20240823T013903Z
UID:10000372-1732104000-1732114800@denmarkhouse.com.au
SUMMARY:Præsidenten’s Taffel
DESCRIPTION:Join us at the President’s Lunch at Denmark House where current president Alexander Nielsen or other committee members attend. Get to know other members of the Danish Club or reconnect with members you know. Bookings are essential – phone 9600 4477.
URL:https://denmarkhouse.com.au/event/presidents-lunch-38/
LOCATION:VIC
CATEGORIES:Club Event,Lunch
END:VEVENT
BEGIN:VEVENT
DTSTART;TZID=Australia/Melbourne:20241130T110000
DTEND;TZID=Australia/Melbourne:20241130T140000
DTSTAMP:20260423T084942
CREATED:20240920T070211Z
LAST-MODIFIED:20240923T050044Z
UID:10000424-1732964400-1732975200@denmarkhouse.com.au
SUMMARY:Julefrokost
DESCRIPTION:Join us for our annual Christmas Buffet Lunch. Sit under the tree and enjoy a traditional festive day with all your favourite fare.
URL:https://denmarkhouse.com.au/event/danish-christmas-buffet-lunch/
LOCATION:VIC
CATEGORIES:Cultural Event,Lunch,Public
END:VEVENT
BEGIN:VEVENT
DTSTART;TZID=Australia/Melbourne:20241130T150000
DTEND;TZID=Australia/Melbourne:20241130T180000
DTSTAMP:20260423T084942
CREATED:20240923T050429Z
LAST-MODIFIED:20241127T044132Z
UID:10000426-1732978800-1732989600@denmarkhouse.com.au
SUMMARY:Julefrokost - Selling fast
DESCRIPTION:Join us for our annual Christmas Buffet Lunch. Sit under the tree and enjoy a traditional festive day with all your favourite fare.
URL:https://denmarkhouse.com.au/event/julefrokost/
LOCATION:VIC
CATEGORIES:Cultural Event,Lunch,Public
END:VEVENT
BEGIN:VEVENT
DTSTART;TZID=Australia/Melbourne:20241207T110000
DTEND;TZID=Australia/Melbourne:20241207T140000
DTSTAMP:20260423T084942
CREATED:20240924T050456Z
LAST-MODIFIED:20241127T015203Z
UID:10000428-1733569200-1733580000@denmarkhouse.com.au
SUMMARY:Julefrokost - Selling fast
DESCRIPTION:Join us for our annual Christmas Buffet Lunch. Sit under the tree and enjoy a traditional festive day with all your favourite fare.
URL:https://denmarkhouse.com.au/event/julefrokost-2/
LOCATION:VIC
CATEGORIES:Cultural Event,Lunch,Public
END:VEVENT
BEGIN:VEVENT
DTSTART;TZID=Australia/Melbourne:20241207T150000
DTEND;TZID=Australia/Melbourne:20241207T180000
DTSTAMP:20260423T084942
CREATED:20241015T042010Z
LAST-MODIFIED:20241017T022224Z
UID:10000433-1733583600-1733594400@denmarkhouse.com.au
SUMMARY:Julefrokost
DESCRIPTION:Join us for our annual Christmas Buffet Lunch. Sit under the tree and enjoy a traditional festive day with all your favourite fare.
URL:https://denmarkhouse.com.au/event/julefrokost-5/
LOCATION:VIC
CATEGORIES:Cultural Event,Lunch,Public
END:VEVENT
BEGIN:VEVENT
DTSTART;TZID=Australia/Melbourne:20241214T110000
DTEND;TZID=Australia/Melbourne:20241214T140000
DTSTAMP:20260423T084942
CREATED:20240924T050530Z
LAST-MODIFIED:20241127T015059Z
UID:10000429-1734174000-1734184800@denmarkhouse.com.au
SUMMARY:Julefrokost - Selling fast
DESCRIPTION:Join us for our annual Christmas Buffet Lunch. Sit under the tree and enjoy a traditional festive day with all your favourite fare.
URL:https://denmarkhouse.com.au/event/julefrokost-3/
LOCATION:VIC
CATEGORIES:Cultural Event,Lunch,Public
END:VEVENT
BEGIN:VEVENT
DTSTART;TZID=Australia/Melbourne:20241214T150000
DTEND;TZID=Australia/Melbourne:20241214T180000
DTSTAMP:20260423T084942
CREATED:20241015T042048Z
LAST-MODIFIED:20241017T023238Z
UID:10000434-1734188400-1734199200@denmarkhouse.com.au
SUMMARY:Julefrokost
DESCRIPTION:Join us for our annual Christmas Buffet Lunch. Sit under the tree and enjoy a traditional festive day with all your favourite fare.
URL:https://denmarkhouse.com.au/event/julefrokost-6/
LOCATION:VIC
CATEGORIES:Cultural Event,Lunch,Public
END:VEVENT
BEGIN:VEVENT
DTSTART;TZID=Australia/Melbourne:20241218T120000
DTEND;TZID=Australia/Melbourne:20241218T150000
DTSTAMP:20260423T084942
CREATED:20231012T020010Z
LAST-MODIFIED:20241110T055230Z
UID:10000373-1734523200-1734534000@denmarkhouse.com.au
SUMMARY:Præsidenten’s Taffel
DESCRIPTION:Join us for the monthly President’s Lunch at Denmark House to share a communal lunch and get to know other members of the Danish Club or reconnect with people you know. Price includes 4 smørrebrød\, akvavit\, dessert\, and coffee. Bookings are essential – phone 9600 4477 or email info@denmarkhouse.com.au to RSVP.
URL:https://denmarkhouse.com.au/event/presidents-lunch-39/
LOCATION:VIC
CATEGORIES:Club Event,Lunch
END:VEVENT
BEGIN:VEVENT
DTSTART;TZID=Australia/Melbourne:20241221T110000
DTEND;TZID=Australia/Melbourne:20241221T140000
DTSTAMP:20260423T084942
CREATED:20240924T050607Z
LAST-MODIFIED:20241010T233522Z
UID:10000430-1734778800-1734789600@denmarkhouse.com.au
SUMMARY:Julefrokost
DESCRIPTION:Join us for our annual Christmas Buffet Lunch. Sit under the tree and enjoy a traditional festive day with all your favourite fare.
URL:https://denmarkhouse.com.au/event/julefrokost-4/
LOCATION:VIC
CATEGORIES:Cultural Event,Lunch,Public
END:VEVENT
BEGIN:VEVENT
DTSTART;VALUE=DATE:20250114
DTEND;VALUE=DATE:20250115
DTSTAMP:20260423T084942
CREATED:20240923T050645Z
LAST-MODIFIED:20241208T233119Z
UID:10000427-1736812800-1736899199@denmarkhouse.com.au
SUMMARY:Reopening for 2025
DESCRIPTION:Welcome back to the Danish Club Dannebrog and Denmark House. \nWe are excited to be back\, and showing off our new summer menu. \nBook a table for lunch or dinner via OpenTable \nBook Here
URL:https://denmarkhouse.com.au/event/reopening-for-2025/
LOCATION:Denmark House\, L3 428 Lt Bourke St\, Melbourne\, VIC\, 3000\, Australia
CATEGORIES:Lunch
ORGANIZER;CN="Denmark House":MAILTO:info@denmarkhouse.com.au
END:VEVENT
BEGIN:VEVENT
DTSTART;TZID=Australia/Melbourne:20250301T120000
DTEND;TZID=Australia/Melbourne:20250301T160000
DTSTAMP:20260423T084942
CREATED:20241015T043035Z
LAST-MODIFIED:20250226T030531Z
UID:10000436-1740830400-1740844800@denmarkhouse.com.au
SUMMARY:Monthly buffet
DESCRIPTION:For decades our Monthly Danish Lunch Buffet has been a hallmark at Denmark House.  \nOn the first Saturday of every month Denmark House serves our popular Danish buffet lunch with all of your favorite traditional Danish food\, including pickled herring\, gravad laks\, roast pork\, crumbed fish with remoulade\, meatballs\, dessert\, tea & coffee and more. \n$55 for Danish Club Members – $65 for Guest/non members – $25 for children
URL:https://denmarkhouse.com.au/event/monthly-buffet-2/
LOCATION:Denmark House\, L3 428 Lt Bourke St\, Melbourne\, VIC\, 3000\, Australia
CATEGORIES:Lunch,Public
ORGANIZER;CN="Denmark House":MAILTO:info@denmarkhouse.com.au
END:VEVENT
BEGIN:VEVENT
DTSTART;TZID=Australia/Melbourne:20250405T120000
DTEND;TZID=Australia/Melbourne:20250405T160000
DTSTAMP:20260423T084942
CREATED:20241015T043128Z
LAST-MODIFIED:20250226T030410Z
UID:10000437-1743854400-1743868800@denmarkhouse.com.au
SUMMARY:Easter Buffet Lunch
DESCRIPTION:For decades our Monthly Danish Lunch Buffet has been a hallmark at Denmark House.  \nOn the first Saturday of every month Denmark House serves our popular Danish buffet lunch with all of your favorite traditional Danish food\, including pickled herring\, gravad laks\, roast pork\, crumbed fish with remoulade\, meatballs\, dessert\, tea & coffee and more. \n$55 for Danish Club Members – $65 for Guest/non members – $25 for children
URL:https://denmarkhouse.com.au/event/monthly-buffet-3/
LOCATION:Denmark House\, L3 428 Lt Bourke St\, Melbourne\, VIC\, 3000\, Australia
CATEGORIES:Lunch,Public
ORGANIZER;CN="Denmark House":MAILTO:info@denmarkhouse.com.au
END:VEVENT
BEGIN:VEVENT
DTSTART;TZID=Australia/Melbourne:20250416T120000
DTEND;TZID=Australia/Melbourne:20250416T160000
DTSTAMP:20260423T084942
CREATED:20250124T014507Z
LAST-MODIFIED:20250408T232116Z
UID:10000460-1744804800-1744819200@denmarkhouse.com.au
SUMMARY:Members' only event: Queen Margrethe II Birthday Lunch & Præsidentens Taffel
DESCRIPTION:Join us for Queen Margrethe II birthday and our monthly President’s Lunch at Denmark House to share a communal lunch and get to know other members of the Danish Club or reconnect with friends. \nPrice includes four smørrebrød\, akvavit\, wienerbrød\, tea and coffee. \nBookings are essential – Please book your ticket via our website.
URL:https://denmarkhouse.com.au/event/queen-margrethe-ii-birthday-lunch/
LOCATION:VIC
CATEGORIES:Club Event,Cultural Event,Lunch
ATTACH;FMTTYPE=image/jpeg:https://denmarkhouse.com.au/wp-content/uploads/2024/01/Queen-Margrethe-officially-abdicate-1.jpeg
END:VEVENT
BEGIN:VEVENT
DTSTART;TZID=Australia/Melbourne:20250503T120000
DTEND;TZID=Australia/Melbourne:20250503T160000
DTSTAMP:20260423T084942
CREATED:20241015T043213Z
LAST-MODIFIED:20250417T021328Z
UID:10000438-1746273600-1746288000@denmarkhouse.com.au
SUMMARY:Monthly buffet - May 2025 Sold out
DESCRIPTION:For decades our Monthly Danish Lunch Buffet has been a hallmark at Denmark House.  \nOn the first Saturday of every month Denmark House serves our popular Danish buffet lunch with all of your favorite traditional Danish food\, including pickled herring\, gravad laks\, roast pork\, crumbed fish with remoulade\, meatballs\, dessert\, tea & coffee and more. \n$55 for Danish Club Members – $65 for Guest/non members – $25 for children
URL:https://denmarkhouse.com.au/event/monthly-buffet-4/
LOCATION:Denmark House\, L3 428 Lt Bourke St\, Melbourne\, VIC\, 3000\, Australia
CATEGORIES:Lunch,Public
ORGANIZER;CN="Denmark House":MAILTO:info@denmarkhouse.com.au
END:VEVENT
BEGIN:VEVENT
DTSTART;TZID=Australia/Melbourne:20250607T120000
DTEND;TZID=Australia/Melbourne:20250607T160000
DTSTAMP:20260423T084942
CREATED:20241015T043300Z
LAST-MODIFIED:20250604T040721Z
UID:10000439-1749297600-1749312000@denmarkhouse.com.au
SUMMARY:Monthly buffet - June 2025
DESCRIPTION:For decades our Monthly Danish Lunch Buffet has been a hallmark at Denmark House.  \nOn the first Saturday of every month Denmark House serves our popular Danish buffet lunch with all of your favorite traditional Danish food\, including pickled herring\, gravad laks\, roast pork\, crumbed fish with remoulade\, meatballs\, dessert\, tea & coffee and more. \n$55 for Danish Club Members – $65 for Guest/non members – $25 for children
URL:https://denmarkhouse.com.au/event/monthly-buffet-5/
LOCATION:Denmark House\, L3 428 Lt Bourke St\, Melbourne\, VIC\, 3000\, Australia
CATEGORIES:Lunch,Public
ORGANIZER;CN="Denmark House":MAILTO:info@denmarkhouse.com.au
END:VEVENT
BEGIN:VEVENT
DTSTART;TZID=Australia/Melbourne:20250705T120000
DTEND;TZID=Australia/Melbourne:20250705T160000
DTSTAMP:20260423T084942
CREATED:20241015T043344Z
LAST-MODIFIED:20250702T043551Z
UID:10000440-1751716800-1751731200@denmarkhouse.com.au
SUMMARY:Christmas in July buffet #1 SOLD OUT
DESCRIPTION:For decades our Monthly Danish Lunch Buffet has been a hallmark at Denmark House. \nThis July we will celebrate Christmas in July with our popular Christmas buffet. \nOur buffet include all of your favorite traditional Danish food\, including pickled herring\, gravad laks\, roast pork\, roast duck\, crumbed fish with remoulade\, meatballs\, risalamande (traditional Danish rice pudding)\, tea & coffee and more. \n$65 for Danish Club Members – $75 for Guest/non members – $30 for children under 18.
URL:https://denmarkhouse.com.au/event/monthly-buffet-6/
LOCATION:Denmark House\, L3 428 Lt Bourke St\, Melbourne\, VIC\, 3000\, Australia
CATEGORIES:Lunch,Public
ATTACH;FMTTYPE=image/jpeg:https://denmarkhouse.com.au/wp-content/uploads/2024/10/Juleand-e1751430940754.jpg
ORGANIZER;CN="Denmark House":MAILTO:info@denmarkhouse.com.au
END:VEVENT
BEGIN:VEVENT
DTSTART;TZID=Australia/Melbourne:20250712T120000
DTEND;TZID=Australia/Melbourne:20250712T160000
DTSTAMP:20260423T084942
CREATED:20250522T074918Z
LAST-MODIFIED:20250707T044048Z
UID:10000500-1752321600-1752336000@denmarkhouse.com.au
SUMMARY:Christmas in July buffet #2 SOLD OUT
DESCRIPTION:For decades our Monthly Danish Lunch Buffet has been a hallmark at Denmark House. \nThis July we will celebrate Christmas in July with our popular Christmas buffet. \nOur buffet include all of your favorite traditional Danish food\, including pickled herring\, gravad laks\, roast pork\, roast duck\, crumbed fish with remoulade\, meatballs\, risalamande (traditional Danish rice pudding)\, tea & coffee and more. \n$65 for Danish Club Members – $75 for Guest/non members – $30 for children under 18
URL:https://denmarkhouse.com.au/event/christmas-in-july-buffet-2/
LOCATION:Denmark House\, L3 428 Lt Bourke St\, Melbourne\, VIC\, 3000\, Australia
CATEGORIES:Lunch,Public
ATTACH;FMTTYPE=image/webp:https://denmarkhouse.com.au/wp-content/uploads/2025/05/blog-jul-flaeskesteg-mad-e1751431004819.webp
ORGANIZER;CN="Denmark House":MAILTO:info@denmarkhouse.com.au
END:VEVENT
BEGIN:VEVENT
DTSTART;TZID=Australia/Melbourne:20250719T120000
DTEND;TZID=Australia/Melbourne:20250719T160000
DTSTAMP:20260423T084942
CREATED:20250604T001037Z
LAST-MODIFIED:20250710T022346Z
UID:10000510-1752926400-1752940800@denmarkhouse.com.au
SUMMARY:Christmas in July buffet #3
DESCRIPTION:For decades our Monthly Danish Lunch Buffet has been a hallmark at Denmark House. \nThis July we will celebrate Christmas in July with our popular Christmas buffet. \nOur buffet include all of your favorite traditional Danish food\, including pickled herring\, gravad laks\, roast pork\, roast duck\, crumbed fish with remoulade\, meatballs\, risalamande (traditional Danish rice pudding)\, tea & coffee and more. \n$65 for Danish Club Members – $75 for Guest/non members – $30 for children under 18
URL:https://denmarkhouse.com.au/event/christmas-in-july-buffet-3/
LOCATION:Denmark House\, L3 428 Lt Bourke St\, Melbourne\, VIC\, 3000\, Australia
CATEGORIES:Lunch,Public
ATTACH;FMTTYPE=image/jpeg:https://denmarkhouse.com.au/wp-content/uploads/2025/06/juniper-rubbed-roast-duck-with-cherry-jus.jpg
ORGANIZER;CN="Denmark House":MAILTO:info@denmarkhouse.com.au
END:VEVENT
BEGIN:VEVENT
DTSTART;TZID=Australia/Melbourne:20250906T120000
DTEND;TZID=Australia/Melbourne:20250906T160000
DTSTAMP:20260423T084942
CREATED:20241015T043632Z
LAST-MODIFIED:20250903T083134Z
UID:10000442-1757160000-1757174400@denmarkhouse.com.au
SUMMARY:Monthly buffet - September 2025 SOLD OUT
DESCRIPTION:For decades our Monthly Danish Lunch Buffet has been a hallmark at Denmark House.  \nOn the first Saturday of every month Denmark House serves our popular Danish buffet lunch with all of your favorite traditional Danish food\, including pickled herring\, gravad laks\, roast pork\, crumbed fish with remoulade\, meatballs\, dessert\, tea & coffee and more. \n$65 for Danish Club Members – $75 for Guest/non members – $30 for children
URL:https://denmarkhouse.com.au/event/monthly-buffet-9/
LOCATION:Denmark House\, L3 428 Lt Bourke St\, Melbourne\, VIC\, 3000\, Australia
CATEGORIES:Lunch,Public
ORGANIZER;CN="Denmark House":MAILTO:info@denmarkhouse.com.au
END:VEVENT
BEGIN:VEVENT
DTSTART;TZID=Australia/Melbourne:20251004T120000
DTEND;TZID=Australia/Melbourne:20251004T160000
DTSTAMP:20260423T084942
CREATED:20241015T043747Z
LAST-MODIFIED:20250522T085732Z
UID:10000443-1759579200-1759593600@denmarkhouse.com.au
SUMMARY:Monthly buffet - October 2025
DESCRIPTION:For decades our Monthly Danish Lunch Buffet has been a hallmark at Denmark House.  \nOn the first Saturday of every month Denmark House serves our popular Danish buffet lunch with all of your favorite traditional Danish food\, including pickled herring\, gravad laks\, roast pork\, crumbed fish with remoulade\, meatballs\, dessert\, tea & coffee and more. \n$65 for Danish Club Members – $75 for Guest/non members – $30 for children
URL:https://denmarkhouse.com.au/event/monthly-buffet-10/
LOCATION:Denmark House\, L3 428 Lt Bourke St\, Melbourne\, VIC\, 3000\, Australia
CATEGORIES:Lunch,Public
ORGANIZER;CN="Denmark House":MAILTO:info@denmarkhouse.com.au
END:VEVENT
BEGIN:VEVENT
DTSTART;TZID=Australia/Melbourne:20251101T120000
DTEND;TZID=Australia/Melbourne:20251101T160000
DTSTAMP:20260423T084942
CREATED:20241015T043831Z
LAST-MODIFIED:20251027T014911Z
UID:10000444-1761998400-1762012800@denmarkhouse.com.au
SUMMARY:CANCELLED - Monthly buffet - November 2025
DESCRIPTION:For decades our Monthly Danish Lunch Buffet has been a hallmark at Denmark House.  \nOn the first Saturday of every month Denmark House serves our popular Danish buffet lunch with all of your favorite traditional Danish food\, including pickled herring\, gravad laks\, roast pork\, crumbed fish with remoulade\, meatballs\, dessert\, tea & coffee and more. \n$65 for Danish Club Members – $75 for Guest/non members – $30 for children
URL:https://denmarkhouse.com.au/event/monthly-buffet-11/
LOCATION:Denmark House\, L3 428 Lt Bourke St\, Melbourne\, VIC\, 3000\, Australia
CATEGORIES:Lunch,Public
ORGANIZER;CN="Denmark House":MAILTO:info@denmarkhouse.com.au
END:VEVENT
END:VCALENDAR