BEGIN:VCALENDAR
VERSION:2.0
PRODID:-//Denmark House - ECPv6.15.20//NONSGML v1.0//EN
CALSCALE:GREGORIAN
METHOD:PUBLISH
X-ORIGINAL-URL:https://denmarkhouse.com.au
X-WR-CALDESC:Events for Denmark House
REFRESH-INTERVAL;VALUE=DURATION:PT1H
X-Robots-Tag:noindex
X-PUBLISHED-TTL:PT1H
BEGIN:VTIMEZONE
TZID:Australia/Melbourne
BEGIN:STANDARD
TZOFFSETFROM:+1100
TZOFFSETTO:+1000
TZNAME:AEST
DTSTART:20250405T160000
END:STANDARD
BEGIN:DAYLIGHT
TZOFFSETFROM:+1000
TZOFFSETTO:+1100
TZNAME:AEDT
DTSTART:20251004T160000
END:DAYLIGHT
BEGIN:STANDARD
TZOFFSETFROM:+1100
TZOFFSETTO:+1000
TZNAME:AEST
DTSTART:20260404T160000
END:STANDARD
BEGIN:DAYLIGHT
TZOFFSETFROM:+1000
TZOFFSETTO:+1100
TZNAME:AEDT
DTSTART:20261003T160000
END:DAYLIGHT
BEGIN:STANDARD
TZOFFSETFROM:+1100
TZOFFSETTO:+1000
TZNAME:AEST
DTSTART:20270403T160000
END:STANDARD
BEGIN:DAYLIGHT
TZOFFSETFROM:+1000
TZOFFSETTO:+1100
TZNAME:AEDT
DTSTART:20271002T160000
END:DAYLIGHT
END:VTIMEZONE
BEGIN:VEVENT
DTSTART;TZID=Australia/Melbourne:20261107T120000
DTEND;TZID=Australia/Melbourne:20261107T160000
DTSTAMP:20260421T130325
CREATED:20260415T094747Z
LAST-MODIFIED:20260415T094754Z
UID:10000983-1794052800-1794067200@denmarkhouse.com.au
SUMMARY:Monthly buffet - November 2026
DESCRIPTION:For decades\, our Monthly Danish Lunch Buffet has been a hallmark at The Denmark House. \nHeld on the first Saturday of every month\, this much-loved gathering brings members\, guests\, and families together to enjoy a generous spread of classic Danish favourites in a warm and social setting. Expect a buffet filled with traditional dishes such as pickled herring\, gravad laks\, roast pork\, crumbed fish with remoulade\, meatballs\, dessert\, tea\, coffee\, and more. \nWhether you come for the food\, the atmosphere\, or the company\, the Danish Lunch Buffet is a wonderful way to experience the flavours and hospitality that have long been part of Club life. \n$65 for Danish Club Members$75 for guests and non-members$30 for children
URL:https://denmarkhouse.com.au/event/monthly-buffet-november2026/
LOCATION:Denmark House\, L3 428 Lt Bourke St\, Melbourne\, VIC\, 3000\, Australia
CATEGORIES:Lunch,Public
ORGANIZER;CN="Denmark House":MAILTO:info@denmarkhouse.com.au
END:VEVENT
END:VCALENDAR