BEGIN:VCALENDAR
VERSION:2.0
PRODID:-//Denmark House - ECPv6.15.20//NONSGML v1.0//EN
CALSCALE:GREGORIAN
METHOD:PUBLISH
X-ORIGINAL-URL:https://denmarkhouse.com.au
X-WR-CALDESC:Events for Denmark House
REFRESH-INTERVAL;VALUE=DURATION:PT1H
X-Robots-Tag:noindex
X-PUBLISHED-TTL:PT1H
BEGIN:VTIMEZONE
TZID:Australia/Melbourne
BEGIN:STANDARD
TZOFFSETFROM:+1100
TZOFFSETTO:+1000
TZNAME:AEST
DTSTART:20230401T160000
END:STANDARD
BEGIN:DAYLIGHT
TZOFFSETFROM:+1000
TZOFFSETTO:+1100
TZNAME:AEDT
DTSTART:20230930T160000
END:DAYLIGHT
BEGIN:STANDARD
TZOFFSETFROM:+1100
TZOFFSETTO:+1000
TZNAME:AEST
DTSTART:20240406T160000
END:STANDARD
BEGIN:DAYLIGHT
TZOFFSETFROM:+1000
TZOFFSETTO:+1100
TZNAME:AEDT
DTSTART:20241005T160000
END:DAYLIGHT
BEGIN:STANDARD
TZOFFSETFROM:+1100
TZOFFSETTO:+1000
TZNAME:AEST
DTSTART:20250405T160000
END:STANDARD
BEGIN:DAYLIGHT
TZOFFSETFROM:+1000
TZOFFSETTO:+1100
TZNAME:AEDT
DTSTART:20251004T160000
END:DAYLIGHT
END:VTIMEZONE
BEGIN:VEVENT
DTSTART;TZID=Australia/Melbourne:20240406T120000
DTEND;TZID=Australia/Melbourne:20240406T160000
DTSTAMP:20260425T111305
CREATED:20231012T025916Z
LAST-MODIFIED:20231204T053849Z
UID:10000375-1712404800-1712419200@denmarkhouse.com.au
SUMMARY:Buffet Lunch
DESCRIPTION:Every first Saturday of the month – DENMARKhouse serves a traditional Danish buffet lunch with frikadeller\, gravad laks\, crumbed fish with remoulade\, pickled herring and all your other (Danish) lunch favourites!
URL:https://denmarkhouse.com.au/event/buffet-lunch-18/
CATEGORIES:Lunch,Public
END:VEVENT
BEGIN:VEVENT
DTSTART;TZID=Australia/Melbourne:20240421T110000
DTEND;TZID=Australia/Melbourne:20240421T140000
DTSTAMP:20260425T111305
CREATED:20240323T015055Z
LAST-MODIFIED:20240404T091814Z
UID:10000397-1713697200-1713708000@denmarkhouse.com.au
SUMMARY:SunDaisies - Painting King Frederik X
DESCRIPTION:This Month the SunDaisies have collaborated with Pinot and Picasso to learn how to paint the new King Frederik X. This is perfect for beginners to experts. All materials are supplied\, and the bar will be open to purchase drinks. \nReserve a spot at the link below \n 
URL:https://denmarkhouse.com.au/event/sundaisies-painting-king-frederik-x/
CATEGORIES:Cultural Event,Free Event,Public
END:VEVENT
END:VCALENDAR