BEGIN:VCALENDAR
VERSION:2.0
PRODID:-//Denmark House - ECPv6.15.20//NONSGML v1.0//EN
CALSCALE:GREGORIAN
METHOD:PUBLISH
X-WR-CALNAME:Denmark House
X-ORIGINAL-URL:https://denmarkhouse.com.au
X-WR-CALDESC:Events for Denmark House
REFRESH-INTERVAL;VALUE=DURATION:PT1H
X-Robots-Tag:noindex
X-PUBLISHED-TTL:PT1H
BEGIN:VTIMEZONE
TZID:Australia/Melbourne
BEGIN:STANDARD
TZOFFSETFROM:+1100
TZOFFSETTO:+1000
TZNAME:AEST
DTSTART:20260404T160000
END:STANDARD
BEGIN:DAYLIGHT
TZOFFSETFROM:+1000
TZOFFSETTO:+1100
TZNAME:AEDT
DTSTART:20261003T160000
END:DAYLIGHT
BEGIN:STANDARD
TZOFFSETFROM:+1100
TZOFFSETTO:+1000
TZNAME:AEST
DTSTART:20270403T160000
END:STANDARD
BEGIN:DAYLIGHT
TZOFFSETFROM:+1000
TZOFFSETTO:+1100
TZNAME:AEDT
DTSTART:20271002T160000
END:DAYLIGHT
BEGIN:STANDARD
TZOFFSETFROM:+1100
TZOFFSETTO:+1000
TZNAME:AEST
DTSTART:20280401T160000
END:STANDARD
BEGIN:DAYLIGHT
TZOFFSETFROM:+1000
TZOFFSETTO:+1100
TZNAME:AEDT
DTSTART:20280930T160000
END:DAYLIGHT
END:VTIMEZONE
BEGIN:VEVENT
DTSTART;TZID=Australia/Melbourne:20270901T100000
DTEND;TZID=Australia/Melbourne:20270901T120000
DTSTAMP:20260424T072714
CREATED:20260330T225809Z
LAST-MODIFIED:20260415T005649Z
UID:10000773-1819792800-1819800000@denmarkhouse.com.au
SUMMARY:Dansk Forældregruppe
DESCRIPTION:Free coffee\, tea and wienerbrød\nWould you like to catch up with other Danish parents or parents with a connection to Denmark?\nThen come and share a morning together at The danish club on Wednesdays. For parents with babies and toddlers\, to parents whose children are at school but would like to connect with other Danes. \nWhere:\nThe Denmark house Restaurant & Bar\, Level 3\, 428 Little Bourke St\, Melbourne VIC 3000 \nWhen:\nWeekly\, starting from Wednesday 22 April\, 10-12. \nWhat to bring:\nGood cheers\, open mind\, and if you have a baby – a mat \nFor more information\, please contact Julie.maegaard@denmarkhouse.com.au
URL:https://denmarkhouse.com.au/event/dansk-foraeldregruppe/2027-09-01/
CATEGORIES:Club Event,Free Event,Public
ATTACH;FMTTYPE=image/png:https://denmarkhouse.com.au/wp-content/uploads/2026/03/Parents-group-.png
END:VEVENT
BEGIN:VEVENT
DTSTART;TZID=Australia/Melbourne:20270903T163000
DTEND;TZID=Australia/Melbourne:20270903T193000
DTSTAMP:20260424T072715
CREATED:20260108T071829Z
LAST-MODIFIED:20260415T004538Z
UID:10000608-1819989000-1819999800@denmarkhouse.com.au
SUMMARY:Live jazz with Mark Matthews Duo
DESCRIPTION:The Mark Matthews Duo are back again this year performing in the bar\, playing jazz standards and great tunes. \nHappy hour\, $6 Carlsberg tap and house wines are available from 4–6pm\, and snacks can be purchased from the bar. \nOur Bar snack & dinner menu is available from 4-8pm.
URL:https://denmarkhouse.com.au/event/mark-matthews-jazz-duo-7/2027-09-03/
LOCATION:Denmark House\, L3 428 Lt Bourke St\, Melbourne\, VIC\, 3000\, Australia
CATEGORIES:Free Event,Public
ATTACH;FMTTYPE=image/jpeg:https://denmarkhouse.com.au/wp-content/uploads/2025/01/467738886_10161773570647264_7487513275836355782_n-e1768274689978.jpeg
ORGANIZER;CN="Denmark House":MAILTO:info@denmarkhouse.com.au
END:VEVENT
BEGIN:VEVENT
DTSTART;TZID=Australia/Melbourne:20270908T100000
DTEND;TZID=Australia/Melbourne:20270908T120000
DTSTAMP:20260424T072715
CREATED:20260330T225809Z
LAST-MODIFIED:20260415T005649Z
UID:10000774-1820397600-1820404800@denmarkhouse.com.au
SUMMARY:Dansk Forældregruppe
DESCRIPTION:Free coffee\, tea and wienerbrød\nWould you like to catch up with other Danish parents or parents with a connection to Denmark?\nThen come and share a morning together at The danish club on Wednesdays. For parents with babies and toddlers\, to parents whose children are at school but would like to connect with other Danes. \nWhere:\nThe Denmark house Restaurant & Bar\, Level 3\, 428 Little Bourke St\, Melbourne VIC 3000 \nWhen:\nWeekly\, starting from Wednesday 22 April\, 10-12. \nWhat to bring:\nGood cheers\, open mind\, and if you have a baby – a mat \nFor more information\, please contact Julie.maegaard@denmarkhouse.com.au
URL:https://denmarkhouse.com.au/event/dansk-foraeldregruppe/2027-09-08/
CATEGORIES:Club Event,Free Event,Public
ATTACH;FMTTYPE=image/png:https://denmarkhouse.com.au/wp-content/uploads/2026/03/Parents-group-.png
END:VEVENT
BEGIN:VEVENT
DTSTART;TZID=Australia/Melbourne:20270915T100000
DTEND;TZID=Australia/Melbourne:20270915T120000
DTSTAMP:20260424T072715
CREATED:20260330T225809Z
LAST-MODIFIED:20260415T005649Z
UID:10000775-1821002400-1821009600@denmarkhouse.com.au
SUMMARY:Dansk Forældregruppe
DESCRIPTION:Free coffee\, tea and wienerbrød\nWould you like to catch up with other Danish parents or parents with a connection to Denmark?\nThen come and share a morning together at The danish club on Wednesdays. For parents with babies and toddlers\, to parents whose children are at school but would like to connect with other Danes. \nWhere:\nThe Denmark house Restaurant & Bar\, Level 3\, 428 Little Bourke St\, Melbourne VIC 3000 \nWhen:\nWeekly\, starting from Wednesday 22 April\, 10-12. \nWhat to bring:\nGood cheers\, open mind\, and if you have a baby – a mat \nFor more information\, please contact Julie.maegaard@denmarkhouse.com.au
URL:https://denmarkhouse.com.au/event/dansk-foraeldregruppe/2027-09-15/
CATEGORIES:Club Event,Free Event,Public
ATTACH;FMTTYPE=image/png:https://denmarkhouse.com.au/wp-content/uploads/2026/03/Parents-group-.png
END:VEVENT
BEGIN:VEVENT
DTSTART;TZID=Australia/Melbourne:20270917T163000
DTEND;TZID=Australia/Melbourne:20270917T193000
DTSTAMP:20260424T072715
CREATED:20260108T071829Z
LAST-MODIFIED:20260415T004538Z
UID:10000609-1821198600-1821209400@denmarkhouse.com.au
SUMMARY:Live jazz with Mark Matthews Duo
DESCRIPTION:The Mark Matthews Duo are back again this year performing in the bar\, playing jazz standards and great tunes. \nHappy hour\, $6 Carlsberg tap and house wines are available from 4–6pm\, and snacks can be purchased from the bar. \nOur Bar snack & dinner menu is available from 4-8pm.
URL:https://denmarkhouse.com.au/event/mark-matthews-jazz-duo-7/2027-09-17/
LOCATION:Denmark House\, L3 428 Lt Bourke St\, Melbourne\, VIC\, 3000\, Australia
CATEGORIES:Free Event,Public
ATTACH;FMTTYPE=image/jpeg:https://denmarkhouse.com.au/wp-content/uploads/2025/01/467738886_10161773570647264_7487513275836355782_n-e1768274689978.jpeg
ORGANIZER;CN="Denmark House":MAILTO:info@denmarkhouse.com.au
END:VEVENT
BEGIN:VEVENT
DTSTART;TZID=Australia/Melbourne:20270922T100000
DTEND;TZID=Australia/Melbourne:20270922T120000
DTSTAMP:20260424T072715
CREATED:20260330T225809Z
LAST-MODIFIED:20260415T005649Z
UID:10000776-1821607200-1821614400@denmarkhouse.com.au
SUMMARY:Dansk Forældregruppe
DESCRIPTION:Free coffee\, tea and wienerbrød\nWould you like to catch up with other Danish parents or parents with a connection to Denmark?\nThen come and share a morning together at The danish club on Wednesdays. For parents with babies and toddlers\, to parents whose children are at school but would like to connect with other Danes. \nWhere:\nThe Denmark house Restaurant & Bar\, Level 3\, 428 Little Bourke St\, Melbourne VIC 3000 \nWhen:\nWeekly\, starting from Wednesday 22 April\, 10-12. \nWhat to bring:\nGood cheers\, open mind\, and if you have a baby – a mat \nFor more information\, please contact Julie.maegaard@denmarkhouse.com.au
URL:https://denmarkhouse.com.au/event/dansk-foraeldregruppe/2027-09-22/
CATEGORIES:Club Event,Free Event,Public
ATTACH;FMTTYPE=image/png:https://denmarkhouse.com.au/wp-content/uploads/2026/03/Parents-group-.png
END:VEVENT
BEGIN:VEVENT
DTSTART;TZID=Australia/Melbourne:20270929T100000
DTEND;TZID=Australia/Melbourne:20270929T120000
DTSTAMP:20260424T072715
CREATED:20260330T225809Z
LAST-MODIFIED:20260415T005649Z
UID:10000777-1822212000-1822219200@denmarkhouse.com.au
SUMMARY:Dansk Forældregruppe
DESCRIPTION:Free coffee\, tea and wienerbrød\nWould you like to catch up with other Danish parents or parents with a connection to Denmark?\nThen come and share a morning together at The danish club on Wednesdays. For parents with babies and toddlers\, to parents whose children are at school but would like to connect with other Danes. \nWhere:\nThe Denmark house Restaurant & Bar\, Level 3\, 428 Little Bourke St\, Melbourne VIC 3000 \nWhen:\nWeekly\, starting from Wednesday 22 April\, 10-12. \nWhat to bring:\nGood cheers\, open mind\, and if you have a baby – a mat \nFor more information\, please contact Julie.maegaard@denmarkhouse.com.au
URL:https://denmarkhouse.com.au/event/dansk-foraeldregruppe/2027-09-29/
CATEGORIES:Club Event,Free Event,Public
ATTACH;FMTTYPE=image/png:https://denmarkhouse.com.au/wp-content/uploads/2026/03/Parents-group-.png
END:VEVENT
END:VCALENDAR