BEGIN:VCALENDAR
VERSION:2.0
PRODID:-//Denmark House - ECPv6.15.20//NONSGML v1.0//EN
CALSCALE:GREGORIAN
METHOD:PUBLISH
X-ORIGINAL-URL:https://denmarkhouse.com.au
X-WR-CALDESC:Events for Denmark House
REFRESH-INTERVAL;VALUE=DURATION:PT1H
X-Robots-Tag:noindex
X-PUBLISHED-TTL:PT1H
BEGIN:VTIMEZONE
TZID:Australia/Melbourne
BEGIN:STANDARD
TZOFFSETFROM:+1100
TZOFFSETTO:+1000
TZNAME:AEST
DTSTART:20230401T160000
END:STANDARD
BEGIN:DAYLIGHT
TZOFFSETFROM:+1000
TZOFFSETTO:+1100
TZNAME:AEDT
DTSTART:20230930T160000
END:DAYLIGHT
BEGIN:STANDARD
TZOFFSETFROM:+1100
TZOFFSETTO:+1000
TZNAME:AEST
DTSTART:20240406T160000
END:STANDARD
BEGIN:DAYLIGHT
TZOFFSETFROM:+1000
TZOFFSETTO:+1100
TZNAME:AEDT
DTSTART:20241005T160000
END:DAYLIGHT
BEGIN:STANDARD
TZOFFSETFROM:+1100
TZOFFSETTO:+1000
TZNAME:AEST
DTSTART:20250405T160000
END:STANDARD
BEGIN:DAYLIGHT
TZOFFSETFROM:+1000
TZOFFSETTO:+1100
TZNAME:AEDT
DTSTART:20251004T160000
END:DAYLIGHT
END:VTIMEZONE
BEGIN:VEVENT
DTSTART;TZID=Australia/Melbourne:20241020T140000
DTEND;TZID=Australia/Melbourne:20241020T170000
DTSTAMP:20260424T214006
CREATED:20240823T014245Z
LAST-MODIFIED:20241004T080024Z
UID:10000420-1729432800-1729443600@denmarkhouse.com.au
SUMMARY:SunDaisy - Jewellery Making
DESCRIPTION:Join us for an afternoon of “hygge” in good company with other like-minded crafters and crafters to be. Experienced + beginners\, young + old\, members and non-members\, everyone is welcome! \nThis month we will be enjoying making jewellery including earrings\, necklaces\, and bracelets from glass and paper beads using recycled magazines\, Christmas themed charms\, and more! All materials will be supplied\, including tea and coffee and light snacks. Our bar will be open to purchase drinks. This is a free event\, all we ask is that you please register so we have an idea of how many people will be attending on the day. \n“It gives us peace of mind\, sitting there with a piece of needlework or working on something else with our hands\, this goes for all age groups”  – Queen Margrethe ll
URL:https://denmarkhouse.com.au/event/sundaisies-jewellery/
CATEGORIES:Cultural Event,Free Event,Public
ATTACH;FMTTYPE=image/jpeg:https://denmarkhouse.com.au/wp-content/uploads/2024/09/image7.jpeg
END:VEVENT
END:VCALENDAR