BEGIN:VCALENDAR
VERSION:2.0
PRODID:-//Denmark House - ECPv6.15.20//NONSGML v1.0//EN
CALSCALE:GREGORIAN
METHOD:PUBLISH
X-WR-CALNAME:Denmark House
X-ORIGINAL-URL:https://denmarkhouse.com.au
X-WR-CALDESC:Events for Denmark House
REFRESH-INTERVAL;VALUE=DURATION:PT1H
X-Robots-Tag:noindex
X-PUBLISHED-TTL:PT1H
BEGIN:VTIMEZONE
TZID:UTC
BEGIN:STANDARD
TZOFFSETFROM:+0000
TZOFFSETTO:+0000
TZNAME:UTC
DTSTART:20200101T000000
END:STANDARD
END:VTIMEZONE
BEGIN:VEVENT
DTSTART;TZID=UTC:20210519T180000
DTEND;TZID=UTC:20210519T220000
DTSTAMP:20260426T012331
CREATED:20210510T022446Z
LAST-MODIFIED:20210510T022806Z
UID:10000258-1621447200-1621461600@denmarkhouse.com.au
SUMMARY:Good Beer Week
DESCRIPTION:Good Beer Week is celebrated with a Danish Craft Beer Dinner at Denmark House. \nWe serve a communal dinner matched with Danish craft beer from Mikkeller\, Beer Here and Amager Bryghus. Event is ticketed through Good Beer Week’s website
URL:https://denmarkhouse.com.au/event/good-beer-week/
LOCATION:Denmark House\, L3 428 Lt Bourke St\, Melbourne\, VIC\, 3000\, Australia
CATEGORIES:Public
END:VEVENT
BEGIN:VEVENT
DTSTART;TZID=UTC:20210519T000000
DTEND;TZID=UTC:20210519T140000
DTSTAMP:20260426T012331
CREATED:20210506T190433Z
LAST-MODIFIED:20210510T022906Z
UID:10000237-1621382400-1621432800@denmarkhouse.com.au
SUMMARY:President's lunch
DESCRIPTION:Join us at the President’s Table at Denmark House where current president Alexander Nielsen or other committee members attend. Bookings are essential – phone 9600 4477.
URL:https://denmarkhouse.com.au/event/888/
LOCATION:Denmark House\, L3 428 Lt Bourke St\, Melbourne\, VIC\, 3000\, Australia
CATEGORIES:Lunch
ORGANIZER;CN="Danish Club":MAILTO:info@denmarkhouse.com.au
END:VEVENT
END:VCALENDAR