BEGIN:VCALENDAR
VERSION:2.0
PRODID:-//Denmark House - ECPv6.15.20//NONSGML v1.0//EN
CALSCALE:GREGORIAN
METHOD:PUBLISH
X-WR-CALNAME:Denmark House
X-ORIGINAL-URL:https://denmarkhouse.com.au
X-WR-CALDESC:Events for Denmark House
REFRESH-INTERVAL;VALUE=DURATION:PT1H
X-Robots-Tag:noindex
X-PUBLISHED-TTL:PT1H
BEGIN:VTIMEZONE
TZID:Australia/Melbourne
BEGIN:STANDARD
TZOFFSETFROM:+1100
TZOFFSETTO:+1000
TZNAME:AEST
DTSTART:20220402T160000
END:STANDARD
BEGIN:DAYLIGHT
TZOFFSETFROM:+1000
TZOFFSETTO:+1100
TZNAME:AEDT
DTSTART:20221001T160000
END:DAYLIGHT
BEGIN:STANDARD
TZOFFSETFROM:+1100
TZOFFSETTO:+1000
TZNAME:AEST
DTSTART:20230401T160000
END:STANDARD
BEGIN:DAYLIGHT
TZOFFSETFROM:+1000
TZOFFSETTO:+1100
TZNAME:AEDT
DTSTART:20230930T160000
END:DAYLIGHT
BEGIN:STANDARD
TZOFFSETFROM:+1100
TZOFFSETTO:+1000
TZNAME:AEST
DTSTART:20240406T160000
END:STANDARD
BEGIN:DAYLIGHT
TZOFFSETFROM:+1000
TZOFFSETTO:+1100
TZNAME:AEDT
DTSTART:20241005T160000
END:DAYLIGHT
END:VTIMEZONE
BEGIN:VTIMEZONE
TZID:UTC
BEGIN:STANDARD
TZOFFSETFROM:+0000
TZOFFSETTO:+0000
TZNAME:UTC
DTSTART:20210101T000000
END:STANDARD
END:VTIMEZONE
BEGIN:VEVENT
DTSTART;TZID=Australia/Melbourne:20230604T140000
DTEND;TZID=Australia/Melbourne:20230604T170000
DTSTAMP:20260424T084415
CREATED:20230519T025500Z
LAST-MODIFIED:20230519T025500Z
UID:10000350-1685887200-1685898000@denmarkhouse.com.au
SUMMARY:KLASK! World Championship Qualifier
DESCRIPTION:Denmark House is hosting the KLASK! World Championship Qualifier for the state of Victoria. Winners will qualify to compete at the National Qualifier in Sydney\, and possibly on to the World Championships in Helsinki.
URL:https://denmarkhouse.com.au/event/klask-world-championship-qualifier/
END:VEVENT
BEGIN:VEVENT
DTSTART;TZID=Australia/Melbourne:20230603T120000
DTEND;TZID=Australia/Melbourne:20230603T150000
DTSTAMP:20260424T084415
CREATED:20230128T001158Z
LAST-MODIFIED:20230128T001158Z
UID:10000301-1685793600-1685804400@denmarkhouse.com.au
SUMMARY:Buffet Lunch
DESCRIPTION:Every first Saturday of the month – DENMARKhouse serves a traditional Danish buffet lunch with frikadeller\, gravad laks\, crumbed fish with remoulade\, pickled herring and all your other (Danish) lunch favourites! \nBook your seat today
URL:https://denmarkhouse.com.au/event/buffet-lunch-12/
LOCATION:Denmark House\, L3 428 Lt Bourke St\, Melbourne\, VIC\, 3000\, Australia
CATEGORIES:Lunch,Public
ORGANIZER;CN="Denmark House":MAILTO:info@denmarkhouse.com.au
END:VEVENT
BEGIN:VEVENT
DTSTART;TZID=Australia/Melbourne:20230531T180000
DTEND;TZID=Australia/Melbourne:20230531T200000
DTSTAMP:20260424T084415
CREATED:20230128T014447Z
LAST-MODIFIED:20230128T014447Z
UID:10000321-1685556000-1685563200@denmarkhouse.com.au
SUMMARY:Members' Dinner
DESCRIPTION:Join other members of the Danish Club for a communal meal at Denmark House – bookings are essential ph 9600 4477
URL:https://denmarkhouse.com.au/event/members-dinner-20/
LOCATION:Denmark House\, L3 428 Lt Bourke St\, Melbourne\, VIC\, 3000\, Australia
CATEGORIES:Club Event,Dinner
ORGANIZER;CN="Danish Club":MAILTO:info@denmarkhouse.com.au
END:VEVENT
BEGIN:VEVENT
DTSTART;TZID=Australia/Melbourne:20230526T180000
DTEND;TZID=Australia/Melbourne:20230526T220000
DTSTAMP:20260424T084415
CREATED:20230309T033131Z
LAST-MODIFIED:20230309T033131Z
UID:10000346-1685124000-1685138400@denmarkhouse.com.au
SUMMARY:Good Beer Week Craft Beer Dinner
DESCRIPTION:Denmark VS Australia Independent Craft Beer Dinner. Start with canapés\nand a tap beer followed by a three course communal sit down dinner all\nmatched with competing craft beers from Denmark and Australia. lets see\nwho has the best!!
URL:https://denmarkhouse.com.au/event/good-beer-week-craft-beer-dinner/
LOCATION:Denmark House\, L3 428 Lt Bourke St\, Melbourne\, VIC\, 3000\, Australia
ORGANIZER;CN="Denmark House":MAILTO:info@denmarkhouse.com.au
END:VEVENT
BEGIN:VEVENT
DTSTART;TZID=Australia/Melbourne:20230517T120000
DTEND;TZID=Australia/Melbourne:20230517T140000
DTSTAMP:20260424T084415
CREATED:20230128T005501Z
LAST-MODIFIED:20230128T005501Z
UID:10000310-1684324800-1684332000@denmarkhouse.com.au
SUMMARY:President's Lunch
DESCRIPTION:Join us at the President’s Lunch at Denmark House where current president Alexander Nielsen or other committee members attend. Get to know other members of the Danish Club or reconnect with members you know. \nBookings are essential – phone 9600 4477.
URL:https://denmarkhouse.com.au/event/presidents-lunch-21/
LOCATION:Denmark House\, L3 428 Lt Bourke St\, Melbourne\, VIC\, 3000\, Australia
CATEGORIES:Club Event,Lunch
ORGANIZER;CN="Danish Club":MAILTO:info@denmarkhouse.com.au
END:VEVENT
BEGIN:VEVENT
DTSTART;TZID=Australia/Melbourne:20230514T190000
DTEND;TZID=Australia/Melbourne:20230514T220000
DTSTAMP:20260424T084415
CREATED:20230309T032415Z
LAST-MODIFIED:20230309T032415Z
UID:10000345-1684090800-1684101600@denmarkhouse.com.au
SUMMARY:Eurovision Song Contest Party
DESCRIPTION:Come and enjoy all the fun of Eurovision at our annual viewing party. All the action on our shown on our large projector screen with bar snacks and drinks available for purchase. Enjoy singing along with some Danish beer\, an akvavit and one of our famous Danish hot dogs. Entry is free
URL:https://denmarkhouse.com.au/event/eurovision-song-contest-party/
LOCATION:Denmark House\, L3 428 Lt Bourke St\, Melbourne\, VIC\, 3000\, Australia
ORGANIZER;CN="Denmark House":MAILTO:info@denmarkhouse.com.au
END:VEVENT
BEGIN:VEVENT
DTSTART;TZID=Australia/Melbourne:20230506T120000
DTEND;TZID=Australia/Melbourne:20230506T150000
DTSTAMP:20260424T084415
CREATED:20230128T000737Z
LAST-MODIFIED:20230128T004819Z
UID:10000300-1683374400-1683385200@denmarkhouse.com.au
SUMMARY:Buffet Lunch
DESCRIPTION:Every first Saturday of the month – DENMARKhouse serves a traditional Danish buffet lunch with frikadeller\, gravad laks\, crumbed fish with remoulade\, pickled herring and all your other (Danish) lunch favourites! \nBook your seat today
URL:https://denmarkhouse.com.au/event/buffet-lunch-11/
LOCATION:Denmark House\, L3 428 Lt Bourke St\, Melbourne\, VIC\, 3000\, Australia
CATEGORIES:Lunch,Public
END:VEVENT
BEGIN:VEVENT
DTSTART;TZID=Australia/Melbourne:20230426T180000
DTEND;TZID=Australia/Melbourne:20230426T200000
DTSTAMP:20260424T084415
CREATED:20230128T011448Z
LAST-MODIFIED:20230128T014312Z
UID:10000320-1682532000-1682539200@denmarkhouse.com.au
SUMMARY:Members' Dinner
DESCRIPTION:Join other members of the Danish Club for a communal meal at Denmark House – bookings are essential ph 9600 4477
URL:https://denmarkhouse.com.au/event/members-dinner-19/
LOCATION:Denmark House\, L3 428 Lt Bourke St\, Melbourne\, VIC\, 3000\, Australia
CATEGORIES:Club Event,Dinner
ORGANIZER;CN="Danish Club":MAILTO:info@denmarkhouse.com.au
END:VEVENT
BEGIN:VEVENT
DTSTART;VALUE=DATE:20230425
DTEND;VALUE=DATE:20230426
DTSTAMP:20260424T084415
CREATED:20230128T100935Z
LAST-MODIFIED:20230128T101614Z
UID:10000337-1682380800-1682467199@denmarkhouse.com.au
SUMMARY:CLOSED FOR PUBLIC HOLIDAY - ANZAC DAY
DESCRIPTION:
URL:https://denmarkhouse.com.au/event/closed-for-public-holiday-easter-2/
LOCATION:Denmark House\, L3 428 Lt Bourke St\, Melbourne\, VIC\, 3000\, Australia
CATEGORIES:Public
ORGANIZER;CN="Denmark House":MAILTO:info@denmarkhouse.com.au
END:VEVENT
BEGIN:VEVENT
DTSTART;TZID=Australia/Melbourne:20230419T120000
DTEND;TZID=Australia/Melbourne:20230419T140000
DTSTAMP:20260424T084415
CREATED:20230128T005327Z
LAST-MODIFIED:20230128T005327Z
UID:10000309-1681905600-1681912800@denmarkhouse.com.au
SUMMARY:President's Lunch
DESCRIPTION:Join us at the President’s Lunch at Denmark House where current president Alexander Nielsen or other committee members attend. Get to know other members of the Danish Club or reconnect with members you know. \nBookings are essential – phone 9600 4477.
URL:https://denmarkhouse.com.au/event/presidents-lunch-20/
LOCATION:Denmark House\, L3 428 Lt Bourke St\, Melbourne\, VIC\, 3000\, Australia
CATEGORIES:Club Event,Lunch
ORGANIZER;CN="Danish Club":MAILTO:info@denmarkhouse.com.au
END:VEVENT
BEGIN:VEVENT
DTSTART;TZID=Australia/Melbourne:20230416T120000
DTEND;TZID=Australia/Melbourne:20230416T140000
DTSTAMP:20260424T084415
CREATED:20230131T235611Z
LAST-MODIFIED:20230131T235611Z
UID:10000343-1681646400-1681653600@denmarkhouse.com.au
SUMMARY:Queen's Birthday Lunch
DESCRIPTION:Join us for the annual celebration of the birthday of Her Majesty Queen Margrethe II of Denmark and catch up with other club members. This is a free event for members of the Danish Club Dannebrog with plenty of snaps and other drinks available on consumption. \nBooking are essential via ph 9600 4477 or info@denmarkhouse.com.au
URL:https://denmarkhouse.com.au/event/queens-birthday-lunch-2/
LOCATION:Denmark House\, L3 428 Lt Bourke St\, Melbourne\, VIC\, 3000\, Australia
CATEGORIES:Club Event
ORGANIZER;CN="Danish Club":MAILTO:info@denmarkhouse.com.au
END:VEVENT
BEGIN:VEVENT
DTSTART;VALUE=DATE:20230410
DTEND;VALUE=DATE:20230411
DTSTAMP:20260424T084415
CREATED:20230128T100901Z
LAST-MODIFIED:20230128T100901Z
UID:10000335-1681084800-1681171199@denmarkhouse.com.au
SUMMARY:CLOSED FOR PUBLIC HOLIDAY - EASTER
DESCRIPTION:
URL:https://denmarkhouse.com.au/event/closed-for-public-holiday-easter/
LOCATION:Denmark House\, L3 428 Lt Bourke St\, Melbourne\, VIC\, 3000\, Australia
CATEGORIES:Public
ORGANIZER;CN="Denmark House":MAILTO:info@denmarkhouse.com.au
END:VEVENT
BEGIN:VEVENT
DTSTART;VALUE=DATE:20230407
DTEND;VALUE=DATE:20230408
DTSTAMP:20260424T084415
CREATED:20230128T100736Z
LAST-MODIFIED:20230128T100825Z
UID:10000333-1680825600-1680911999@denmarkhouse.com.au
SUMMARY:CLOSED FOR PUBLIC HOLIDAY - EASTER
DESCRIPTION:
URL:https://denmarkhouse.com.au/event/closed-for-public-holiday/
LOCATION:Denmark House\, L3 428 Lt Bourke St\, Melbourne\, VIC\, 3000\, Australia
CATEGORIES:Public
END:VEVENT
BEGIN:VEVENT
DTSTART;TZID=Australia/Melbourne:20230401T120000
DTEND;TZID=Australia/Melbourne:20230401T150000
DTSTAMP:20260424T084415
CREATED:20230128T000605Z
LAST-MODIFIED:20230128T003726Z
UID:10000299-1680350400-1680361200@denmarkhouse.com.au
SUMMARY:Buffet Lunch
DESCRIPTION:Every first Saturday of the month – DENMARKhouse serves a traditional Danish buffet lunch with frikadeller\, gravad laks\, crumbed fish with remoulade\, pickled herring and all your other (Danish) lunch favourites! \nBook your seat today
URL:https://denmarkhouse.com.au/event/buffet-lunch-10/
LOCATION:Denmark House\, L3 428 Lt Bourke St\, Melbourne\, VIC\, 3000\, Australia
CATEGORIES:Lunch,Public
END:VEVENT
BEGIN:VEVENT
DTSTART;TZID=Australia/Melbourne:20230329T180000
DTEND;TZID=Australia/Melbourne:20230329T200000
DTSTAMP:20260424T084415
CREATED:20230128T011324Z
LAST-MODIFIED:20230128T011324Z
UID:10000318-1680112800-1680120000@denmarkhouse.com.au
SUMMARY:Members' Dinner
DESCRIPTION:Join other members of the Danish Club for a communal meal at Denmark House – bookings are essential ph 9600 4477
URL:https://denmarkhouse.com.au/event/members-dinner-18/
LOCATION:Denmark House\, L3 428 Lt Bourke St\, Melbourne\, VIC\, 3000\, Australia
CATEGORIES:Club Event,Dinner
ORGANIZER;CN="Danish Club":MAILTO:info@denmarkhouse.com.au
END:VEVENT
BEGIN:VEVENT
DTSTART;TZID=Australia/Melbourne:20230315T120000
DTEND;TZID=Australia/Melbourne:20230315T140000
DTSTAMP:20260424T084415
CREATED:20230128T005153Z
LAST-MODIFIED:20230128T005401Z
UID:10000308-1678881600-1678888800@denmarkhouse.com.au
SUMMARY:President's Lunch
DESCRIPTION:Join us at the President’s Lunch at Denmark House where current president Alexander Nielsen or other committee members attend. Get to know other members of the Danish Club or reconnect with members you know. \nBookings are essential – phone 9600 4477.
URL:https://denmarkhouse.com.au/event/presidents-lunch-19/
LOCATION:Denmark House\, L3 428 Lt Bourke St\, Melbourne\, VIC\, 3000\, Australia
CATEGORIES:Club Event,Lunch
ORGANIZER;CN="Danish Club":MAILTO:info@denmarkhouse.com.au
END:VEVENT
BEGIN:VEVENT
DTSTART;TZID=UTC:20230304T120000
DTEND;TZID=UTC:20230304T150000
DTSTAMP:20260424T084415
CREATED:20230127T134952Z
LAST-MODIFIED:20230128T003755Z
UID:10000298-1677931200-1677942000@denmarkhouse.com.au
SUMMARY:Buffet Lunch
DESCRIPTION:Every first Saturday of the month – DENMARKhouse serves a traditional Danish buffet lunch with frikadeller\, gravad laks\, crumbed fish with remoulade\, pickled herring and all your other (Danish) lunch favourites! \nBook your seat today
URL:https://denmarkhouse.com.au/event/buffet-lunch-9/
LOCATION:Denmark House\, L3 428 Lt Bourke St\, Melbourne\, VIC\, 3000\, Australia
CATEGORIES:Lunch,Public
ORGANIZER;CN="Denmark House":MAILTO:info@denmarkhouse.com.au
END:VEVENT
BEGIN:VEVENT
DTSTART;TZID=Australia/Melbourne:20230225T080000
DTEND;TZID=Australia/Melbourne:20230225T160000
DTSTAMP:20260424T084415
CREATED:20230128T020415Z
LAST-MODIFIED:20230128T020415Z
UID:10000331-1677312000-1677340800@denmarkhouse.com.au
SUMMARY:Fugleskydning (Birdshoot)
DESCRIPTION:The Danish Club’s annual Birdshoot event takes place 25 February 2023 with an 8am start for breakfast at DENMARKhouse after which we bus to the shooting range and the shooting begins! \nCome along for a this annual Club tradition\, taking place every year since 1899. \nPlease note bookings are required and dress code applies. \nBook ticket.
URL:https://denmarkhouse.com.au/event/fugleskydning-birdshoot/
LOCATION:Denmark House\, L3 428 Lt Bourke St\, Melbourne\, VIC\, 3000\, Australia
CATEGORIES:Club Event
ORGANIZER;CN="Danish Club":MAILTO:info@denmarkhouse.com.au
END:VEVENT
BEGIN:VEVENT
DTSTART;TZID=Australia/Melbourne:20230222T180000
DTEND;TZID=Australia/Melbourne:20230222T200000
DTSTAMP:20260424T084415
CREATED:20230128T011233Z
LAST-MODIFIED:20230131T235807Z
UID:10000319-1677088800-1677096000@denmarkhouse.com.au
SUMMARY:Members' Dinner
DESCRIPTION:Join other members of the Danish Club for a communal meal at Denmark House. February’s theme is Welcome Back to the Club \nBookings are essential ph 9600 4477
URL:https://denmarkhouse.com.au/event/members-dinner-17/
LOCATION:Denmark House\, L3 428 Lt Bourke St\, Melbourne\, VIC\, 3000\, Australia
CATEGORIES:Club Event,Dinner
ORGANIZER;CN="Danish Club":MAILTO:info@denmarkhouse.com.au
END:VEVENT
BEGIN:VEVENT
DTSTART;TZID=Australia/Melbourne:20230215T120000
DTEND;TZID=Australia/Melbourne:20230215T140000
DTSTAMP:20260424T084415
CREATED:20230128T005027Z
LAST-MODIFIED:20230128T005027Z
UID:10000307-1676462400-1676469600@denmarkhouse.com.au
SUMMARY:President's Lunch
DESCRIPTION:Join us at the President’s Lunch at Denmark House where current president Alexander Nielsen or other committee members attend. Get to know other members of the Danish Club or reconnect with members you know. \nBookings are essential – phone 9600 4477.
URL:https://denmarkhouse.com.au/event/presidents-lunch-18/
LOCATION:Denmark House\, L3 428 Lt Bourke St\, Melbourne\, VIC\, 3000\, Australia
CATEGORIES:Club Event,Lunch
ORGANIZER;CN="Danish Club":MAILTO:info@denmarkhouse.com.au
END:VEVENT
BEGIN:VEVENT
DTSTART;TZID=UTC:20230131T120000
DTEND;TZID=UTC:20230131T143000
DTSTAMP:20260424T084415
CREATED:20220927T201928Z
LAST-MODIFIED:20230122T143226Z
UID:10000297-1675166400-1675175400@denmarkhouse.com.au
SUMMARY:FIRST DAY OF TRADING - 2023
DESCRIPTION:And we are back! We hope you are all ready for a new year of Danish hygge\, food & drinks at DENMARKhouse. \n 
URL:https://denmarkhouse.com.au/event/first-day-of-trading-2023/
LOCATION:Denmark House\, L3 428 Lt Bourke St\, Melbourne\, VIC\, 3000\, Australia
CATEGORIES:Public
END:VEVENT
BEGIN:VEVENT
DTSTART;TZID=UTC:20221221T120000
DTEND;TZID=UTC:20221221T143000
DTSTAMP:20260424T084415
CREATED:20220927T201743Z
LAST-MODIFIED:20220927T201743Z
UID:10000296-1671624000-1671633000@denmarkhouse.com.au
SUMMARY:LAST DAY OF TRADING 2022 - SEE YOU IN 2023
DESCRIPTION:Last day of trading for 2022 – thanks to everyone for your ongoing support! \nSee you in 2023!
URL:https://denmarkhouse.com.au/event/last-day-of-trading-2022-see-you-in-2023/
LOCATION:Denmark House\, L3 428 Lt Bourke St\, Melbourne\, VIC\, 3000\, Australia
CATEGORIES:Public
ORGANIZER;CN="Denmark House":MAILTO:info@denmarkhouse.com.au
END:VEVENT
BEGIN:VEVENT
DTSTART;TZID=UTC:20221221T120000
DTEND;TZID=UTC:20221221T140000
DTSTAMP:20260424T084415
CREATED:20220927T201400Z
LAST-MODIFIED:20220927T201400Z
UID:10000295-1671624000-1671631200@denmarkhouse.com.au
SUMMARY:President's Lunch - Last one of 2022
DESCRIPTION:Join us at the President’s Lunch at Denmark House where current president Alexander Nielsen or other committee members attend. Get to know other members of the Danish Club or reconnect with members you know. \nBookings are essential – phone 9600 4477.
URL:https://denmarkhouse.com.au/event/presidents-lunch-last-one-of-2022/
LOCATION:Denmark House\, L3 428 Lt Bourke St\, Melbourne\, VIC\, 3000\, Australia
CATEGORIES:Club Event
ORGANIZER;CN="Danish Club":MAILTO:info@denmarkhouse.com.au
END:VEVENT
BEGIN:VEVENT
DTSTART;TZID=UTC:20221217T120000
DTEND;TZID=UTC:20221217T160000
DTSTAMP:20260424T084415
CREATED:20220927T183525Z
LAST-MODIFIED:20220927T183525Z
UID:10000291-1671278400-1671292800@denmarkhouse.com.au
SUMMARY:X-MAS Buffet Lunch
DESCRIPTION:Book your tickets for our annual Xmas Buffet Lunch at DENMARKhouse – back for the first time in several years following the pandemic! \nGet your ticket here \n 
URL:https://denmarkhouse.com.au/event/x-mas-buffet-lunch-3/
LOCATION:Denmark House\, L3 428 Lt Bourke St\, Melbourne\, VIC\, 3000\, Australia
CATEGORIES:Public
ORGANIZER;CN="Denmark House":MAILTO:info@denmarkhouse.com.au
END:VEVENT
BEGIN:VEVENT
DTSTART;TZID=UTC:20221210T120000
DTEND;TZID=UTC:20221210T160000
DTSTAMP:20260424T084415
CREATED:20220927T183341Z
LAST-MODIFIED:20220927T183341Z
UID:10000290-1670673600-1670688000@denmarkhouse.com.au
SUMMARY:X-MAS Buffet Lunch
DESCRIPTION:Book your tickets for our annual Xmas Buffet Lunch at DENMARKhouse – back for the first time in several years following the pandemic! \nGet your ticket here \n 
URL:https://denmarkhouse.com.au/event/x-mas-buffet-lunch-2/
LOCATION:Denmark House\, L3 428 Lt Bourke St\, Melbourne\, VIC\, 3000\, Australia
CATEGORIES:Public
ORGANIZER;CN="Denmark House":MAILTO:info@denmarkhouse.com.au
END:VEVENT
BEGIN:VEVENT
DTSTART;TZID=UTC:20221209T180000
DTEND;TZID=UTC:20221209T220000
DTSTAMP:20260424T084415
CREATED:20220927T201029Z
LAST-MODIFIED:20220927T201029Z
UID:10000294-1670608800-1670623200@denmarkhouse.com.au
SUMMARY:Members' Dinner - Christmas
DESCRIPTION:in other members of the Danish Club for a communal meal at Denmark House. \nPlease book via info@denmarkhouse.com.au or ph 9600 4477
URL:https://denmarkhouse.com.au/event/members-dinner-christmas/
LOCATION:Denmark House\, L3 428 Lt Bourke St\, Melbourne\, VIC\, 3000\, Australia
CATEGORIES:Club Event
ORGANIZER;CN="Danish Club":MAILTO:info@denmarkhouse.com.au
END:VEVENT
BEGIN:VEVENT
DTSTART;TZID=UTC:20221203T120000
DTEND;TZID=UTC:20221203T160000
DTSTAMP:20260424T084415
CREATED:20220927T183217Z
LAST-MODIFIED:20220927T183407Z
UID:10000289-1670068800-1670083200@denmarkhouse.com.au
SUMMARY:X-MAS Buffet Lunch
DESCRIPTION:Book your tickets for our annual Xmas Buffet Lunch at DENMARKhouse – back for the first time in several years following the pandemic! \nGet your ticket here \n  \n 
URL:https://denmarkhouse.com.au/event/x-mas-buffet-lunch/
LOCATION:Denmark House\, L3 428 Lt Bourke St\, Melbourne\, VIC\, 3000\, Australia
CATEGORIES:Public
ORGANIZER;CN="Denmark House":MAILTO:info@denmarkhouse.com.au
END:VEVENT
BEGIN:VEVENT
DTSTART;TZID=UTC:20221130T220000
DTEND;TZID=UTC:20221201T040000
DTSTAMP:20260424T084415
CREATED:20220927T195116Z
LAST-MODIFIED:20220927T200349Z
UID:10000293-1669845600-1669867200@denmarkhouse.com.au
SUMMARY:SOCCER: AUSTRALIA vs DENMARK
DESCRIPTION:DENMARKhouse screens the FIFA World Cup Group match between Australia and Denmark! \nIn an all-night sesh\, guests can enjoy a taste of Denmark with supper and light snacks provided and rewatch the Australia vs Denmark game from 2018 before the match kicks off at 2am! \nTickets include food and snacks – drinks are available at bar prices \nBOOK HERE
URL:https://denmarkhouse.com.au/event/soccer-australia-vs-denmark/
LOCATION:Denmark House\, L3 428 Lt Bourke St\, Melbourne\, VIC\, 3000\, Australia
CATEGORIES:Public
ORGANIZER;CN="Denmark House":MAILTO:info@denmarkhouse.com.au
END:VEVENT
BEGIN:VEVENT
DTSTART;TZID=UTC:20221125T170000
DTEND;TZID=UTC:20221125T220000
DTSTAMP:20260424T084415
CREATED:20220831T145143Z
LAST-MODIFIED:20221012T001831Z
UID:10000287-1669395600-1669413600@denmarkhouse.com.au
SUMMARY:J-Day - Xmas Beer Release
DESCRIPTION:Celebrate the coming of Xmas at DENMARKhouse when we launch this year’s Danish Tuborg Julebryg with J-Day. \nAs always\, bar foods are available on the night so bring all your friends as we raise our Xmas beers and say SKÅL! \n 
URL:https://denmarkhouse.com.au/event/j-day-xmas-beer-release/
LOCATION:Denmark House\, L3 428 Lt Bourke St\, Melbourne\, VIC\, 3000\, Australia
CATEGORIES:Public
ORGANIZER;CN="Denmark House":MAILTO:info@denmarkhouse.com.au
END:VEVENT
BEGIN:VEVENT
DTSTART;TZID=UTC:20221119T140000
DTEND;TZID=UTC:20221119T170000
DTSTAMP:20260424T084415
CREATED:20220831T150659Z
LAST-MODIFIED:20220831T150752Z
UID:10000288-1668866400-1668877200@denmarkhouse.com.au
SUMMARY:Juleklip
DESCRIPTION:Just like last year\, The Danish Club is inviting members to make decorations for our Christmas tree when we open for Juleklip! \nBring your favourite materials or paper cutting tools\, templates and personal Christmas traditions along and DENMARKhouse will provide all art and craft materials to make braided Christmas hearts/flette julehjerter\, paper stars and other traditional decorations. \nEmail us here if you are coming: info@denmarkhouse.com.au
URL:https://denmarkhouse.com.au/event/juleklip/
LOCATION:Denmark House\, L3 428 Lt Bourke St\, Melbourne\, VIC\, 3000\, Australia
CATEGORIES:Club Event
ORGANIZER;CN="Danish Club":MAILTO:info@denmarkhouse.com.au
END:VEVENT
END:VCALENDAR