BEGIN:VCALENDAR
VERSION:2.0
PRODID:-//Denmark House - ECPv6.15.20//NONSGML v1.0//EN
CALSCALE:GREGORIAN
METHOD:PUBLISH
X-WR-CALNAME:Denmark House
X-ORIGINAL-URL:https://denmarkhouse.com.au
X-WR-CALDESC:Events for Denmark House
REFRESH-INTERVAL;VALUE=DURATION:PT1H
X-Robots-Tag:noindex
X-PUBLISHED-TTL:PT1H
BEGIN:VTIMEZONE
TZID:Australia/Melbourne
BEGIN:STANDARD
TZOFFSETFROM:+1100
TZOFFSETTO:+1000
TZNAME:AEST
DTSTART:20240406T160000
END:STANDARD
BEGIN:DAYLIGHT
TZOFFSETFROM:+1000
TZOFFSETTO:+1100
TZNAME:AEDT
DTSTART:20241005T160000
END:DAYLIGHT
BEGIN:STANDARD
TZOFFSETFROM:+1100
TZOFFSETTO:+1000
TZNAME:AEST
DTSTART:20250405T160000
END:STANDARD
BEGIN:DAYLIGHT
TZOFFSETFROM:+1000
TZOFFSETTO:+1100
TZNAME:AEDT
DTSTART:20251004T160000
END:DAYLIGHT
BEGIN:STANDARD
TZOFFSETFROM:+1100
TZOFFSETTO:+1000
TZNAME:AEST
DTSTART:20260404T160000
END:STANDARD
BEGIN:DAYLIGHT
TZOFFSETFROM:+1000
TZOFFSETTO:+1100
TZNAME:AEDT
DTSTART:20261003T160000
END:DAYLIGHT
END:VTIMEZONE
BEGIN:VEVENT
DTSTART;TZID=Australia/Melbourne:20251016T170000
DTEND;TZID=Australia/Melbourne:20251016T180000
DTSTAMP:20260423T104134
CREATED:20250702T041712Z
LAST-MODIFIED:20250702T041712Z
UID:10000519-1760634000-1760637600@denmarkhouse.com.au
SUMMARY:Nærvær\, the mindful hour - Join us for an hour of crafting in the Akvavit bar
DESCRIPTION:It gives us peace of mind\, sitting there with a piece of needlework or working on something else with our hands; this goes for all age groups. – Queen Margrethe II \nJoin us for an afternoon in good company with other like minded crafters and crafters to be.  \nExperienced and beginners\, young and old\, members and non members\, everyone is welcome! \nBring your own needle work project\, knitting\, crochet or stitching.  \nAnything you can do sitting while enjoying others company. Please no messy painting:) \nWe have some cross stitching materials if you don’t have your own and want to begin a new project. \nThe bar will be open. No need to book\, just show up. This is a free event. \nVi ses!
URL:https://denmarkhouse.com.au/event/naervaer-the-mindful-hour-join-us-for-an-hour-of-crafting-in-the-akvavit-bar-4/
LOCATION:Denmark House\, L3 428 Lt Bourke St\, Melbourne\, VIC\, 3000\, Australia
ATTACH;FMTTYPE=image/jpeg:https://denmarkhouse.com.au/wp-content/uploads/2025/07/margrethe-embroidery.jpg
ORGANIZER;CN="Denmark House":MAILTO:info@denmarkhouse.com.au
END:VEVENT
BEGIN:VEVENT
DTSTART;TZID=Australia/Melbourne:20251004T140000
DTEND;TZID=Australia/Melbourne:20251004T150000
DTSTAMP:20260423T104134
CREATED:20250702T040905Z
LAST-MODIFIED:20250702T043418Z
UID:10000517-1759586400-1759590000@denmarkhouse.com.au
SUMMARY:Tal Dansk - Join us for an hour of practicing Danish in the Akvavit bar
DESCRIPTION:Come along and meet with fellow Danish speaking friends. \nNo need to book\, just show up. \nVi ses!
URL:https://denmarkhouse.com.au/event/tal-dansk-join-us-for-an-hour-of-practicing-danish-in-the-akvavit-bar-6/
LOCATION:Denmark House\, L3 428 Lt Bourke St\, Melbourne\, VIC\, 3000\, Australia
ATTACH;FMTTYPE=image/jpeg:https://denmarkhouse.com.au/wp-content/uploads/2021/05/1849_0278.jpg
ORGANIZER;CN="Denmark House":MAILTO:info@denmarkhouse.com.au
END:VEVENT
BEGIN:VEVENT
DTSTART;TZID=Australia/Melbourne:20251004T120000
DTEND;TZID=Australia/Melbourne:20251004T160000
DTSTAMP:20260423T104134
CREATED:20241015T043747Z
LAST-MODIFIED:20250522T085732Z
UID:10000443-1759579200-1759593600@denmarkhouse.com.au
SUMMARY:Monthly buffet - October 2025
DESCRIPTION:For decades our Monthly Danish Lunch Buffet has been a hallmark at Denmark House.  \nOn the first Saturday of every month Denmark House serves our popular Danish buffet lunch with all of your favorite traditional Danish food\, including pickled herring\, gravad laks\, roast pork\, crumbed fish with remoulade\, meatballs\, dessert\, tea & coffee and more. \n$65 for Danish Club Members – $75 for Guest/non members – $30 for children
URL:https://denmarkhouse.com.au/event/monthly-buffet-10/
LOCATION:Denmark House\, L3 428 Lt Bourke St\, Melbourne\, VIC\, 3000\, Australia
CATEGORIES:Lunch,Public
ORGANIZER;CN="Denmark House":MAILTO:info@denmarkhouse.com.au
END:VEVENT
BEGIN:VEVENT
DTSTART;TZID=Australia/Melbourne:20251003T180000
DTEND;TZID=Australia/Melbourne:20251003T210000
DTSTAMP:20260423T104134
CREATED:20250124T025829Z
LAST-MODIFIED:20250124T025829Z
UID:10000470-1759514400-1759525200@denmarkhouse.com.au
SUMMARY:Young Vikings n Town
DESCRIPTION:Kom og mød andre danskere i Melbourne\, første Fredag i måneden. Der bliver spillet klask og hygget. Happy hour indtil klokken 18\, så kom gerne lidt før. Hjemmeside
URL:https://denmarkhouse.com.au/event/young-vikings-n-town/
CATEGORIES:Cultural Event
END:VEVENT
BEGIN:VEVENT
DTSTART;TZID=Australia/Melbourne:20251001T180000
DTEND;TZID=Australia/Melbourne:20251001T210000
DTSTAMP:20260423T104134
CREATED:20250903T083636Z
LAST-MODIFIED:20250903T083937Z
UID:10000525-1759341600-1759352400@denmarkhouse.com.au
SUMMARY:Annual General Meeting - Financial members only
DESCRIPTION:Notices regarding special business to be discussed at the Annual General Meeting must be received no later than 21 days prior\, being Wednesday 10th September 2025.\n\nMembers wishing to ask questions are requested to lodge them in writing to info@denmarkhouse.com.au no later than Friday the 26th of September 2025.\n\nPlease ensure your 2025/2026 membership has been renewed as only financial members are able to attend the Annual General Meeting.\n\nThe final agenda\, including any special business will be circulated in the week prior to the meeting.\n\nA complimentary meal will be served following the meeting. Drinks at bar prices.
URL:https://denmarkhouse.com.au/event/annual-general-meeting-financial-members-only/
LOCATION:Denmark House\, L3 428 Lt Bourke St\, Melbourne\, VIC\, 3000\, Australia
ATTACH;FMTTYPE=application/pdf:https://denmarkhouse.com.au/wp-content/uploads/2025/09/the-danish-club-notice-of-agm-2025.pdf
ORGANIZER;CN="Danish Club":MAILTO:info@denmarkhouse.com.au
END:VEVENT
BEGIN:VEVENT
DTSTART;VALUE=DATE:20250926
DTEND;VALUE=DATE:20250927
DTSTAMP:20260423T104134
CREATED:20241107T235951Z
LAST-MODIFIED:20241107T235951Z
UID:10000451-1758844800-1758931199@denmarkhouse.com.au
SUMMARY:Closed for public holiday
DESCRIPTION:
URL:https://denmarkhouse.com.au/event/closed-for-public-holiday-15/
END:VEVENT
BEGIN:VEVENT
DTSTART;TZID=Australia/Melbourne:20250925T160000
DTEND;TZID=Australia/Melbourne:20250925T190000
DTSTAMP:20260423T104134
CREATED:20250702T041520Z
LAST-MODIFIED:20250702T041520Z
UID:10000518-1758816000-1758826800@denmarkhouse.com.au
SUMMARY:Studenterbar for U25
DESCRIPTION:Er du mellem 18-25 år og bor eller er på besøg i Melbourne? \nVi holder en komsammen netværks aften for alle unge der bor i Melbourne\, i længere eller kortere tid. \nMåske har du en dansk forældre\, WHV\, er studerende eller bare på en lækker ferie og savner at tale dansk. \nHappy hour fra 16 til 18\, Carlsberg fadøl og vin til $6. Køkkenet er også åbent fra 16 til 20.
URL:https://denmarkhouse.com.au/event/studenterbar-for-u25-8/
LOCATION:Denmark House\, L3 428 Lt Bourke St\, Melbourne\, VIC\, 3000\, Australia
ORGANIZER;CN="Danish Club":MAILTO:info@denmarkhouse.com.au
END:VEVENT
BEGIN:VEVENT
DTSTART;TZID=Australia/Melbourne:20250917T150000
DTEND;TZID=Australia/Melbourne:20250917T160000
DTSTAMP:20260423T104134
CREATED:20250702T040421Z
LAST-MODIFIED:20250702T040421Z
UID:10000514-1758121200-1758124800@denmarkhouse.com.au
SUMMARY:Nærvær\, the mindful hour - Join us for an hour of crafting in the Akvavit bar
DESCRIPTION:It gives us peace of mind\, sitting there with a piece of needlework or working on something else with our hands; this goes for all age groups. – Queen Margrethe II \nJoin us for an afternoon in good company with other like minded crafters and crafters to be.  \nExperienced and beginners\, young and old\, members and non members\, everyone is welcome! \nBring your own needle work project\, knitting\, crochet or stitching.  \nAnything you can do sitting while enjoying others company. Please no messy painting:) \nWe have some cross stitching materials if you don’t have your own and want to begin a new project. \nThe bar will be open. No need to book\, just show up. This is a free event. \nVi ses!
URL:https://denmarkhouse.com.au/event/naervaer-the-mindful-hour-join-us-for-an-hour-of-crafting-in-the-akvavit-bar-3/
LOCATION:Denmark House\, L3 428 Lt Bourke St\, Melbourne\, VIC\, 3000\, Australia
ATTACH;FMTTYPE=image/jpeg:https://denmarkhouse.com.au/wp-content/uploads/2025/07/margrethe-embroidery.jpg
ORGANIZER;CN="Denmark House":MAILTO:info@denmarkhouse.com.au
END:VEVENT
BEGIN:VEVENT
DTSTART;TZID=Australia/Melbourne:20250917T120000
DTEND;TZID=Australia/Melbourne:20250917T143000
DTSTAMP:20260423T104134
CREATED:20250702T044205Z
LAST-MODIFIED:20250702T044523Z
UID:10000522-1758110400-1758119400@denmarkhouse.com.au
SUMMARY:Members only event – Præsidents Taffel\, September 2025
DESCRIPTION:Join us for the monthly President’s Lunch at Denmark House to share a communal lunch and get to know other members of the Danish Club or reconnect with friends. \nPrice includes four smørrebrød\, one akvavit\, dessert\, and coffee. \nBookings are essential\, book your ticket now.
URL:https://denmarkhouse.com.au/event/members-only-event-praesidents-taffel-august-2025-2/
LOCATION:Denmark House\, L3 428 Lt Bourke St\, Melbourne\, VIC\, 3000\, Australia
ATTACH;FMTTYPE=image/jpeg:https://denmarkhouse.com.au/wp-content/uploads/2021/05/Denmark-House-17-Fiskefillet-Panko-crumbed-rockling-fillet-remoulade-and-lemon-12.jpg
ORGANIZER;CN="Danish Club":MAILTO:info@denmarkhouse.com.au
END:VEVENT
BEGIN:VEVENT
DTSTART;TZID=Australia/Melbourne:20250906T140000
DTEND;TZID=Australia/Melbourne:20250906T150000
DTSTAMP:20260423T104134
CREATED:20250702T040634Z
LAST-MODIFIED:20250702T043333Z
UID:10000516-1757167200-1757170800@denmarkhouse.com.au
SUMMARY:Tal Dansk - Join us for an hour of practicing Danish in the Akvavit bar
DESCRIPTION:Come along and meet with fellow Danish speaking friends. \nNo need to book\, just show up. \nVi ses!
URL:https://denmarkhouse.com.au/event/tal-dansk-join-us-for-an-hour-of-practicing-danish-in-the-akvavit-bar-5/
LOCATION:Denmark House\, L3 428 Lt Bourke St\, Melbourne\, VIC\, 3000\, Australia
ATTACH;FMTTYPE=image/jpeg:https://denmarkhouse.com.au/wp-content/uploads/2021/05/1849_0278-1.jpg
ORGANIZER;CN="Denmark House":MAILTO:info@denmarkhouse.com.au
END:VEVENT
BEGIN:VEVENT
DTSTART;TZID=Australia/Melbourne:20250906T120000
DTEND;TZID=Australia/Melbourne:20250906T160000
DTSTAMP:20260423T104134
CREATED:20241015T043632Z
LAST-MODIFIED:20250903T083134Z
UID:10000442-1757160000-1757174400@denmarkhouse.com.au
SUMMARY:Monthly buffet - September 2025 SOLD OUT
DESCRIPTION:For decades our Monthly Danish Lunch Buffet has been a hallmark at Denmark House.  \nOn the first Saturday of every month Denmark House serves our popular Danish buffet lunch with all of your favorite traditional Danish food\, including pickled herring\, gravad laks\, roast pork\, crumbed fish with remoulade\, meatballs\, dessert\, tea & coffee and more. \n$65 for Danish Club Members – $75 for Guest/non members – $30 for children
URL:https://denmarkhouse.com.au/event/monthly-buffet-9/
LOCATION:Denmark House\, L3 428 Lt Bourke St\, Melbourne\, VIC\, 3000\, Australia
CATEGORIES:Lunch,Public
ORGANIZER;CN="Denmark House":MAILTO:info@denmarkhouse.com.au
END:VEVENT
BEGIN:VEVENT
DTSTART;TZID=Australia/Melbourne:20250905T180000
DTEND;TZID=Australia/Melbourne:20250905T210000
DTSTAMP:20260423T104134
CREATED:20250124T025752Z
LAST-MODIFIED:20250124T025752Z
UID:10000469-1757095200-1757106000@denmarkhouse.com.au
SUMMARY:Young Vikings in Town
DESCRIPTION:Kom og mød andre danskere i Melbourne\, første Fredag i måneden. Der bliver spillet klask og hygget. Happy hour indtil klokken 18\, så kom gerne lidt før. Hjemmeside
URL:https://denmarkhouse.com.au/event/young-vikings-in-town-8/
CATEGORIES:Cultural Event
END:VEVENT
BEGIN:VEVENT
DTSTART;TZID=Australia/Melbourne:20250904T160000
DTEND;TZID=Australia/Melbourne:20250904T190000
DTSTAMP:20260423T104134
CREATED:20250702T040519Z
LAST-MODIFIED:20250702T040519Z
UID:10000515-1757001600-1757012400@denmarkhouse.com.au
SUMMARY:Studenterbar for U25
DESCRIPTION:Er du mellem 18-25 år og bor eller er på besøg i Melbourne? \nVi holder en komsammen netværks aften for alle unge der bor i Melbourne\, i længere eller kortere tid. \nMåske har du en dansk forældre\, WHV\, er studerende eller bare på en lækker ferie og savner at tale dansk. \nHappy hour fra 16 til 18\, Carlsberg fadøl og vin til $6. Køkkenet er også åbent fra 16 til 20.
URL:https://denmarkhouse.com.au/event/studenterbar-for-u25-7/
LOCATION:Denmark House\, L3 428 Lt Bourke St\, Melbourne\, VIC\, 3000\, Australia
ORGANIZER;CN="Danish Club":MAILTO:info@denmarkhouse.com.au
END:VEVENT
BEGIN:VEVENT
DTSTART;TZID=Australia/Melbourne:20250827T180000
DTEND;TZID=Australia/Melbourne:20250827T200000
DTSTAMP:20260423T104134
CREATED:20250807T044310Z
LAST-MODIFIED:20250827T030500Z
UID:10000524-1756317600-1756324800@denmarkhouse.com.au
SUMMARY:Annual Danish Meeting
DESCRIPTION:We look forward to welcoming you – please indicate if you are attending (or will be an apology)\n\n\nIf you plan to stay for dinner following the meeting\, please let us know by 20th August for catering purposes.\nRSVP: info@denmarkhouse.com.au
URL:https://denmarkhouse.com.au/event/annual-danish-meeting-danish-members-only/
LOCATION:Denmark House\, L3 428 Lt Bourke St\, Melbourne\, VIC\, 3000\, Australia
ATTACH;FMTTYPE=application/pdf:https://denmarkhouse.com.au/wp-content/uploads/2025/08/The-Danish-Club-ADM-NoM-2025.pdf
ORGANIZER;CN="Danish Club":MAILTO:info@denmarkhouse.com.au
END:VEVENT
BEGIN:VEVENT
DTSTART;TZID=Australia/Melbourne:20250823T140000
DTEND;TZID=Australia/Melbourne:20250823T150000
DTSTAMP:20260423T104134
CREATED:20250702T040139Z
LAST-MODIFIED:20250702T040214Z
UID:10000513-1755957600-1755961200@denmarkhouse.com.au
SUMMARY:Nærvær\, the mindful hour - Join us for an hour of crafting in the Akvavit bar
DESCRIPTION:It gives us peace of mind\, sitting there with a piece of needlework or working on something else with our hands; this goes for all age groups. – Queen Margrethe II \nJoin us for an afternoon in good company with other like minded crafters and crafters to be.  \nExperienced and beginners\, young and old\, members and non members\, everyone is welcome! \nBring your own needle work project\, knitting\, crochet or stitching.  \nAnything you can do sitting while enjoying others company. Please no messy painting:) \nWe have some cross stitching materials if you don’t have your own and want to begin a new project. \nThe bar will be open. No need to book\, just show up. This is a free event. \nVi ses!
URL:https://denmarkhouse.com.au/event/naervaer-the-mindful-hour-join-us-for-an-hour-of-crafting-in-the-akvavit-bar-2/
LOCATION:Denmark House\, L3 428 Lt Bourke St\, Melbourne\, VIC\, 3000\, Australia
ATTACH;FMTTYPE=image/jpeg:https://denmarkhouse.com.au/wp-content/uploads/2025/07/margrethe-embroidery.jpg
ORGANIZER;CN="Denmark House":MAILTO:info@denmarkhouse.com.au
END:VEVENT
BEGIN:VEVENT
DTSTART;TZID=Australia/Melbourne:20250820T120000
DTEND;TZID=Australia/Melbourne:20250820T143000
DTSTAMP:20260423T104134
CREATED:20250530T103503Z
LAST-MODIFIED:20250702T042902Z
UID:10000509-1755691200-1755700200@denmarkhouse.com.au
SUMMARY:Members only event – Præsidents Taffel\, August 2025
DESCRIPTION:Join us for the monthly President’s Lunch at Denmark House to share a communal lunch and get to know other members of the Danish Club or reconnect with friends. \nPrice includes four smørrebrød\, one akvavit\, dessert\, and coffee. \nBookings are essential\, book your ticket now.
URL:https://denmarkhouse.com.au/event/members-only-event-praesidents-taffel-august-2025/
LOCATION:Denmark House\, L3 428 Lt Bourke St\, Melbourne\, VIC\, 3000\, Australia
ATTACH;FMTTYPE=image/jpeg:https://denmarkhouse.com.au/wp-content/uploads/2021/05/denmarkhouse-12-scaled.jpg
ORGANIZER;CN="Danish Club":MAILTO:info@denmarkhouse.com.au
END:VEVENT
BEGIN:VEVENT
DTSTART;TZID=Australia/Melbourne:20250814T160000
DTEND;TZID=Australia/Melbourne:20250814T190000
DTSTAMP:20260423T104134
CREATED:20250530T103010Z
LAST-MODIFIED:20250627T000031Z
UID:10000507-1755187200-1755198000@denmarkhouse.com.au
SUMMARY:Studenterbar for U25
DESCRIPTION:Er du mellem 18-25 år og bor eller er på besøg i Melbourne? \nVi holder en komsammen netværks aften for alle unge der bor i Melbourne\, i længere eller kortere tid. \nMåske har du en dansk forældre\, WHV\, er studerende eller bare på en lækker ferie og savner at tale dansk. \nHappy hour fra 16 til 18\, Carlsberg fadøl og vin til $6. Køkkenet er også åbent fra 16 til 20.
URL:https://denmarkhouse.com.au/event/studenterbar-for-u25-6/
LOCATION:Denmark House\, L3 428 Lt Bourke St\, Melbourne\, VIC\, 3000\, Australia
ORGANIZER;CN="Danish Club":MAILTO:info@denmarkhouse.com.au
END:VEVENT
BEGIN:VEVENT
DTSTART;TZID=Australia/Melbourne:20250809T140000
DTEND;TZID=Australia/Melbourne:20250809T150000
DTSTAMP:20260423T104134
CREATED:20250702T021452Z
LAST-MODIFIED:20250702T043234Z
UID:10000511-1754748000-1754751600@denmarkhouse.com.au
SUMMARY:Tal Dansk - Join us for an hour of practicing Danish in the Akvavit bar
DESCRIPTION:Come along and meet with fellow Danish speaking friends. \nNo need to book\, just show up. \nVi ses!
URL:https://denmarkhouse.com.au/event/tal-dansk-join-us-for-an-hour-of-practicing-danish-in-the-akvavit-bar-4/
LOCATION:Denmark House\, L3 428 Lt Bourke St\, Melbourne\, VIC\, 3000\, Australia
ATTACH;FMTTYPE=image/jpeg:https://denmarkhouse.com.au/wp-content/uploads/2021/05/1849_0278.jpg
ORGANIZER;CN="Denmark House":MAILTO:info@denmarkhouse.com.au
END:VEVENT
BEGIN:VEVENT
DTSTART;TZID=Australia/Melbourne:20250801T180000
DTEND;TZID=Australia/Melbourne:20250801T210000
DTSTAMP:20260423T104134
CREATED:20250124T025722Z
LAST-MODIFIED:20250124T025722Z
UID:10000468-1754071200-1754082000@denmarkhouse.com.au
SUMMARY:Young Vikings in Town
DESCRIPTION:Kom og mød andre danskere i Melbourne\, første Fredag i måneden. Der bliver spillet klask og hygget. Happy hour indtil klokken 18\, så kom gerne lidt før. Hjemmeside
URL:https://denmarkhouse.com.au/event/young-vikings-in-town-7/
CATEGORIES:Cultural Event
END:VEVENT
BEGIN:VEVENT
DTSTART;TZID=Australia/Melbourne:20250731T180000
DTEND;TZID=Australia/Melbourne:20250731T210000
DTSTAMP:20260423T104134
CREATED:20250530T103307Z
LAST-MODIFIED:20250702T043147Z
UID:10000508-1753984800-1753995600@denmarkhouse.com.au
SUMMARY:Members Dinner July - Christmas meal 2025
DESCRIPTION:Join other members of the Danish Club for an evening of Hygge. \nThis event is a great way to connect with other likeminded people and meet new and old friends. \nPrice includes one drink\, one akvavit\, set main course\, dessert and coffee. \nBookings are essential\, book your ticket now.
URL:https://denmarkhouse.com.au/event/members-dinner-july-2-2025/
LOCATION:Denmark House\, L3 428 Lt Bourke St\, Melbourne\, VIC\, 3000\, Australia
ATTACH;FMTTYPE=image/jpeg:https://denmarkhouse.com.au/wp-content/uploads/2021/05/denmarkhouse-50-scaled.jpg
ORGANIZER;CN="Danish Club":MAILTO:info@denmarkhouse.com.au
END:VEVENT
BEGIN:VEVENT
DTSTART;TZID=Australia/Melbourne:20250731T160000
DTEND;TZID=Australia/Melbourne:20250731T170000
DTSTAMP:20260423T104134
CREATED:20250702T035844Z
LAST-MODIFIED:20250702T035844Z
UID:10000512-1753977600-1753981200@denmarkhouse.com.au
SUMMARY:Nærvær\, the mindful hour - Join us for an hour of crafting in the Akvavit bar
DESCRIPTION:It gives us peace of mind\, sitting there with a piece of needlework or working on something else with our hands; this goes for all age groups. – Queen Margrethe II \nJoin us for an afternoon in good company with other like minded crafters and crafters to be.  \nExperienced and beginners\, young and old\, members and non members\, everyone is welcome! \nBring your own needle work project\, knitting\, crochet or stitching.  \nAnything you can do sitting while enjoying others company. Please no messy painting:) \nWe have some cross stitching materials if you don’t have your own and want to begin a new project. \nThe bar will be open. No need to book\, just show up. This is a free event. \nVi ses!
URL:https://denmarkhouse.com.au/event/naervaer-the-mindful-hour-join-us-for-an-hour-of-crafting-in-the-akvavit-bar/
LOCATION:Denmark House\, L3 428 Lt Bourke St\, Melbourne\, VIC\, 3000\, Australia
ATTACH;FMTTYPE=image/jpeg:https://denmarkhouse.com.au/wp-content/uploads/2025/07/margrethe-embroidery.jpg
ORGANIZER;CN="Denmark House":MAILTO:info@denmarkhouse.com.au
END:VEVENT
BEGIN:VEVENT
DTSTART;TZID=Australia/Melbourne:20250726T110000
DTEND;TZID=Australia/Melbourne:20250726T180000
DTSTAMP:20260423T104134
CREATED:20250522T075724Z
LAST-MODIFIED:20250522T085116Z
UID:10000501-1753527600-1753552800@denmarkhouse.com.au
SUMMARY:Christmas Winter Bazaar 2025
DESCRIPTION:Denmark House will once again open their doors\, to celebrate the holiday season with our hyggelig Christmas Winter Bazaar!  \nJoin us for a festive day of Danish hygge on Saturday the 26th of July from 11am – 6pm  \nBrowse through a variety of vendors selling unique gifts\, holiday decorations\, and delicious treats.  \nEnjoy traditional Danish hotdogs\, gløgg\, and other deli goods as we together get into the holiday spirit.  \nBring the whole family and make special memories at our Christmas Winter Bazaar.  \nDon’t miss out on this magical event – mark your calendars and see you there!
URL:https://denmarkhouse.com.au/event/christmas-winter-bazaar-2025/
LOCATION:Denmark House\, L3 428 Lt Bourke St\, Melbourne\, VIC\, 3000\, Australia
ATTACH;FMTTYPE=image/jpeg:https://denmarkhouse.com.au/wp-content/uploads/2025/05/Copenhagen-Jul-i-Nyhavn-1-Photo-by-Thomas-Hoeyrup-Christensen.jpg
ORGANIZER;CN="Danish Club":MAILTO:info@denmarkhouse.com.au
END:VEVENT
BEGIN:VEVENT
DTSTART;TZID=Australia/Melbourne:20250719T120000
DTEND;TZID=Australia/Melbourne:20250719T160000
DTSTAMP:20260423T104134
CREATED:20250604T001037Z
LAST-MODIFIED:20250710T022346Z
UID:10000510-1752926400-1752940800@denmarkhouse.com.au
SUMMARY:Christmas in July buffet #3
DESCRIPTION:For decades our Monthly Danish Lunch Buffet has been a hallmark at Denmark House. \nThis July we will celebrate Christmas in July with our popular Christmas buffet. \nOur buffet include all of your favorite traditional Danish food\, including pickled herring\, gravad laks\, roast pork\, roast duck\, crumbed fish with remoulade\, meatballs\, risalamande (traditional Danish rice pudding)\, tea & coffee and more. \n$65 for Danish Club Members – $75 for Guest/non members – $30 for children under 18
URL:https://denmarkhouse.com.au/event/christmas-in-july-buffet-3/
LOCATION:Denmark House\, L3 428 Lt Bourke St\, Melbourne\, VIC\, 3000\, Australia
CATEGORIES:Lunch,Public
ATTACH;FMTTYPE=image/jpeg:https://denmarkhouse.com.au/wp-content/uploads/2025/06/juniper-rubbed-roast-duck-with-cherry-jus.jpg
ORGANIZER;CN="Denmark House":MAILTO:info@denmarkhouse.com.au
END:VEVENT
BEGIN:VEVENT
DTSTART;TZID=Australia/Melbourne:20250716T120000
DTEND;TZID=Australia/Melbourne:20250716T143000
DTSTAMP:20260423T104134
CREATED:20250530T102903Z
LAST-MODIFIED:20250702T042938Z
UID:10000506-1752667200-1752676200@denmarkhouse.com.au
SUMMARY:Members only event – Præsidents Taffel\, July 2025
DESCRIPTION:Join us for the monthly President’s Lunch at Denmark House to share a communal lunch and get to know other members of the Danish Club or reconnect with friends. \nPrice includes four smørrebrød\, one akvavit\, dessert\, and coffee. \nBookings are essential\, book your ticket now.
URL:https://denmarkhouse.com.au/event/members-only-event-praesidents-taffel-july-2025/
LOCATION:Denmark House\, L3 428 Lt Bourke St\, Melbourne\, VIC\, 3000\, Australia
ATTACH;FMTTYPE=image/jpeg:https://denmarkhouse.com.au/wp-content/uploads/2021/05/Denmark-House-17-Fiskefillet-Panko-crumbed-rockling-fillet-remoulade-and-lemon-12.jpg
ORGANIZER;CN="Danish Club":MAILTO:info@denmarkhouse.com.au
END:VEVENT
BEGIN:VEVENT
DTSTART;TZID=Australia/Melbourne:20250712T140000
DTEND;TZID=Australia/Melbourne:20250712T150000
DTSTAMP:20260423T104134
CREATED:20250530T102703Z
LAST-MODIFIED:20250702T043042Z
UID:10000505-1752328800-1752332400@denmarkhouse.com.au
SUMMARY:Tal Dansk - Join us for an hour of practicing Danish in the Akvavit bar
DESCRIPTION:Come along and meet with fellow Danish speaking friends. \nNo need to book\, just show up. \nVi ses!
URL:https://denmarkhouse.com.au/event/tal-dansk-join-us-for-an-hour-of-practicing-danish-in-the-akvavit-bar-3/
LOCATION:Denmark House\, L3 428 Lt Bourke St\, Melbourne\, VIC\, 3000\, Australia
ATTACH;FMTTYPE=image/jpeg:https://denmarkhouse.com.au/wp-content/uploads/2021/05/1849_0278-1.jpg
ORGANIZER;CN="Denmark House":MAILTO:info@denmarkhouse.com.au
END:VEVENT
BEGIN:VEVENT
DTSTART;TZID=Australia/Melbourne:20250712T120000
DTEND;TZID=Australia/Melbourne:20250712T160000
DTSTAMP:20260423T104134
CREATED:20250522T074918Z
LAST-MODIFIED:20250707T044048Z
UID:10000500-1752321600-1752336000@denmarkhouse.com.au
SUMMARY:Christmas in July buffet #2 SOLD OUT
DESCRIPTION:For decades our Monthly Danish Lunch Buffet has been a hallmark at Denmark House. \nThis July we will celebrate Christmas in July with our popular Christmas buffet. \nOur buffet include all of your favorite traditional Danish food\, including pickled herring\, gravad laks\, roast pork\, roast duck\, crumbed fish with remoulade\, meatballs\, risalamande (traditional Danish rice pudding)\, tea & coffee and more. \n$65 for Danish Club Members – $75 for Guest/non members – $30 for children under 18
URL:https://denmarkhouse.com.au/event/christmas-in-july-buffet-2/
LOCATION:Denmark House\, L3 428 Lt Bourke St\, Melbourne\, VIC\, 3000\, Australia
CATEGORIES:Lunch,Public
ATTACH;FMTTYPE=image/webp:https://denmarkhouse.com.au/wp-content/uploads/2025/05/blog-jul-flaeskesteg-mad-e1751431004819.webp
ORGANIZER;CN="Denmark House":MAILTO:info@denmarkhouse.com.au
END:VEVENT
BEGIN:VEVENT
DTSTART;TZID=Australia/Melbourne:20250705T120000
DTEND;TZID=Australia/Melbourne:20250705T160000
DTSTAMP:20260423T104134
CREATED:20241015T043344Z
LAST-MODIFIED:20250702T043551Z
UID:10000440-1751716800-1751731200@denmarkhouse.com.au
SUMMARY:Christmas in July buffet #1 SOLD OUT
DESCRIPTION:For decades our Monthly Danish Lunch Buffet has been a hallmark at Denmark House. \nThis July we will celebrate Christmas in July with our popular Christmas buffet. \nOur buffet include all of your favorite traditional Danish food\, including pickled herring\, gravad laks\, roast pork\, roast duck\, crumbed fish with remoulade\, meatballs\, risalamande (traditional Danish rice pudding)\, tea & coffee and more. \n$65 for Danish Club Members – $75 for Guest/non members – $30 for children under 18.
URL:https://denmarkhouse.com.au/event/monthly-buffet-6/
LOCATION:Denmark House\, L3 428 Lt Bourke St\, Melbourne\, VIC\, 3000\, Australia
CATEGORIES:Lunch,Public
ATTACH;FMTTYPE=image/jpeg:https://denmarkhouse.com.au/wp-content/uploads/2024/10/Juleand-e1751430940754.jpg
ORGANIZER;CN="Denmark House":MAILTO:info@denmarkhouse.com.au
END:VEVENT
BEGIN:VEVENT
DTSTART;TZID=Australia/Melbourne:20250704T180000
DTEND;TZID=Australia/Melbourne:20250704T210000
DTSTAMP:20260423T104134
CREATED:20250124T025651Z
LAST-MODIFIED:20250124T025651Z
UID:10000467-1751652000-1751662800@denmarkhouse.com.au
SUMMARY:Young Vikings in Town
DESCRIPTION:Kom og mød andre danskere i Melbourne\, første Fredag i måneden. Der bliver spillet klask og hygget. Happy hour indtil klokken 18\, så kom gerne lidt før. Hjemmeside
URL:https://denmarkhouse.com.au/event/young-vikings-in-town-6/
CATEGORIES:Cultural Event
END:VEVENT
BEGIN:VEVENT
DTSTART;TZID=Australia/Melbourne:20250703T180000
DTEND;TZID=Australia/Melbourne:20250703T210000
DTSTAMP:20260423T104134
CREATED:20250528T004011Z
LAST-MODIFIED:20250528T004011Z
UID:10000502-1751565600-1751576400@denmarkhouse.com.au
SUMMARY:Members Dinner July 2025
DESCRIPTION:Join other members of the Danish Club for an evening of Hygge. \nThis event is a great way to connect with other likeminded people and meet new and old friends. \nPrice includes one drink\, one akvavit\, set main course\, dessert and coffee. \nBookings are essential\, book your ticket now.
URL:https://denmarkhouse.com.au/event/members-dinner-july-2025/
LOCATION:Denmark House\, L3 428 Lt Bourke St\, Melbourne\, VIC\, 3000\, Australia
ORGANIZER;CN="Danish Club":MAILTO:info@denmarkhouse.com.au
END:VEVENT
BEGIN:VEVENT
DTSTART;TZID=Australia/Melbourne:20250626T160000
DTEND;TZID=Australia/Melbourne:20250626T190000
DTSTAMP:20260423T104134
CREATED:20250530T102531Z
LAST-MODIFIED:20250530T102531Z
UID:10000504-1750953600-1750964400@denmarkhouse.com.au
SUMMARY:Studenterbar for U25
DESCRIPTION:Er du mellem 18-25 år og bor eller er på besøg i Melbourne? \nVi holder en komsammen netværks aften for alle unge der bor i Melbourne\, i længere eller kortere tid. \nMåske har du en dansk forældre\, WHV\, er studerende eller bare på en lækker ferie og savner at tale dansk. \nHappy hour fra 16 til 18\, Carlsberg fadøl og vin til $6. Køkkenet er også åbent fra 16 til 20.
URL:https://denmarkhouse.com.au/event/studenterbar-for-u25-5/
LOCATION:Denmark House\, L3 428 Lt Bourke St\, Melbourne\, VIC\, 3000\, Australia
ORGANIZER;CN="Danish Club":MAILTO:info@denmarkhouse.com.au
END:VEVENT
END:VCALENDAR