BEGIN:VCALENDAR
VERSION:2.0
PRODID:-//Denmark House - ECPv6.15.20//NONSGML v1.0//EN
CALSCALE:GREGORIAN
METHOD:PUBLISH
X-WR-CALNAME:Denmark House
X-ORIGINAL-URL:https://denmarkhouse.com.au
X-WR-CALDESC:Events for Denmark House
REFRESH-INTERVAL;VALUE=DURATION:PT1H
X-Robots-Tag:noindex
X-PUBLISHED-TTL:PT1H
BEGIN:VTIMEZONE
TZID:UTC
BEGIN:STANDARD
TZOFFSETFROM:+0000
TZOFFSETTO:+0000
TZNAME:UTC
DTSTART:20210101T000000
END:STANDARD
END:VTIMEZONE
BEGIN:VEVENT
DTSTART;TZID=UTC:20221015T120000
DTEND;TZID=UTC:20221015T160000
DTSTAMP:20260425T213508
CREATED:20220927T190715Z
LAST-MODIFIED:20220927T190801Z
UID:10000292-1665835200-1665849600@denmarkhouse.com.au
SUMMARY:NORDIC CRAYFISH PARTY - MEMBERS ONLY
DESCRIPTION:Members of the Danish Club are invited to a Nordic Crayfish Party at DENMARKhouse to celebrate that summer is on is way! \nCome along for a day traditional Nordic event at the Club with snaps\, seafood and hygge with other members. \nBookings 9600 4477 or via trybooking
URL:https://denmarkhouse.com.au/event/nordic-crayfish-party-members-only/
LOCATION:Denmark House\, L3 428 Lt Bourke St\, Melbourne\, VIC\, 3000\, Australia
CATEGORIES:Club Event
ORGANIZER;CN="Danish Club":MAILTO:info@denmarkhouse.com.au
END:VEVENT
BEGIN:VEVENT
DTSTART;TZID=UTC:20221014T180000
DTEND;TZID=UTC:20221014T220000
DTSTAMP:20260425T213508
CREATED:20220828T164914Z
LAST-MODIFIED:20220828T164914Z
UID:10000235-1665770400-1665784800@denmarkhouse.com.au
SUMMARY:CONCERT RYTTER & BLICHFELDT
DESCRIPTION:One night only! \nAnders Blichfeldt (formerly Big Fat Snake) and Søren Rytter will play one night only at DENMARKhouse where the duo will perform covers of Danish bands Big Fat Snake and Gasolin – come along for a night of rock and joy! \nBook ticket here \nDrinks and snacks available at bar prices
URL:https://denmarkhouse.com.au/event/concert-rytter-blichfeldt/
LOCATION:Denmark House\, L3 428 Lt Bourke St\, Melbourne\, VIC\, 3000\, Australia
CATEGORIES:Public
ORGANIZER;CN="Denmark House":MAILTO:info@denmarkhouse.com.au
END:VEVENT
BEGIN:VEVENT
DTSTART;TZID=UTC:20221001T120000
DTEND;TZID=UTC:20221001T150000
DTSTAMP:20260425T213508
CREATED:20220705T201002Z
LAST-MODIFIED:20220705T201444Z
UID:10000233-1664625600-1664636400@denmarkhouse.com.au
SUMMARY:Buffet Lunch
DESCRIPTION:Every first Saturday of the month – DENMARKhouse serves a traditional Danish buffet lunch with frikadeller\, gravad laks\, crumbed fish with remoulade\, pickled herring and all your other (Danish) lunch favourites!
URL:https://denmarkhouse.com.au/event/buffet-lunch-7/
LOCATION:Denmark House\, L3 428 Lt Bourke St\, Melbourne\, VIC\, 3000\, Australia
CATEGORIES:Public
END:VEVENT
BEGIN:VEVENT
DTSTART;TZID=UTC:20220928T180000
DTEND;TZID=UTC:20220928T200000
DTSTAMP:20260425T213508
CREATED:20220705T194800Z
LAST-MODIFIED:20220705T194800Z
UID:10000229-1664388000-1664395200@denmarkhouse.com.au
SUMMARY:Members' Dinner
DESCRIPTION:Join other members of the Danish Club for a communal meal at Denmark House. \nPlease book via info@denmarkhouse.com.au or ph 9600 4477
URL:https://denmarkhouse.com.au/event/members-dinner-15/
LOCATION:Denmark House\, L3 428 Lt Bourke St\, Melbourne\, VIC\, 3000\, Australia
CATEGORIES:Club Event
ORGANIZER;CN="Danish Club":MAILTO:info@denmarkhouse.com.au
END:VEVENT
BEGIN:VEVENT
DTSTART;TZID=UTC:20220921T120000
DTEND;TZID=UTC:20220921T140000
DTSTAMP:20260425T213508
CREATED:20220705T193740Z
LAST-MODIFIED:20220705T193740Z
UID:10000284-1663761600-1663768800@denmarkhouse.com.au
SUMMARY:President's Lunch
DESCRIPTION:Join us at the President’s Lunch at Denmark House where current president Alexander Nielsen or other committee members attend. Get to know other members of the Danish Club or reconnect with members you know. \nBookings are essential – phone 9600 4477.
URL:https://denmarkhouse.com.au/event/presidents-lunch-15/
LOCATION:Denmark House\, L3 428 Lt Bourke St\, Melbourne\, VIC\, 3000\, Australia
CATEGORIES:Club Event
ORGANIZER;CN="Danish Club":MAILTO:info@denmarkhouse.com.au
END:VEVENT
BEGIN:VEVENT
DTSTART;TZID=UTC:20220903T120000
DTEND;TZID=UTC:20220903T150000
DTSTAMP:20260425T213508
CREATED:20220705T200839Z
LAST-MODIFIED:20220705T201503Z
UID:10000232-1662206400-1662217200@denmarkhouse.com.au
SUMMARY:Buffet Lunch
DESCRIPTION:Every first Saturday of the month – DENMARKhouse serves a traditional Danish buffet lunch with frikadeller\, gravad laks\, crumbed fish with remoulade\, pickled herring and all your other (Danish) lunch favourites!
URL:https://denmarkhouse.com.au/event/buffet-lunch-6/
LOCATION:Denmark House\, L3 428 Lt Bourke St\, Melbourne\, VIC\, 3000\, Australia
CATEGORIES:Public
END:VEVENT
BEGIN:VEVENT
DTSTART;TZID=UTC:20220831T180000
DTEND;TZID=UTC:20220831T200000
DTSTAMP:20260425T213508
CREATED:20220705T194534Z
LAST-MODIFIED:20220705T194534Z
UID:10000228-1661968800-1661976000@denmarkhouse.com.au
SUMMARY:Members' Dinner
DESCRIPTION:Join other members of the Danish Club for a communal meal at Denmark House. \nPlease book via info@denmarkhouse.com.au or ph 9600 4477
URL:https://denmarkhouse.com.au/event/members-dinner-14/
LOCATION:Denmark House\, L3 428 Lt Bourke St\, Melbourne\, VIC\, 3000\, Australia
CATEGORIES:Club Event
ORGANIZER;CN="Danish Club":MAILTO:info@denmarkhouse.com.au
END:VEVENT
BEGIN:VEVENT
DTSTART;TZID=UTC:20220817T120000
DTEND;TZID=UTC:20220817T140000
DTSTAMP:20260425T213508
CREATED:20220705T193618Z
LAST-MODIFIED:20220705T193639Z
UID:10000283-1660737600-1660744800@denmarkhouse.com.au
SUMMARY:President's Lunch
DESCRIPTION:Join us at the President’s Lunch at Denmark House where current president Alexander Nielsen or other committee members attend. Get to know other members of the Danish Club or reconnect with members you know. \nBookings are essential – phone 9600 4477.
URL:https://denmarkhouse.com.au/event/1201/
LOCATION:Denmark House\, L3 428 Lt Bourke St\, Melbourne\, VIC\, 3000\, Australia
CATEGORIES:Club Event
ORGANIZER;CN="Danish Club":MAILTO:info@denmarkhouse.com.au
END:VEVENT
BEGIN:VEVENT
DTSTART;TZID=UTC:20220813T173000
DTEND;TZID=UTC:20220813T223000
DTSTAMP:20260425T213508
CREATED:20220705T165632Z
LAST-MODIFIED:20220705T165632Z
UID:10000281-1660411800-1660429800@denmarkhouse.com.au
SUMMARY:MOVIE NIGHT - Another Round
DESCRIPTION:
URL:https://denmarkhouse.com.au/event/movie-night-another-round/
LOCATION:Denmark House\, L3 428 Lt Bourke St\, Melbourne\, VIC\, 3000\, Australia
CATEGORIES:Club Event
ORGANIZER;CN="Danish Club":MAILTO:info@denmarkhouse.com.au
END:VEVENT
BEGIN:VEVENT
DTSTART;TZID=UTC:20220806T120000
DTEND;TZID=UTC:20220806T150000
DTSTAMP:20260425T213508
CREATED:20220705T200257Z
LAST-MODIFIED:20220705T201524Z
UID:10000231-1659787200-1659798000@denmarkhouse.com.au
SUMMARY:Buffet Lunch
DESCRIPTION:Every first Saturday of the month – DENMARKhouse serves a traditional Danish buffet lunch with frikadeller\, gravad laks\, crumbed fish with remoulade\, pickled herring and all your other (Danish) lunch favourites!
URL:https://denmarkhouse.com.au/event/buffet-lunch-5/
LOCATION:Denmark House\, L3 428 Lt Bourke St\, Melbourne\, VIC\, 3000\, Australia
CATEGORIES:Public
ORGANIZER;CN="Denmark House":MAILTO:info@denmarkhouse.com.au
END:VEVENT
BEGIN:VEVENT
DTSTART;TZID=UTC:20220727T180000
DTEND;TZID=UTC:20220727T200000
DTSTAMP:20260425T213508
CREATED:20220705T194415Z
LAST-MODIFIED:20220705T194424Z
UID:10000227-1658944800-1658952000@denmarkhouse.com.au
SUMMARY:Members' Dinner
DESCRIPTION:Join other members of the Danish Club for a communal meal at Denmark House. \nPlease book via info@denmarkhouse.com.au or ph 9600 4477
URL:https://denmarkhouse.com.au/event/members-dinner-13/
LOCATION:Denmark House\, L3 428 Lt Bourke St\, Melbourne\, VIC\, 3000\, Australia
CATEGORIES:Club Event
ORGANIZER;CN="Danish Club":MAILTO:info@denmarkhouse.com.au
END:VEVENT
BEGIN:VEVENT
DTSTART;TZID=UTC:20220720T120000
DTEND;TZID=UTC:20220720T140000
DTSTAMP:20260425T213508
CREATED:20220705T165934Z
LAST-MODIFIED:20220705T165934Z
UID:10000282-1658318400-1658325600@denmarkhouse.com.au
SUMMARY:President's Lunch
DESCRIPTION:Join members of the Danish Club for our monthly lunch at DENMARKhouse \nBook via info@denmarkhouse.com.au or ph 9600 4477
URL:https://denmarkhouse.com.au/event/presidents-lunch-14/
LOCATION:Denmark House\, L3 428 Lt Bourke St\, Melbourne\, VIC\, 3000\, Australia
CATEGORIES:Club Event
ORGANIZER;CN="Danish Club":MAILTO:info@denmarkhouse.com.au
END:VEVENT
BEGIN:VEVENT
DTSTART;TZID=UTC:20220629T180000
DTEND;TZID=UTC:20220629T200000
DTSTAMP:20260425T213508
CREATED:20220222T014233Z
LAST-MODIFIED:20220222T014233Z
UID:10000274-1656525600-1656532800@denmarkhouse.com.au
SUMMARY:Members' dinner
DESCRIPTION:Join other members of the Danish Club for a communal meal at Denmark House – bookings are essential ph 9600 4477
URL:https://denmarkhouse.com.au/event/members-dinner-12/
LOCATION:Denmark House\, L3 428 Lt Bourke St\, Melbourne\, VIC\, 3000\, Australia
CATEGORIES:Dinner
ORGANIZER;CN="Danish Club":MAILTO:info@denmarkhouse.com.au
END:VEVENT
BEGIN:VEVENT
DTSTART;TZID=UTC:20220615T120000
DTEND;TZID=UTC:20220615T140000
DTSTAMP:20260425T213508
CREATED:20220222T014350Z
LAST-MODIFIED:20220222T014350Z
UID:10000275-1655294400-1655301600@denmarkhouse.com.au
SUMMARY:President's Lunch
DESCRIPTION:Join us at the President’s Lunch at Denmark House where current president Alexander Nielsen or other committee members attend. Get to know other members of the Danish Club or reconnect with members you know. \nBookings are essential – phone 9600 4477.
URL:https://denmarkhouse.com.au/event/presidents-lunch-13/
LOCATION:Denmark House\, L3 428 Lt Bourke St\, Melbourne\, VIC\, 3000\, Australia
CATEGORIES:Lunch
ORGANIZER;CN="Danish Club":MAILTO:info@denmarkhouse.com.au
END:VEVENT
BEGIN:VEVENT
DTSTART;TZID=UTC:20220604T120000
DTEND;TZID=UTC:20220604T150000
DTSTAMP:20260425T213508
CREATED:20220221T003228Z
LAST-MODIFIED:20220222T015409Z
UID:10000268-1654344000-1654354800@denmarkhouse.com.au
SUMMARY:Buffet Lunch
DESCRIPTION:Our monthly buffet lunches are back – book ticket via link  \nEvery first Saturday of the month – buffet with frikadeller\, gravad laks\, crumbed fish with remoulade\, pickled herring and all your other lunch favourites!
URL:https://denmarkhouse.com.au/event/buffet-lunch-4/
CATEGORIES:Lunch
END:VEVENT
BEGIN:VEVENT
DTSTART;TZID=UTC:20220527T180000
DTEND;TZID=UTC:20220527T220000
DTSTAMP:20260425T213508
CREATED:20220407T131602Z
LAST-MODIFIED:20220407T131800Z
UID:10000279-1653674400-1653688800@denmarkhouse.com.au
SUMMARY:Danish Craft Beer Night
DESCRIPTION:As Good Beer Week is cancelled again this year\, Denmark House is hosting a craft beer dinner at the end of May\, celebrating all the great Danish craft beers available at Denmark House. \nBook in early to not miss out. \nKick off with canapés and a pot of Denmark’s finest craft beer\, have a seat and enjoy a three course meal matched with Danish craft beer. On your way out\, remember to pick up your traveller. \nBook here
URL:https://denmarkhouse.com.au/event/danish-craft-beer-night/
LOCATION:Denmark House\, L3 428 Lt Bourke St\, Melbourne\, VIC\, 3000\, Australia
CATEGORIES:Public
END:VEVENT
BEGIN:VEVENT
DTSTART;TZID=UTC:20220525T180000
DTEND;TZID=UTC:20220525T200000
DTSTAMP:20260425T213508
CREATED:20220222T014018Z
LAST-MODIFIED:20220407T130832Z
UID:10000273-1653501600-1653508800@denmarkhouse.com.au
SUMMARY:Members' dinner
DESCRIPTION:Join other members of the Danish Club for a communal meal at Denmark House – this month our theme is craft beer tasting. \nBookings are essential via info@denmarkhouse.com.au or ph 9600 4477.
URL:https://denmarkhouse.com.au/event/members-dinner-11/
LOCATION:Denmark House\, L3 428 Lt Bourke St\, Melbourne\, VIC\, 3000\, Australia
CATEGORIES:Dinner
ORGANIZER;CN="Danish Club":MAILTO:info@denmarkhouse.com.au
END:VEVENT
BEGIN:VEVENT
DTSTART;TZID=UTC:20220518T000000
DTEND;TZID=UTC:20220518T140000
DTSTAMP:20260425T213508
CREATED:20220208T171915Z
LAST-MODIFIED:20220208T195005Z
UID:10000262-1652832000-1652882400@denmarkhouse.com.au
SUMMARY:President's lunch
DESCRIPTION:Join us at the President’s Lunch at Denmark House where current president Alexander Nielsen or other committee members attend. Get to know other members of the Danish Club or reconnect with members you know. \nBookings are essential – phone 9600 4477.
URL:https://denmarkhouse.com.au/event/presidents-lunch-11/
LOCATION:Denmark House\, L3 428 Lt Bourke St\, Melbourne\, VIC\, 3000\, Australia
CATEGORIES:Lunch
ORGANIZER;CN="Danish Club":MAILTO:info@denmarkhouse.com.au
END:VEVENT
BEGIN:VEVENT
DTSTART;TZID=UTC:20220515T190000
DTEND;TZID=UTC:20220515T220000
DTSTAMP:20260425T213508
CREATED:20220505T142205Z
LAST-MODIFIED:20220505T142205Z
UID:10000280-1652641200-1652652000@denmarkhouse.com.au
SUMMARY:EUROVISION GRAND FINAL 2022
DESCRIPTION:For the first time in a while\, DENMARKhouse is screening the Eurovision grand final so bring your friends for a night of glitter and glamour just like the old days before COVID! \nThis is a free event with drinks and snacks available at bar prices. \nSee you at DENMARKhouse!
URL:https://denmarkhouse.com.au/event/eurovision-grand-final-2022/
CATEGORIES:Public
END:VEVENT
BEGIN:VEVENT
DTSTART;TZID=UTC:20220507T120000
DTEND;TZID=UTC:20220507T150000
DTSTAMP:20260425T213508
CREATED:20220221T003102Z
LAST-MODIFIED:20220221T003114Z
UID:10000267-1651924800-1651935600@denmarkhouse.com.au
SUMMARY:Buffet Lunch
DESCRIPTION:Our monthly buffet lunches are back – book ticket via link  \nEvery first Saturday of the month – buffet with frikadeller\, gravad laks\, crumbed fish with remoulade\, pickled herring and all your other lunch favourites!
URL:https://denmarkhouse.com.au/event/buffet-lunch-3/
CATEGORIES:Public
END:VEVENT
BEGIN:VEVENT
DTSTART;TZID=UTC:20220427T180000
DTEND;TZID=UTC:20220427T200000
DTSTAMP:20260425T213508
CREATED:20220222T013403Z
LAST-MODIFIED:20220407T125837Z
UID:10000272-1651082400-1651089600@denmarkhouse.com.au
SUMMARY:Members' dinner
DESCRIPTION:Join other members of the Danish Club for a communal meal at Denmark House. \nWe toast to the Queen in honour of her birthday month. \nPlease book via info@denmarkhouse.com.au or ph 9600 4477
URL:https://denmarkhouse.com.au/event/members-dinner-10/
LOCATION:Denmark House\, L3 428 Lt Bourke St\, Melbourne\, VIC\, 3000\, Australia
CATEGORIES:Dinner
ORGANIZER;CN="Danish Club":MAILTO:info@denmarkhouse.com.au
END:VEVENT
BEGIN:VEVENT
DTSTART;VALUE=DATE:20220425
DTEND;VALUE=DATE:20220426
DTSTAMP:20260425T213508
CREATED:20220222T015142Z
LAST-MODIFIED:20220222T015142Z
UID:10000278-1650844800-1650931199@denmarkhouse.com.au
SUMMARY:CLOSED
DESCRIPTION:CLOSED FOR PUBLIC HOLIDAY
URL:https://denmarkhouse.com.au/event/closed-4/
LOCATION:Denmark House\, L3 428 Lt Bourke St\, Melbourne\, VIC\, 3000\, Australia
CATEGORIES:Public
END:VEVENT
BEGIN:VEVENT
DTSTART;TZID=UTC:20220423T120000
DTEND;TZID=UTC:20220423T170000
DTSTAMP:20260425T213508
CREATED:20210506T193528Z
LAST-MODIFIED:20220407T125628Z
UID:10000239-1650715200-1650733200@denmarkhouse.com.au
SUMMARY:Queen's birthday lunch
DESCRIPTION:Join us for the annual celebration of the birthday of Her Majesty Queen Margrethe II of Denmark and catch up with other club members. This is a free event for members of the Danish Club Dannebrog with plenty of snaps and other drinks available on consumption. \nBooking are essential via ph 9600 4477 or info@denmarkhouse.com.au
URL:https://denmarkhouse.com.au/event/queens-birthday-lunch/
LOCATION:Denmark House\, L3 428 Lt Bourke St\, Melbourne\, VIC\, 3000\, Australia
CATEGORIES:Club Event
ORGANIZER;CN="Danish Club":MAILTO:info@denmarkhouse.com.au
END:VEVENT
BEGIN:VEVENT
DTSTART;TZID=UTC:20220420T000000
DTEND;TZID=UTC:20220420T140000
DTSTAMP:20260425T213508
CREATED:20220208T194913Z
LAST-MODIFIED:20220208T194913Z
UID:10000264-1650412800-1650463200@denmarkhouse.com.au
SUMMARY:President's Lunch
DESCRIPTION:Join us at the President’s Lunch at Denmark House where current president Alexander Nielsen or other committee members attend. Get to know other members of the Danish Club or reconnect with members you know. Bookings are essential – phone 9600 4477. \n\n\n\n\n\n\n 
URL:https://denmarkhouse.com.au/event/presidents-lunch-12/
LOCATION:Denmark House\, L3 428 Lt Bourke St\, Melbourne\, VIC\, 3000\, Australia
CATEGORIES:Lunch
ORGANIZER;CN="Danish Club":MAILTO:info@denmarkhouse.com.au
END:VEVENT
BEGIN:VEVENT
DTSTART;VALUE=DATE:20220418
DTEND;VALUE=DATE:20220419
DTSTAMP:20260425T213508
CREATED:20220222T014705Z
LAST-MODIFIED:20220222T014756Z
UID:10000277-1650240000-1650326399@denmarkhouse.com.au
SUMMARY:CLOSED
DESCRIPTION:CLOSED FOR PUBLIC HOLIDAY
URL:https://denmarkhouse.com.au/event/closed-3/
LOCATION:Denmark House\, L3 428 Lt Bourke St\, Melbourne\, VIC\, 3000\, Australia
CATEGORIES:Public
END:VEVENT
BEGIN:VEVENT
DTSTART;VALUE=DATE:20220415
DTEND;VALUE=DATE:20220416
DTSTAMP:20260425T213508
CREATED:20220222T014605Z
LAST-MODIFIED:20220222T014815Z
UID:10000276-1649980800-1650067199@denmarkhouse.com.au
SUMMARY:CLOSED
DESCRIPTION:CLOSED FOR PUBLIC HOLIDAY
URL:https://denmarkhouse.com.au/event/closed-2/
LOCATION:Denmark House\, L3 428 Lt Bourke St\, Melbourne\, VIC\, 3000\, Australia
CATEGORIES:Public
ORGANIZER;CN="Denmark House":MAILTO:info@denmarkhouse.com.au
END:VEVENT
BEGIN:VEVENT
DTSTART;TZID=UTC:20220409T140000
DTEND;TZID=UTC:20220409T170000
DTSTAMP:20260425T213508
CREATED:20220222T012440Z
LAST-MODIFIED:20220222T012440Z
UID:10000271-1649512800-1649523600@denmarkhouse.com.au
SUMMARY:Påskeklip
DESCRIPTION:We come together with our families for a day of  påskeklip and hygge as we come together to make decorations for Easter. Bring your family for a day of DIY decorations – much like our beloved Juleklip event. \nLight snacks provided – drinks at bar prices \nPlease RSVP via ph. 9600 4477 or info@denmarkhouse.com.au
URL:https://denmarkhouse.com.au/event/paskeklip/
LOCATION:Denmark House\, L3 428 Lt Bourke St\, Melbourne\, VIC\, 3000\, Australia
CATEGORIES:Club Event
ORGANIZER;CN="Danish Club":MAILTO:info@denmarkhouse.com.au
END:VEVENT
BEGIN:VEVENT
DTSTART;TZID=UTC:20220402T120000
DTEND;TZID=UTC:20220512T150000
DTSTAMP:20260425T213508
CREATED:20220221T002951Z
LAST-MODIFIED:20220221T002951Z
UID:10000266-1648900800-1652367600@denmarkhouse.com.au
SUMMARY:Buffet Lunch
DESCRIPTION:Our monthly buffet lunches are back – book ticket via link  \nEvery first Saturday of the month – buffet with frikadeller\, gravad laks\, crumbed fish with remoulade\, pickled herring and all your other lunch favourites!
URL:https://denmarkhouse.com.au/event/buffet-lunch-2/
CATEGORIES:Lunch
ORGANIZER;CN="Denmark House":MAILTO:info@denmarkhouse.com.au
END:VEVENT
BEGIN:VEVENT
DTSTART;TZID=UTC:20220401T170000
DTEND;TZID=UTC:20220401T210000
DTSTAMP:20260425T213508
CREATED:20220221T003944Z
LAST-MODIFIED:20220222T013224Z
UID:10000269-1648832400-1648846800@denmarkhouse.com.au
SUMMARY:Concert - An evening with Simon Thielke
DESCRIPTION:Copenhagen-born classical guitarist and graduate from the Royal Danish Academy of Music\, Simon Thielke performs at Denmark House.\n\nThielke has more than 20 years experience in public performances across Denmark and Australia plus in several countries such as Venezuela\, Spain\, Italy\, Montenegro\, Germany and Sweden and has a played a broad range of styles from Bach to Spanish/ Latin-American\, folk and contemporary. He has performed in various other chamber music constellations such as with world renowned soloists oboist Henrik Goldschmidt and cellist Andreas Brantelid.\n\nThe concert is a free event with drinks and bar food available for purchase. RSVP via info@denmarkhouse.com.au
URL:https://denmarkhouse.com.au/event/an-evening-with-simon-thielke/
LOCATION:Denmark House\, L3 428 Lt Bourke St\, Melbourne\, VIC\, 3000\, Australia
CATEGORIES:Public
ORGANIZER;CN="Denmark House":MAILTO:info@denmarkhouse.com.au
END:VEVENT
BEGIN:VEVENT
DTSTART;TZID=UTC:20220330T180000
DTEND;TZID=UTC:20220330T200000
DTSTAMP:20260425T213508
CREATED:20210510T011727Z
LAST-MODIFIED:20210510T011727Z
UID:10000257-1648663200-1648670400@denmarkhouse.com.au
SUMMARY:Members' dinner
DESCRIPTION:Join other members of the Danish Club for a communal meal at Denmark House – bookings are essential ph 9600 4477
URL:https://denmarkhouse.com.au/event/members-dinner-9/
LOCATION:Denmark House\, L3 428 Lt Bourke St\, Melbourne\, VIC\, 3000\, Australia
CATEGORIES:Dinner
ORGANIZER;CN="Danish Club":MAILTO:info@denmarkhouse.com.au
END:VEVENT
END:VCALENDAR