BEGIN:VCALENDAR
VERSION:2.0
PRODID:-//Denmark House - ECPv6.15.20//NONSGML v1.0//EN
CALSCALE:GREGORIAN
METHOD:PUBLISH
X-WR-CALNAME:Denmark House
X-ORIGINAL-URL:https://denmarkhouse.com.au
X-WR-CALDESC:Events for Denmark House
REFRESH-INTERVAL;VALUE=DURATION:PT1H
X-Robots-Tag:noindex
X-PUBLISHED-TTL:PT1H
BEGIN:VTIMEZONE
TZID:Australia/Melbourne
BEGIN:STANDARD
TZOFFSETFROM:+1100
TZOFFSETTO:+1000
TZNAME:AEST
DTSTART:20230401T160000
END:STANDARD
BEGIN:DAYLIGHT
TZOFFSETFROM:+1000
TZOFFSETTO:+1100
TZNAME:AEDT
DTSTART:20230930T160000
END:DAYLIGHT
BEGIN:STANDARD
TZOFFSETFROM:+1100
TZOFFSETTO:+1000
TZNAME:AEST
DTSTART:20240406T160000
END:STANDARD
BEGIN:DAYLIGHT
TZOFFSETFROM:+1000
TZOFFSETTO:+1100
TZNAME:AEDT
DTSTART:20241005T160000
END:DAYLIGHT
BEGIN:STANDARD
TZOFFSETFROM:+1100
TZOFFSETTO:+1000
TZNAME:AEST
DTSTART:20250405T160000
END:STANDARD
BEGIN:DAYLIGHT
TZOFFSETFROM:+1000
TZOFFSETTO:+1100
TZNAME:AEDT
DTSTART:20251004T160000
END:DAYLIGHT
END:VTIMEZONE
BEGIN:VEVENT
DTSTART;TZID=Australia/Melbourne:20240702T080000
DTEND;TZID=Australia/Melbourne:20240702T170000
DTSTAMP:20260425T004216
CREATED:20240620T013605Z
LAST-MODIFIED:20240620T013605Z
UID:10000408-1719907200-1719939600@denmarkhouse.com.au
SUMMARY:Closed for private function
DESCRIPTION:
URL:https://denmarkhouse.com.au/event/closed-for-private-function-3/
END:VEVENT
BEGIN:VEVENT
DTSTART;TZID=Australia/Melbourne:20240706T120000
DTEND;TZID=Australia/Melbourne:20240706T160000
DTSTAMP:20260425T004216
CREATED:20231012T030417Z
LAST-MODIFIED:20240617T085045Z
UID:10000378-1720267200-1720281600@denmarkhouse.com.au
SUMMARY:Christmas in July Buffet
DESCRIPTION:Celebrate Christmas early at our annual Christmas in July buffet. Enjoy some Danish winter hygge with a warm mug of gløgg (mulled wine) before sitting down for an all you can eat buffet of traditional Christmas food with all the trimmings.
URL:https://denmarkhouse.com.au/event/buffet-lunch-21/
CATEGORIES:Lunch,Public
ATTACH;FMTTYPE=image/jpeg:https://denmarkhouse.com.au/wp-content/uploads/2023/10/IMG_49284.CR2_.jpg
ORGANIZER;CN="Denmark House":MAILTO:info@denmarkhouse.com.au
END:VEVENT
BEGIN:VEVENT
DTSTART;TZID=Australia/Melbourne:20240713T120000
DTEND;TZID=Australia/Melbourne:20240713T160000
DTSTAMP:20260425T004216
CREATED:20240503T012416Z
LAST-MODIFIED:20240617T085112Z
UID:10000403-1720872000-1720886400@denmarkhouse.com.au
SUMMARY:Christmas in July Buffet
DESCRIPTION:Celebrate Christmas early at our annual Christmas in July buffet. Enjoy some Danish winter hygge with a warm mug of gløgg (mulled wine) before sitting down for an all you can eat buffet of traditional Christmas food with all the trimmings.
URL:https://denmarkhouse.com.au/event/christmas-in-july-3/
CATEGORIES:Club Event,Cultural Event,Lunch
END:VEVENT
BEGIN:VEVENT
DTSTART;TZID=Australia/Melbourne:20240715T080000
DTEND;TZID=Australia/Melbourne:20240715T170000
DTSTAMP:20260425T004216
CREATED:20240709T024111Z
LAST-MODIFIED:20240709T024111Z
UID:10000415-1721030400-1721062800@denmarkhouse.com.au
SUMMARY:Closed for private function
DESCRIPTION:
URL:https://denmarkhouse.com.au/event/closed-for-private-function-6/
END:VEVENT
BEGIN:VEVENT
DTSTART;TZID=Australia/Melbourne:20240717T120000
DTEND;TZID=Australia/Melbourne:20240717T150000
DTSTAMP:20260425T004216
CREATED:20231012T015040Z
LAST-MODIFIED:20231012T023806Z
UID:10000368-1721217600-1721228400@denmarkhouse.com.au
SUMMARY:President's Lunch
DESCRIPTION:Join us at the President’s Lunch at Denmark House where current president Alexander Nielsen or other committee members attend. Get to know other members of the Danish Club or reconnect with members you know. Bookings are essential – phone 9600 4477.
URL:https://denmarkhouse.com.au/event/presidents-lunch-34/
CATEGORIES:Club Event,Lunch
END:VEVENT
BEGIN:VEVENT
DTSTART;TZID=Australia/Melbourne:20240720T100000
DTEND;TZID=Australia/Melbourne:20240720T160000
DTSTAMP:20260425T004216
CREATED:20240508T023834Z
LAST-MODIFIED:20240617T090319Z
UID:10000404-1721469600-1721491200@denmarkhouse.com.au
SUMMARY:Winter Christmas Bazaar
DESCRIPTION:Browse through a variety of vendors selling unique gifts\, holiday decorations\, and delicious treats. Enjoy traditional Danish cuisine\, gløgg\, and live music as we get into the holiday spirit. Bring the whole family and make special memories at our winter bazaar. \nDon’t miss out on this magical event – mark your calendars and see you there!
URL:https://denmarkhouse.com.au/event/winter-christmas-bazaar/
CATEGORIES:Club Event,Cultural Event,Free Event,Public
END:VEVENT
BEGIN:VEVENT
DTSTART;TZID=Australia/Melbourne:20240723T080000
DTEND;TZID=Australia/Melbourne:20240723T170000
DTSTAMP:20260425T004216
CREATED:20240627T020431Z
LAST-MODIFIED:20240627T020431Z
UID:10000414-1721721600-1721754000@denmarkhouse.com.au
SUMMARY:Closed for private function
DESCRIPTION:
URL:https://denmarkhouse.com.au/event/closed-for-private-function-5/
END:VEVENT
BEGIN:VEVENT
DTSTART;TZID=Australia/Melbourne:20240725T160000
DTEND;TZID=Australia/Melbourne:20240725T233000
DTSTAMP:20260425T004216
CREATED:20240722T051119Z
LAST-MODIFIED:20240722T051119Z
UID:10000417-1721923200-1721950200@denmarkhouse.com.au
SUMMARY:Closed for private event
DESCRIPTION:
URL:https://denmarkhouse.com.au/event/closed-for-private-event/
END:VEVENT
BEGIN:VEVENT
DTSTART;TZID=Australia/Melbourne:20240726T080000
DTEND;TZID=Australia/Melbourne:20240726T170000
DTSTAMP:20260425T004216
CREATED:20240620T013731Z
LAST-MODIFIED:20240702T072004Z
UID:10000409-1721980800-1722013200@denmarkhouse.com.au
SUMMARY:Closed for private function
DESCRIPTION:
URL:https://denmarkhouse.com.au/event/closed-for-private-function-4/
END:VEVENT
BEGIN:VEVENT
DTSTART;TZID=Australia/Melbourne:20240726T180000
DTEND;TZID=Australia/Melbourne:20240726T210000
DTSTAMP:20260425T004216
CREATED:20240408T004040Z
LAST-MODIFIED:20240715T044804Z
UID:10000400-1722016800-1722027600@denmarkhouse.com.au
SUMMARY:UngKlang choir Performance and Dinner
DESCRIPTION:Join us for an evening with the acclaimed Danish choir\, UngKlang. The bar will be open from 5pm to purchase drinks\, with a performance starting at 6pm. This is followed by a three course dinner.
URL:https://denmarkhouse.com.au/event/ung-klang-choir/
CATEGORIES:Cultural Event,Dinner,Public
ATTACH;FMTTYPE=image/jpeg:https://denmarkhouse.com.au/wp-content/uploads/2024/06/image_6483441-2.jpeg
END:VEVENT
BEGIN:VEVENT
DTSTART;TZID=Australia/Melbourne:20240727T120000
DTEND;TZID=Australia/Melbourne:20240727T160000
DTSTAMP:20260425T004216
CREATED:20240604T010745Z
LAST-MODIFIED:20240617T085018Z
UID:10000406-1722081600-1722096000@denmarkhouse.com.au
SUMMARY:Christmas in July Buffet
DESCRIPTION:Celebrate Christmas early at our annual Christmas in July buffet. Enjoy some Danish winter hygge with a warm mug of gløgg (mulled wine) before sitting down for an all you can eat buffet of traditional Christmas food with all the trimmings.
URL:https://denmarkhouse.com.au/event/christmas-in-july-buffet/
CATEGORIES:Lunch,Public
END:VEVENT
BEGIN:VEVENT
DTSTART;TZID=Australia/Melbourne:20240729T080000
DTEND;TZID=Australia/Melbourne:20240729T170000
DTSTAMP:20260425T004216
CREATED:20240727T015139Z
LAST-MODIFIED:20240727T015139Z
UID:10000418-1722240000-1722272400@denmarkhouse.com.au
SUMMARY:Closed for private function
DESCRIPTION:
URL:https://denmarkhouse.com.au/event/closed-for-private-function-7/
END:VEVENT
BEGIN:VEVENT
DTSTART;TZID=Australia/Melbourne:20240731T180000
DTEND;TZID=Australia/Melbourne:20240731T210000
DTSTAMP:20260425T004216
CREATED:20231012T031701Z
LAST-MODIFIED:20240620T014117Z
UID:10000387-1722448800-1722459600@denmarkhouse.com.au
SUMMARY:Christmas in July Members' Dinner
DESCRIPTION:Our annual Christmas in July members evening will feature a roast dinner followed by risalamande. Join other members of the Danish Club for a communal meal at Denmark House – bookings are essential ph 9600 4477 or the link below.
URL:https://denmarkhouse.com.au/event/members-dinner-32/
CATEGORIES:Club Event,Dinner
END:VEVENT
END:VCALENDAR