BEGIN:VCALENDAR
VERSION:2.0
PRODID:-//Denmark House - ECPv6.15.20//NONSGML v1.0//EN
CALSCALE:GREGORIAN
METHOD:PUBLISH
X-ORIGINAL-URL:https://denmarkhouse.com.au
X-WR-CALDESC:Events for Denmark House
REFRESH-INTERVAL;VALUE=DURATION:PT1H
X-Robots-Tag:noindex
X-PUBLISHED-TTL:PT1H
BEGIN:VTIMEZONE
TZID:Australia/Melbourne
BEGIN:STANDARD
TZOFFSETFROM:+1100
TZOFFSETTO:+1000
TZNAME:AEST
DTSTART:20220402T160000
END:STANDARD
BEGIN:DAYLIGHT
TZOFFSETFROM:+1000
TZOFFSETTO:+1100
TZNAME:AEDT
DTSTART:20221001T160000
END:DAYLIGHT
BEGIN:STANDARD
TZOFFSETFROM:+1100
TZOFFSETTO:+1000
TZNAME:AEST
DTSTART:20230401T160000
END:STANDARD
BEGIN:DAYLIGHT
TZOFFSETFROM:+1000
TZOFFSETTO:+1100
TZNAME:AEDT
DTSTART:20230930T160000
END:DAYLIGHT
BEGIN:STANDARD
TZOFFSETFROM:+1100
TZOFFSETTO:+1000
TZNAME:AEST
DTSTART:20240406T160000
END:STANDARD
BEGIN:DAYLIGHT
TZOFFSETFROM:+1000
TZOFFSETTO:+1100
TZNAME:AEDT
DTSTART:20241005T160000
END:DAYLIGHT
BEGIN:STANDARD
TZOFFSETFROM:+1100
TZOFFSETTO:+1000
TZNAME:AEST
DTSTART:20250405T160000
END:STANDARD
BEGIN:DAYLIGHT
TZOFFSETFROM:+1000
TZOFFSETTO:+1100
TZNAME:AEDT
DTSTART:20251004T160000
END:DAYLIGHT
BEGIN:STANDARD
TZOFFSETFROM:+1100
TZOFFSETTO:+1000
TZNAME:AEST
DTSTART:20260404T160000
END:STANDARD
BEGIN:DAYLIGHT
TZOFFSETFROM:+1000
TZOFFSETTO:+1100
TZNAME:AEDT
DTSTART:20261003T160000
END:DAYLIGHT
END:VTIMEZONE
BEGIN:VEVENT
DTSTART;TZID=Australia/Melbourne:20250406T110000
DTEND;TZID=Australia/Melbourne:20250406T140000
DTSTAMP:20260422T040045
CREATED:20250124T024451Z
LAST-MODIFIED:20250210T101957Z
UID:10000462-1743937200-1743948000@denmarkhouse.com.au
SUMMARY:Påskeklip - Family Easter Decoration Day
DESCRIPTION:Bring your kids and make your own decorations to take home. \nWe will puste æg/blow eggs and paint them\, cut gækkebreve and many other decorations for your home to hang up. \nDrinks and food will be available to purchase on the day. \nClub Members and children are free\, adult guests/non members $10. \nPlease get your tickets below and let us know if your plans change and can no longer make it.
URL:https://denmarkhouse.com.au/event/paskeklip-family-easter-decoration-day/
LOCATION:Denmark House\, L3 428 Lt Bourke St\, Melbourne\, VIC\, 3000\, Australia
CATEGORIES:Club Event,Cultural Event,Free Event
ATTACH;FMTTYPE=image/jpeg:https://denmarkhouse.com.au/wp-content/uploads/2025/01/IMG_6310.jpg
ORGANIZER;CN="Danish Club":MAILTO:info@denmarkhouse.com.au
END:VEVENT
BEGIN:VEVENT
DTSTART;TZID=Australia/Melbourne:20250405T120000
DTEND;TZID=Australia/Melbourne:20250405T160000
DTSTAMP:20260422T040045
CREATED:20241015T043128Z
LAST-MODIFIED:20250226T030410Z
UID:10000437-1743854400-1743868800@denmarkhouse.com.au
SUMMARY:Easter Buffet Lunch
DESCRIPTION:For decades our Monthly Danish Lunch Buffet has been a hallmark at Denmark House.  \nOn the first Saturday of every month Denmark House serves our popular Danish buffet lunch with all of your favorite traditional Danish food\, including pickled herring\, gravad laks\, roast pork\, crumbed fish with remoulade\, meatballs\, dessert\, tea & coffee and more. \n$55 for Danish Club Members – $65 for Guest/non members – $25 for children
URL:https://denmarkhouse.com.au/event/monthly-buffet-3/
LOCATION:Denmark House\, L3 428 Lt Bourke St\, Melbourne\, VIC\, 3000\, Australia
CATEGORIES:Lunch,Public
ORGANIZER;CN="Denmark House":MAILTO:info@denmarkhouse.com.au
END:VEVENT
BEGIN:VEVENT
DTSTART;TZID=Australia/Melbourne:20250404T180000
DTEND;TZID=Australia/Melbourne:20250404T210000
DTSTAMP:20260422T040045
CREATED:20250124T025504Z
LAST-MODIFIED:20250129T021944Z
UID:10000464-1743789600-1743800400@denmarkhouse.com.au
SUMMARY:Young Vikings in Town
DESCRIPTION:Kom og mød andre danskere i Melbourne\, første Fredag i måneden. \nDer bliver spillet klask og hygget. \nHappy hour indtil klokken 18\, så kom gerne lidt før. \nHjemmeside https://www.yvit.net/home
URL:https://denmarkhouse.com.au/event/young-vikings-in-town-3/
LOCATION:Denmark House\, L3 428 Lt Bourke St\, Melbourne\, VIC\, 3000\, Australia
CATEGORIES:Cultural Event
ORGANIZER;CN="Denmark House":MAILTO:info@denmarkhouse.com.au
END:VEVENT
BEGIN:VEVENT
DTSTART;TZID=Australia/Melbourne:20250403T160000
DTEND;TZID=Australia/Melbourne:20250403T190000
DTSTAMP:20260422T040045
CREATED:20250320T034704Z
LAST-MODIFIED:20250320T034750Z
UID:10000490-1743696000-1743706800@denmarkhouse.com.au
SUMMARY:Studenterbar for U25
DESCRIPTION:Er du mellem 18-25 år og bor eller er på besøg i Melbourne? \nVi holder en komsammen netværks aften for alle unge der bor i Melbourne\, i længere eller kortere tid. \nMåske har du en dansk forælder\, WHV\, er studerende eller bare på en lækker ferie og savner at tale dansk. \nHappy hour fra 16 til 18\, Carlsberg fadøl og vin til $6. Køkkenet er også åbent fra 16 til 20.
URL:https://denmarkhouse.com.au/event/studenterbar-for-u25-3/
LOCATION:Denmark House\, L3 428 Lt Bourke St\, Melbourne\, VIC\, 3000\, Australia
ATTACH;FMTTYPE=image/png:https://denmarkhouse.com.au/wp-content/uploads/2025/03/Studenterbar-sommer-2025-3.png
ORGANIZER;CN="Denmark House":MAILTO:info@denmarkhouse.com.au
END:VEVENT
BEGIN:VEVENT
DTSTART;TZID=Australia/Melbourne:20250330T100000
DTEND;TZID=Australia/Melbourne:20250330T120000
DTSTAMP:20260422T040045
CREATED:20250217T002544Z
LAST-MODIFIED:20250217T002544Z
UID:10000487-1743328800-1743336000@denmarkhouse.com.au
SUMMARY:Danish School Down Under
DESCRIPTION:The Danish School Down Under and the Danish Club have gone together to offer free Danish lessons for kids of club members. \nYour child must be school age and wanting to improve their Danish language skills. It is imperative the child can be supported in their Danish language at home. \nOur enrolled children must therefore have a Danish speaking parent or career to support their learning to enable them to progress at Danish School Down Under. \nLessons hosted at Denmark House except for February: \n\nSunday 23.Feb 2025 Flagstaff Gardens\nSunday 30.Mar 2025\nSunday 27.Apr 2025\nSunday 25. May 2025\nSunday 29. Jun 2025\nSunday 3. Aug 2025\nSunday 31. Aug 2025\nSunday 14. Sep 2025\nSunday 26. Oct 2025 (AGM\, extended)\nSunday 30. Nov 2025\n\nFill in a DSDU enrolment for each child you enroll and email to DSDU
URL:https://denmarkhouse.com.au/event/danish-school-down-under/
LOCATION:Denmark House\, L3 428 Lt Bourke St\, Melbourne\, VIC\, 3000\, Australia
ATTACH;FMTTYPE=image/jpeg:https://denmarkhouse.com.au/wp-content/uploads/2025/02/DSDU-logo-round.jpg
ORGANIZER;CN="Danish Club":MAILTO:info@denmarkhouse.com.au
END:VEVENT
BEGIN:VEVENT
DTSTART;TZID=Australia/Melbourne:20250327T180000
DTEND;TZID=Australia/Melbourne:20250327T210000
DTSTAMP:20260422T040045
CREATED:20250204T040154Z
LAST-MODIFIED:20250204T040410Z
UID:10000484-1743098400-1743109200@denmarkhouse.com.au
SUMMARY:Members Dinner March 2025
DESCRIPTION:Join other members of the Danish Club for an evening of Hygge. \nThis event is a great way to connect with other likeminded people and meet new and old friends. \nPrice includes one drink\, one akvavit\, set main course\, dessert and coffee. \nBookings are essential\, book your ticket now.
URL:https://denmarkhouse.com.au/event/members-dinner-march-2025/
LOCATION:Denmark House\, L3 428 Lt Bourke St\, Melbourne\, VIC\, 3000\, Australia
ORGANIZER;CN="Danish Club":MAILTO:info@denmarkhouse.com.au
END:VEVENT
BEGIN:VEVENT
DTSTART;TZID=Australia/Melbourne:20250322T180000
DTEND;TZID=Australia/Melbourne:20250322T210000
DTSTAMP:20260422T040045
CREATED:20250303T013531Z
LAST-MODIFIED:20250311T012342Z
UID:10000489-1742666400-1742677200@denmarkhouse.com.au
SUMMARY:Members only event - Fuglekonge middag 2025 - Rasmus Fiedler
DESCRIPTION:A Danish Club tradition since 1899. \nJoin us celebrating the 103rd Fuglekonge\, Rasmus Fiedler. \nPrice is including three course dinner\, tea and coffee. \n$65 for members\, $75 for partners/guests.
URL:https://denmarkhouse.com.au/event/members-only-event-fuglekonge-middag-2025-rasmus-fiedler/
LOCATION:Denmark House\, L3 428 Lt Bourke St\, Melbourne\, VIC\, 3000\, Australia
ATTACH;FMTTYPE=image/jpeg:https://denmarkhouse.com.au/wp-content/uploads/2025/03/PXL_20250222_014229839.RAW-01.MP_.COVER_-e1740965908714.jpg
ORGANIZER;CN="Danish Club":MAILTO:info@denmarkhouse.com.au
END:VEVENT
BEGIN:VEVENT
DTSTART;TZID=Australia/Melbourne:20250319T120000
DTEND;TZID=Australia/Melbourne:20250319T143000
DTSTAMP:20260422T040045
CREATED:20250129T005109Z
LAST-MODIFIED:20250129T021912Z
UID:10000474-1742385600-1742394600@denmarkhouse.com.au
SUMMARY:Members only event – Præsident’s Taffel\, March 2025
DESCRIPTION:Join us for the monthly President’s Lunch at Denmark House to share a communal lunch and get to know other members of the Danish Club or reconnect with friends. Price includes four smørrebrød\, one akvavit\, dessert\, and coffee. \nBookings are essential \,book your ticket now.
URL:https://denmarkhouse.com.au/event/members-only-event-praesidents-taffel-march-2025/
LOCATION:Denmark House\, L3 428 Lt Bourke St\, Melbourne\, VIC\, 3000\, Australia
ORGANIZER;CN="Danish Club":MAILTO:info@denmarkhouse.com.au
END:VEVENT
BEGIN:VEVENT
DTSTART;TZID=Australia/Melbourne:20250313T160000
DTEND;TZID=Australia/Melbourne:20250313T190000
DTSTAMP:20260422T040045
CREATED:20250217T001202Z
LAST-MODIFIED:20250217T001202Z
UID:10000486-1741881600-1741892400@denmarkhouse.com.au
SUMMARY:Studenterbar for U25
DESCRIPTION:Er du mellem 18-25 år og bor eller er på besøg i Melbourne? \nVi holder en komsammen netværks aften for alle unge der bor i Melbourne\, i længere eller kortere tid. \nMåske har du en dansk forældre\, WHV\, er studerende eller bare på en lækker ferie og savner at tale dansk. \nHappy hour fra 16 til 18\, Carlsberg fadøl og vin til $6. Køkkenet er også åbent fra 16 til 20.
URL:https://denmarkhouse.com.au/event/studenterbar-for-u25-2/
LOCATION:Denmark House\, L3 428 Lt Bourke St\, Melbourne\, VIC\, 3000\, Australia
ATTACH;FMTTYPE=image/png:https://denmarkhouse.com.au/wp-content/uploads/2025/02/Studenterbar-sommer-2025.png
ORGANIZER;CN="Denmark House":MAILTO:info@denmarkhouse.com.au
END:VEVENT
BEGIN:VEVENT
DTSTART;TZID=Australia/Melbourne:20250307T180000
DTEND;TZID=Australia/Melbourne:20250307T210000
DTSTAMP:20260422T040045
CREATED:20250124T025429Z
LAST-MODIFIED:20250204T035542Z
UID:10000463-1741370400-1741381200@denmarkhouse.com.au
SUMMARY:Young Vikings in Town
DESCRIPTION:Kom og mød andre danskere i Melbourne\, første Fredag i måneden. \nDer bliver spillet klask og hygget. \nHappy hour indtil klokken 18\, så kom gerne lidt før. \nHjemmeside https://www.yvit.net/home \n 
URL:https://denmarkhouse.com.au/event/young-vikings-in-town-2/
LOCATION:Denmark House\, L3 428 Lt Bourke St\, Melbourne\, VIC\, 3000\, Australia
CATEGORIES:Cultural Event
ORGANIZER;CN="Denmark House":MAILTO:info@denmarkhouse.com.au
END:VEVENT
BEGIN:VEVENT
DTSTART;TZID=Australia/Melbourne:20250301T120000
DTEND;TZID=Australia/Melbourne:20250301T160000
DTSTAMP:20260422T040045
CREATED:20241015T043035Z
LAST-MODIFIED:20250226T030531Z
UID:10000436-1740830400-1740844800@denmarkhouse.com.au
SUMMARY:Monthly buffet
DESCRIPTION:For decades our Monthly Danish Lunch Buffet has been a hallmark at Denmark House.  \nOn the first Saturday of every month Denmark House serves our popular Danish buffet lunch with all of your favorite traditional Danish food\, including pickled herring\, gravad laks\, roast pork\, crumbed fish with remoulade\, meatballs\, dessert\, tea & coffee and more. \n$55 for Danish Club Members – $65 for Guest/non members – $25 for children
URL:https://denmarkhouse.com.au/event/monthly-buffet-2/
LOCATION:Denmark House\, L3 428 Lt Bourke St\, Melbourne\, VIC\, 3000\, Australia
CATEGORIES:Lunch,Public
ORGANIZER;CN="Denmark House":MAILTO:info@denmarkhouse.com.au
END:VEVENT
BEGIN:VEVENT
DTSTART;TZID=Australia/Melbourne:20250228T120000
DTEND;TZID=Australia/Melbourne:20250228T210000
DTSTAMP:20260422T040045
CREATED:20250204T035119Z
LAST-MODIFIED:20250218T221503Z
UID:10000483-1740744000-1740776400@denmarkhouse.com.au
SUMMARY:International Hygge Day
DESCRIPTION:Today is international hygge day and we invite you to Denmark House to celebrate with friends and loved ones. \n‘Hygge’ – that quintessential Danish concept of ‘cosiness’. \nThe ten concepts of Hygge according to “The Little Book of Hygge” by Meik Wiking \n\nAtmosphere: Turn Down the Lights.\nPresence: Be Here Now.\nPleasure: Treat Yourself.\nEquality: We Over Me.\nGratitude: Take It In.\nHarmony: It’s Not a Competition.\nComfort: Get Comfy.\nTruce: No Drama.\nTogetherness: Build Relationships.\nShelter: This Is Your Space.\n\nWe will have boardgames\, lunch and dinner specials for the day\, plus a few surprises. \nThis is not a ticket event\, please book a table via our website to avoid disappointment.
URL:https://denmarkhouse.com.au/event/international-hygge-day/
LOCATION:Denmark House\, L3 428 Lt Bourke St\, Melbourne\, VIC\, 3000\, Australia
ATTACH;FMTTYPE=image/png:https://denmarkhouse.com.au/wp-content/uploads/2025/02/Hygge-Day-special-Insta-post.png
ORGANIZER;CN="Denmark House":MAILTO:info@denmarkhouse.com.au
END:VEVENT
BEGIN:VEVENT
DTSTART;TZID=Australia/Melbourne:20250227T160000
DTEND;TZID=Australia/Melbourne:20250227T200000
DTSTAMP:20260422T040045
CREATED:20250129T022956Z
LAST-MODIFIED:20250129T022956Z
UID:10000481-1740672000-1740686400@denmarkhouse.com.au
SUMMARY:Thursday Summer Special – Frikadelle Aften $24
DESCRIPTION:Thursday Summer Special. \n$24 Frikadeller incl a drink\, Carlsberg tap\, wine or soft drink.
URL:https://denmarkhouse.com.au/event/thursday-summer-special-frikadelle-aften-24-4/
LOCATION:Denmark House\, L3 428 Lt Bourke St\, Melbourne\, VIC\, 3000\, Australia
ATTACH;FMTTYPE=image/png:https://denmarkhouse.com.au/wp-content/uploads/2025/01/Summer-special-Insta-post.png
ORGANIZER;CN="Denmark House":MAILTO:info@denmarkhouse.com.au
END:VEVENT
BEGIN:VEVENT
DTSTART;TZID=Australia/Melbourne:20250222T080000
DTEND;TZID=Australia/Melbourne:20250222T160000
DTSTAMP:20260422T040045
CREATED:20241206T013714Z
LAST-MODIFIED:20250216T235005Z
UID:10000454-1740211200-1740240000@denmarkhouse.com.au
SUMMARY:Sold out! Members only event - Fugleskydning 2025
DESCRIPTION:A Danish Club tradition since 1899. \nJoin us for the 103rd Fugleskydning of Danish Club Dannebrog. \nThe 2025 annual Fugleskydning Includes breakfast\, lunch and transport to and from the shooting range. \nWe start at the Club at 8am for breakfast before boarding the bus to the shooting range.\nWe will rise the Danish flag Dannebrog and sing the national anthem before we commence the shooting\, to see who will be crowned the 2025 Bird King or Queen\, following returning to The Club for lunch and celebrations. \nShooters must be minimum 16 years old. Only shooter over 18 years old are allowed to shoot for the body. \nThis event is open to members only\, if there is any spare tickets closer to the date\, we will open up bookings for guests of members. \nPlease notify the club of all shooters names on info@denmarkhouse.com.au if purchasing more than one ticket. \nNo ticket sales on the day\, ALL shooters must purchase a ticket prior to the event.
URL:https://denmarkhouse.com.au/event/members-only-event-fugleskydning-2025/
LOCATION:Denmark House\, L3 428 Lt Bourke St\, Melbourne\, VIC\, 3000\, Australia
ATTACH;FMTTYPE=image/jpeg:https://denmarkhouse.com.au/wp-content/uploads/2024/12/20241209_142024-rotated-e1733714597106.jpg
ORGANIZER;CN="Danish Club":MAILTO:info@denmarkhouse.com.au
END:VEVENT
BEGIN:VEVENT
DTSTART;TZID=Australia/Melbourne:20250220T160000
DTEND;TZID=Australia/Melbourne:20250220T200000
DTSTAMP:20260422T040045
CREATED:20250129T022858Z
LAST-MODIFIED:20250129T023050Z
UID:10000480-1740067200-1740081600@denmarkhouse.com.au
SUMMARY:Thursday Summer Special – Frikadelle Aften $24
DESCRIPTION:Thursday Summer Special. \n$24 Frikadeller incl a drink\, Carlsberg tap\, wine or soft drink.
URL:https://denmarkhouse.com.au/event/thursday-summer-special-frikadelle-aften-24-3/
LOCATION:Denmark House\, L3 428 Lt Bourke St\, Melbourne\, VIC\, 3000\, Australia
ATTACH;FMTTYPE=image/png:https://denmarkhouse.com.au/wp-content/uploads/2025/01/Summer-special-Insta-post.png
ORGANIZER;CN="Denmark House":MAILTO:info@denmarkhouse.com.au
END:VEVENT
BEGIN:VEVENT
DTSTART;TZID=Australia/Melbourne:20250214T160000
DTEND;TZID=Australia/Melbourne:20250214T190000
DTSTAMP:20260422T040045
CREATED:20250124T071855Z
LAST-MODIFIED:20250129T021630Z
UID:10000473-1739548800-1739559600@denmarkhouse.com.au
SUMMARY:Mark Matthews Jazz Duo
DESCRIPTION:The Mark Matthews Duo are back again this year performing in the bar\, playing jazz standards and great tunes. \nHappy hour\, $6 Carlsberg tap and house wines are available from 4–6pm\, and snacks can be purchased from the bar. \nDinner will also be available in the restaurant from 4-8pm.
URL:https://denmarkhouse.com.au/event/mark-matthews-jazz-duo/
LOCATION:Denmark House\, L3 428 Lt Bourke St\, Melbourne\, VIC\, 3000\, Australia
CATEGORIES:Free Event,Public
ATTACH;FMTTYPE=image/jpeg:https://denmarkhouse.com.au/wp-content/uploads/2025/01/467738886_10161773570647264_7487513275836355782_n-e1768274689978.jpeg
ORGANIZER;CN="Denmark House":MAILTO:info@denmarkhouse.com.au
END:VEVENT
BEGIN:VEVENT
DTSTART;TZID=Australia/Melbourne:20250213T160000
DTEND;TZID=Australia/Melbourne:20250213T200000
DTSTAMP:20260422T040045
CREATED:20250129T022814Z
LAST-MODIFIED:20250129T022814Z
UID:10000479-1739462400-1739476800@denmarkhouse.com.au
SUMMARY:Thursday Summer Special – Frikadelle Aften $24
DESCRIPTION:Thursday Summer Special. \n$24 Frikadeller incl a drink\, Carlsberg tap\, wine or soft drink.
URL:https://denmarkhouse.com.au/event/thursday-summer-special-frikadelle-aften-24-2/
LOCATION:Denmark House\, L3 428 Lt Bourke St\, Melbourne\, VIC\, 3000\, Australia
ATTACH;FMTTYPE=image/png:https://denmarkhouse.com.au/wp-content/uploads/2025/01/Summer-special-Insta-post.png
ORGANIZER;CN="Denmark House":MAILTO:info@denmarkhouse.com.au
END:VEVENT
BEGIN:VEVENT
DTSTART;TZID=Australia/Melbourne:20250213T160000
DTEND;TZID=Australia/Melbourne:20250213T190000
DTSTAMP:20260422T040045
CREATED:20250129T025551Z
LAST-MODIFIED:20250203T020913Z
UID:10000482-1739462400-1739473200@denmarkhouse.com.au
SUMMARY:Studenterbar for U25
DESCRIPTION:Er du mellem 18-25 år og bor eller er på besøg i Melbourne? \nVi holder en komsammen netværks aften for alle unge der bor i Melbourne\, i længere eller kortere tid. \nMåske har du en dansk forældre\, WHV\, er studerende eller bare på en lækker ferie og savner at tale dansk. \nHappy hour fra 16 til 18\, Carlsberg fadøl og vin til $6. Køkkenet er også åbent fra 16 til 20.
URL:https://denmarkhouse.com.au/event/studenterbar-for-u25/
LOCATION:Denmark House\, L3 428 Lt Bourke St\, Melbourne\, VIC\, 3000\, Australia
ATTACH;FMTTYPE=image/png:https://denmarkhouse.com.au/wp-content/uploads/2025/01/Studenterbar-sommer-2025-Insta-post.png
ORGANIZER;CN="Danish Club":MAILTO:info@denmarkhouse.com.au
END:VEVENT
BEGIN:VEVENT
DTSTART;TZID=Australia/Melbourne:20250212T120000
DTEND;TZID=Australia/Melbourne:20250212T143000
DTSTAMP:20260422T040045
CREATED:20250129T005959Z
LAST-MODIFIED:20250210T214908Z
UID:10000475-1739361600-1739370600@denmarkhouse.com.au
SUMMARY:Members only event - Præsident’s Taffel February 2025
DESCRIPTION:NOTE – will be held on the 2nd Wednesday this month. \nJoin us for the monthly President’s Lunch at Denmark House to share a communal lunch and get to know other members of the Danish Club or reconnect with friends. Price includes four smørrebrød\, one akvavit\, dessert\, and coffee. \nBookings are essential\, book your ticket now. 
URL:https://denmarkhouse.com.au/event/praesidents-taffel-february-2025/
LOCATION:Denmark House\, L3 428 Lt Bourke St\, Melbourne\, VIC\, 3000\, Australia
ORGANIZER;CN="Danish Club":MAILTO:info@denmarkhouse.com.au
END:VEVENT
BEGIN:VEVENT
DTSTART;TZID=Australia/Melbourne:20250207T180000
DTEND;TZID=Australia/Melbourne:20250207T210000
DTSTAMP:20260422T040045
CREATED:20241206T013301Z
LAST-MODIFIED:20250129T012048Z
UID:10000458-1738951200-1738962000@denmarkhouse.com.au
SUMMARY:Young Vikings in Town
DESCRIPTION:Kom og mød andre danskere i Melbourne\, første Fredag i måneden. \nDer bliver spillet klask og hygget. \nHappy hour indtil klokken 18\, så kom gerne lidt før. \nHjemmeside
URL:https://denmarkhouse.com.au/event/young-vikings-in-town/
LOCATION:Denmark House\, L3 428 Lt Bourke St\, Melbourne\, VIC\, 3000\, Australia
ORGANIZER;CN="Denmark House":MAILTO:info@denmarkhouse.com.au
END:VEVENT
BEGIN:VEVENT
DTSTART;TZID=Australia/Melbourne:20250206T160000
DTEND;TZID=Australia/Melbourne:20250206T200000
DTSTAMP:20260422T040045
CREATED:20250129T022716Z
LAST-MODIFIED:20250129T022716Z
UID:10000478-1738857600-1738872000@denmarkhouse.com.au
SUMMARY:Thursday Summer Special – Frikadelle Aften $24
DESCRIPTION:Thursday Summer Special. \n$24 Frikadeller incl a drink\, Carlsberg tap\, wine or soft drink.
URL:https://denmarkhouse.com.au/event/thursday-summer-special-frikadelle-aften-24/
LOCATION:Denmark House\, L3 428 Lt Bourke St\, Melbourne\, VIC\, 3000\, Australia
ATTACH;FMTTYPE=image/png:https://denmarkhouse.com.au/wp-content/uploads/2025/01/Summer-special-Insta-post.png
ORGANIZER;CN="Denmark House":MAILTO:info@denmarkhouse.com.au
END:VEVENT
BEGIN:VEVENT
DTSTART;TZID=Australia/Melbourne:20250205T180000
DTEND;TZID=Australia/Melbourne:20250205T210000
DTSTAMP:20260422T040045
CREATED:20241206T012243Z
LAST-MODIFIED:20250131T014441Z
UID:10000457-1738778400-1738789200@denmarkhouse.com.au
SUMMARY:Members only event - Queen Mary's Birthday Cocktail Party
DESCRIPTION:Join us in celebrating our Queen Mary’s 53rd Birthday. \nPrice includes oyster station\, Tasmanian/Danish fusion canapés and one cocktail on arrival. Drinks at bar prices to follow.  \nBookings are essential\, book your ticket now. 
URL:https://denmarkhouse.com.au/event/members-only-event-queen-marys-birthday-cocktail-party/
LOCATION:Denmark House\, L3 428 Lt Bourke St\, Melbourne\, VIC\, 3000\, Australia
ATTACH;FMTTYPE=image/webp:https://denmarkhouse.com.au/wp-content/uploads/2025/01/528b6c04bab6387f248400108cca5a4e.webp
ORGANIZER;CN="Danish Club":MAILTO:info@denmarkhouse.com.au
END:VEVENT
BEGIN:VEVENT
DTSTART;TZID=Australia/Melbourne:20250131T160000
DTEND;TZID=Australia/Melbourne:20250131T190000
DTSTAMP:20260422T040045
CREATED:20250124T071627Z
LAST-MODIFIED:20250129T012000Z
UID:10000472-1738339200-1738350000@denmarkhouse.com.au
SUMMARY:Mark Matthews Duo Jazz Band
DESCRIPTION:The Mark Matthews Duo are back again this year performing in the bar\, playing jazz standards and great tunes. \nHappy hour\, $6 Carlsberg tap and house wines are available from 4–6pm\, and snacks can be purchased from the bar. \nDinner will also be available in the restaurant from 4-8pm.
URL:https://denmarkhouse.com.au/event/mark-matthews-duo-jazz-band/
LOCATION:Denmark House\, L3 428 Lt Bourke St\, Melbourne\, VIC\, 3000\, Australia
CATEGORIES:Free Event,Public
ATTACH;FMTTYPE=image/jpeg:https://denmarkhouse.com.au/wp-content/uploads/2025/01/467738886_10161773570647264_7487513275836355782_n-e1768274689978.jpeg
ORGANIZER;CN="Denmark House":MAILTO:info@denmarkhouse.com.au
END:VEVENT
BEGIN:VEVENT
DTSTART;TZID=Australia/Melbourne:20250130T160000
DTEND;TZID=Australia/Melbourne:20250130T200000
DTSTAMP:20260422T040045
CREATED:20250129T011933Z
LAST-MODIFIED:20250129T012250Z
UID:10000476-1738252800-1738267200@denmarkhouse.com.au
SUMMARY:Thursday Summer Special - Frikadelle Aften $24
DESCRIPTION:Thursday Summer Special. \n$24 Frikadeller incl a drink\, Carlsberg tap\, wine or soft drink.
URL:https://denmarkhouse.com.au/event/summer-special-frikadelle-aften-24/
LOCATION:Denmark House\, L3 428 Lt Bourke St\, Melbourne\, VIC\, 3000\, Australia
ATTACH;FMTTYPE=image/png:https://denmarkhouse.com.au/wp-content/uploads/2025/01/Summer-special-Insta-post.png
ORGANIZER;CN="Denmark House":MAILTO:info@denmarkhouse.com.au
END:VEVENT
BEGIN:VEVENT
DTSTART;TZID=Australia/Melbourne:20250123T180000
DTEND;TZID=Australia/Melbourne:20250123T203000
DTSTAMP:20260422T040045
CREATED:20241206T010628Z
LAST-MODIFIED:20241206T010628Z
UID:10000456-1737655200-1737664200@denmarkhouse.com.au
SUMMARY:Members Dinner
DESCRIPTION:Join other members of the Danish Club for an evening of Hygge.  \nThis event is a great way to connect with other likeminded people and meet new and old friends. \nPrice includes one drink\, one akvavit\, set main course\, dessert and coffee.  \nBookings are essential \,book your ticket now. 
URL:https://denmarkhouse.com.au/event/members-dinner-34/
LOCATION:Denmark House\, L3 428 Lt Bourke St\, Melbourne\, VIC\, 3000\, Australia
ORGANIZER;CN="Danish Club":MAILTO:info@denmarkhouse.com.au
END:VEVENT
BEGIN:VEVENT
DTSTART;TZID=Australia/Melbourne:20250115T120000
DTEND;TZID=Australia/Melbourne:20250115T143000
DTSTAMP:20260422T040045
CREATED:20241206T004453Z
LAST-MODIFIED:20250128T034112Z
UID:10000455-1736942400-1736951400@denmarkhouse.com.au
SUMMARY:Members only event - Præsident’s Taffel
DESCRIPTION:Join us for the monthly President’s Lunch at Denmark House to share a communal lunch and get to know other members of the Danish Club or reconnect with friends. Price includes four smørrebrød\, one akvavit\, dessert\, and coffee. \nBookings are essential \,book your ticket now. 
URL:https://denmarkhouse.com.au/event/praesidents-taffel/
LOCATION:Denmark House\, L3 428 Lt Bourke St\, Melbourne\, VIC\, 3000\, Australia
ORGANIZER;CN="Danish Club":MAILTO:info@denmarkhouse.com.au
END:VEVENT
BEGIN:VEVENT
DTSTART;VALUE=DATE:20250114
DTEND;VALUE=DATE:20250115
DTSTAMP:20260422T040045
CREATED:20240923T050645Z
LAST-MODIFIED:20241208T233119Z
UID:10000427-1736812800-1736899199@denmarkhouse.com.au
SUMMARY:Reopening for 2025
DESCRIPTION:Welcome back to the Danish Club Dannebrog and Denmark House. \nWe are excited to be back\, and showing off our new summer menu. \nBook a table for lunch or dinner via OpenTable \nBook Here
URL:https://denmarkhouse.com.au/event/reopening-for-2025/
LOCATION:Denmark House\, L3 428 Lt Bourke St\, Melbourne\, VIC\, 3000\, Australia
CATEGORIES:Lunch
ORGANIZER;CN="Denmark House":MAILTO:info@denmarkhouse.com.au
END:VEVENT
BEGIN:VEVENT
DTSTART;TZID=Australia/Melbourne:20231220T120000
DTEND;TZID=Australia/Melbourne:20231220T140000
DTSTAMP:20260422T040045
CREATED:20230128T010906Z
LAST-MODIFIED:20230128T010906Z
UID:10000317-1703073600-1703080800@denmarkhouse.com.au
SUMMARY:President's Lunch
DESCRIPTION:Join us at the President’s Lunch at Denmark House where current president Alexander Nielsen or other committee members attend. Get to know other members of the Danish Club or reconnect with members you know. \nBookings are essential – phone 9600 4477.
URL:https://denmarkhouse.com.au/event/presidents-lunch-28/
LOCATION:Denmark House\, L3 428 Lt Bourke St\, Melbourne\, VIC\, 3000\, Australia
CATEGORIES:Club Event,Lunch
ORGANIZER;CN="Danish Club":MAILTO:info@denmarkhouse.com.au
END:VEVENT
BEGIN:VEVENT
DTSTART;TZID=Australia/Melbourne:20231129T180000
DTEND;TZID=Australia/Melbourne:20231129T200000
DTSTAMP:20260422T040045
CREATED:20230128T015731Z
LAST-MODIFIED:20230128T015731Z
UID:10000329-1701280800-1701288000@denmarkhouse.com.au
SUMMARY:Members' Dinner
DESCRIPTION:Join other members of the Danish Club for a communal meal at Denmark House – bookings are essential ph 9600 4477
URL:https://denmarkhouse.com.au/event/members-dinner-26/
LOCATION:Denmark House\, L3 428 Lt Bourke St\, Melbourne\, VIC\, 3000\, Australia
CATEGORIES:Club Event,Dinner
ORGANIZER;CN="Danish Club":MAILTO:info@denmarkhouse.com.au
END:VEVENT
BEGIN:VEVENT
DTSTART;TZID=Australia/Melbourne:20231115T120000
DTEND;TZID=Australia/Melbourne:20231115T140000
DTSTAMP:20260422T040045
CREATED:20230128T010716Z
LAST-MODIFIED:20230128T010716Z
UID:10000316-1700049600-1700056800@denmarkhouse.com.au
SUMMARY:President's Lunch
DESCRIPTION:Join us at the President’s Lunch at Denmark House where current president Alexander Nielsen or other committee members attend. Get to know other members of the Danish Club or reconnect with members you know. \nBookings are essential – phone 9600 4477.
URL:https://denmarkhouse.com.au/event/presidents-lunch-27/
LOCATION:Denmark House\, L3 428 Lt Bourke St\, Melbourne\, VIC\, 3000\, Australia
CATEGORIES:Club Event,Lunch
ORGANIZER;CN="Danish Club":MAILTO:info@denmarkhouse.com.au
END:VEVENT
END:VCALENDAR