BEGIN:VCALENDAR
VERSION:2.0
PRODID:-//Denmark House - ECPv6.15.20//NONSGML v1.0//EN
CALSCALE:GREGORIAN
METHOD:PUBLISH
X-WR-CALNAME:Denmark House
X-ORIGINAL-URL:https://denmarkhouse.com.au
X-WR-CALDESC:Events for Denmark House
REFRESH-INTERVAL;VALUE=DURATION:PT1H
X-Robots-Tag:noindex
X-PUBLISHED-TTL:PT1H
BEGIN:VTIMEZONE
TZID:Australia/Melbourne
BEGIN:STANDARD
TZOFFSETFROM:+1100
TZOFFSETTO:+1000
TZNAME:AEST
DTSTART:20240406T160000
END:STANDARD
BEGIN:DAYLIGHT
TZOFFSETFROM:+1000
TZOFFSETTO:+1100
TZNAME:AEDT
DTSTART:20241005T160000
END:DAYLIGHT
BEGIN:STANDARD
TZOFFSETFROM:+1100
TZOFFSETTO:+1000
TZNAME:AEST
DTSTART:20250405T160000
END:STANDARD
BEGIN:DAYLIGHT
TZOFFSETFROM:+1000
TZOFFSETTO:+1100
TZNAME:AEDT
DTSTART:20251004T160000
END:DAYLIGHT
BEGIN:STANDARD
TZOFFSETFROM:+1100
TZOFFSETTO:+1000
TZNAME:AEST
DTSTART:20260404T160000
END:STANDARD
BEGIN:DAYLIGHT
TZOFFSETFROM:+1000
TZOFFSETTO:+1100
TZNAME:AEDT
DTSTART:20261003T160000
END:DAYLIGHT
END:VTIMEZONE
BEGIN:VEVENT
DTSTART;TZID=Australia/Melbourne:20250621T170000
DTEND;TZID=Australia/Melbourne:20250621T200000
DTSTAMP:20260420T225755
CREATED:20250530T094840Z
LAST-MODIFIED:20250530T094840Z
UID:10000503-1750525200-1750536000@denmarkhouse.com.au
SUMMARY:Sankt Hans at the Swedish Church in Toorak
DESCRIPTION:Join the Young Vikings in Town at celebrating Sankt Hans at the Swedish Church in Toorak. \nErik and Rasmus will set up from 5pm and start handing out Hotdogs ($5.-) from 5³⁰\nBonfire starts @ 6³⁰ \nSkumfiduser will be roasted and snobrød toasted for $1.- includes a stick \nWe’ll make Glögg for $7.-\n\nTea\, coffee can be purchased at the café and the kiosk will be open. Cashless Cafe\n\nMake sure you register via the YVIT website to preorder food and drinks to avoid disappointment.\nhttps://www.yvit.net/sh
URL:https://denmarkhouse.com.au/event/sankt-hans-at-the-swedish-church-in-toorak/
LOCATION:Swedish Church Toorak\, 21 St Georges Rd\, Toorak\, Toorak\, 3142\, Australia
ATTACH;FMTTYPE=image/jpeg:https://denmarkhouse.com.au/wp-content/uploads/2025/05/Sankt-Hans.jpg
END:VEVENT
BEGIN:VEVENT
DTSTART;TZID=Australia/Melbourne:20250209T110000
DTEND;TZID=Australia/Melbourne:20250209T150000
DTSTAMP:20260420T225755
CREATED:20250129T013428Z
LAST-MODIFIED:20250129T013743Z
UID:10000477-1739098800-1739113200@denmarkhouse.com.au
SUMMARY:Fastelavn - at Toorak House
DESCRIPTION:Join Danish School Down Under\, Young Vikings in Town and The Danish Club at the Swedish Church in Toorak. \nFancy Dress is essential as we beat the cat out of the barrel!\nWe would like to know the number of people attending so we can estimate how many hotdogs and lollies will be needed.\nChurch service 11am to 12pm Lent edition and children Service. \nHotdogs served 12:30 to 1:30 while Danish School sign up students for this year.\n$5- pr child for lollies and a hotdog\n$4- pr adult for hotdog (extra hotdog $3- each) \n$4- pr fastelavnsbolle\nDIY Fastelavnsris\, free of charge\, please byo a branch/ris. The Danish club will supply lollies and decorations. \nAll hotdogs come with fried onions\, remoulade\, mustard and ketchup\, salad cucumbers and the lots. \nTøndeslagning begins approx 1:30 pm (gold coin donation for the Adult edition) \nPlease fill in one of the forms below if you will be attending the Melbourne 2025 Fastelavn. \nhttps://www.yvit.net/a/fastelavn \nhttps://www.dsdu.org/fastelavn
URL:https://denmarkhouse.com.au/event/fastelavn-at-toorak-house/
LOCATION:Swedish Church Toorak\, 21 St Georges Rd\, Toorak\, Toorak\, 3142\, Australia
ATTACH;FMTTYPE=image/jpeg:https://denmarkhouse.com.au/wp-content/uploads/2025/01/Boern_og_fastelavnstoende_1937_kgl_bib_billedsamling.jpg
ORGANIZER;CN="Danish Club":MAILTO:info@denmarkhouse.com.au
END:VEVENT
END:VCALENDAR